* [xen-unstable test] 61379: trouble: blocked/broken
@ 2015-09-06 16:49 osstest service owner
2015-09-07 11:55 ` osstest breakage, now believed fixed (Was: Re: [xen-unstable test] 61379: trouble: blocked/broken) Ian Campbell
0 siblings, 1 reply; 5+ messages in thread
From: osstest service owner @ 2015-09-06 16:49 UTC (permalink / raw)
To: xen-devel, osstest-admin
flight 61379 xen-unstable real [real]
http://logs.test-lab.xenproject.org/osstest/logs/61379/
Failures and problems with tests :-(
Tests which did not succeed and are blocking,
including tests which could not be run:
build-armhf 3 host-install(3) broken REGR. vs. 61059
build-armhf-xsm 3 host-install(3) broken REGR. vs. 61059
build-amd64-oldkern 3 host-install(3) broken REGR. vs. 61059
build-amd64-prev 3 host-install(3) broken REGR. vs. 61059
build-i386-oldkern 3 host-install(3) broken REGR. vs. 61059
build-amd64-xsm 3 host-install(3) broken REGR. vs. 61059
build-amd64-pvops 3 host-install(3) broken REGR. vs. 61059
build-i386-prev 3 host-install(3) broken REGR. vs. 61059
build-i386-pvops 3 host-install(3) broken REGR. vs. 61059
build-i386 3 host-install(3) broken REGR. vs. 61059
build-i386-xsm 3 host-install(3) broken REGR. vs. 61059
build-amd64 3 host-install(3) broken REGR. vs. 61059
build-armhf-pvops 3 host-install(3) broken REGR. vs. 61059
Tests which did not succeed, but are not blocking:
build-amd64-rumpuserxen 1 build-check(1) blocked n/a
build-amd64-libvirt 1 build-check(1) blocked n/a
build-i386-libvirt 1 build-check(1) blocked n/a
test-amd64-i386-xl-qemut-stubdom-debianhvm-amd64-xsm 1 build-check(1) blocked n/a
test-amd64-amd64-xl-pvh-amd 1 build-check(1) blocked n/a
test-amd64-amd64-xl-pvh-intel 1 build-check(1) blocked n/a
test-armhf-armhf-xl-raw 1 build-check(1) blocked n/a
test-armhf-armhf-libvirt-raw 1 build-check(1) blocked n/a
build-i386-rumpuserxen 1 build-check(1) blocked n/a
test-armhf-armhf-xl-qcow2 1 build-check(1) blocked n/a
build-armhf-libvirt 1 build-check(1) blocked n/a
test-armhf-armhf-xl-vhd 1 build-check(1) blocked n/a
test-armhf-armhf-libvirt-vhd 1 build-check(1) blocked n/a
test-armhf-armhf-libvirt 1 build-check(1) blocked n/a
test-armhf-armhf-libvirt-xsm 1 build-check(1) blocked n/a
test-amd64-amd64-rumpuserxen-amd64 1 build-check(1) blocked n/a
test-armhf-armhf-libvirt-qcow2 1 build-check(1) blocked n/a
test-amd64-amd64-libvirt-pair 1 build-check(1) blocked n/a
test-amd64-i386-xl 1 build-check(1) blocked n/a
test-amd64-amd64-xl-multivcpu 1 build-check(1) blocked n/a
test-amd64-i386-libvirt 1 build-check(1) blocked n/a
test-amd64-amd64-xl-xsm 1 build-check(1) blocked n/a
test-amd64-i386-libvirt-xsm 1 build-check(1) blocked n/a
test-amd64-i386-libvirt-pair 1 build-check(1) blocked n/a
test-amd64-amd64-libvirt-xsm 1 build-check(1) blocked n/a
test-amd64-i386-xl-xsm 1 build-check(1) blocked n/a
test-amd64-i386-rumpuserxen-i386 1 build-check(1) blocked n/a
test-armhf-armhf-xl-rtds 1 build-check(1) blocked n/a
test-amd64-amd64-xl 1 build-check(1) blocked n/a
test-armhf-armhf-xl 1 build-check(1) blocked n/a
test-amd64-i386-qemut-rhel6hvm-intel 1 build-check(1) blocked n/a
test-amd64-amd64-libvirt 1 build-check(1) blocked n/a
test-armhf-armhf-xl-arndale 1 build-check(1) blocked n/a
test-amd64-amd64-xl-qemut-stubdom-debianhvm-amd64-xsm 1 build-check(1) blocked n/a
test-amd64-amd64-pair 1 build-check(1) blocked n/a
test-amd64-i386-qemuu-rhel6hvm-intel 1 build-check(1) blocked n/a
test-amd64-i386-libvirt-raw 1 build-check(1) blocked n/a
test-amd64-i386-qemut-rhel6hvm-amd 1 build-check(1) blocked n/a
test-amd64-amd64-xl-qcow2 1 build-check(1) blocked n/a
test-amd64-i386-migrupgrade 1 build-check(1) blocked n/a
test-amd64-amd64-libvirt-raw 1 build-check(1) blocked n/a
test-amd64-i386-libvirt-qcow2 1 build-check(1) blocked n/a
test-amd64-i386-xl-qcow2 1 build-check(1) blocked n/a
test-amd64-i386-pair 1 build-check(1) blocked n/a
test-amd64-amd64-xl-qemut-debianhvm-amd64-xsm 1 build-check(1) blocked n/a
test-amd64-amd64-xl-qemut-debianhvm-amd64 1 build-check(1) blocked n/a
test-amd64-i386-libvirt-qemuu-debianhvm-amd64-xsm 1 build-check(1) blocked n/a
test-armhf-armhf-xl-xsm 1 build-check(1) blocked n/a
test-amd64-amd64-xl-credit2 1 build-check(1) blocked n/a
test-amd64-i386-xl-qemuu-ovmf-amd64 1 build-check(1) blocked n/a
test-amd64-i386-qemuu-rhel6hvm-amd 1 build-check(1) blocked n/a
test-amd64-amd64-xl-vhd 1 build-check(1) blocked n/a
test-amd64-amd64-xl-qemuu-debianhvm-amd64-xsm 1 build-check(1) blocked n/a
test-amd64-amd64-pygrub 1 build-check(1) blocked n/a
test-amd64-amd64-libvirt-qemuu-debianhvm-amd64-xsm 1 build-check(1) blocked n/a
test-armhf-armhf-xl-multivcpu 1 build-check(1) blocked n/a
test-amd64-amd64-i386-pvgrub 1 build-check(1) blocked n/a
test-amd64-i386-xl-vhd 1 build-check(1) blocked n/a
test-amd64-amd64-migrupgrade 1 build-check(1) blocked n/a
test-armhf-armhf-xl-cubietruck 1 build-check(1) blocked n/a
test-armhf-armhf-xl-credit2 1 build-check(1) blocked n/a
test-amd64-amd64-xl-raw 1 build-check(1) blocked n/a
test-amd64-i386-freebsd10-amd64 1 build-check(1) blocked n/a
test-amd64-i386-xl-qemut-win7-amd64 1 build-check(1) blocked n/a
test-amd64-i386-xl-raw 1 build-check(1) blocked n/a
test-amd64-i386-libvirt-vhd 1 build-check(1) blocked n/a
test-amd64-i386-xl-qemuu-debianhvm-amd64 1 build-check(1) blocked n/a
test-amd64-amd64-libvirt-vhd 1 build-check(1) blocked n/a
test-amd64-amd64-xl-qemuu-win7-amd64 1 build-check(1) blocked n/a
test-amd64-amd64-xl-rtds 1 build-check(1) blocked n/a
test-amd64-i386-freebsd10-i386 1 build-check(1) blocked n/a
test-amd64-i386-xl-qemuu-win7-amd64 1 build-check(1) blocked n/a
test-amd64-amd64-libvirt-qcow2 1 build-check(1) blocked n/a
test-amd64-amd64-xl-qemut-win7-amd64 1 build-check(1) blocked n/a
test-amd64-amd64-amd64-pvgrub 1 build-check(1) blocked n/a
test-amd64-i386-xl-qemuu-winxpsp3 1 build-check(1) blocked n/a
test-amd64-amd64-xl-qemuu-debianhvm-amd64 1 build-check(1) blocked n/a
test-amd64-i386-xl-qemut-debianhvm-amd64-xsm 1 build-check(1) blocked n/a
test-amd64-i386-xl-qemut-debianhvm-amd64 1 build-check(1) blocked n/a
test-amd64-i386-xl-qemuu-debianhvm-amd64-xsm 1 build-check(1) blocked n/a
test-amd64-amd64-xl-qemuu-ovmf-amd64 1 build-check(1) blocked n/a
test-amd64-i386-xl-qemut-winxpsp3-vcpus1 1 build-check(1) blocked n/a
test-amd64-i386-xl-qemut-winxpsp3 1 build-check(1) blocked n/a
test-amd64-i386-xl-qemuu-winxpsp3-vcpus1 1 build-check(1) blocked n/a
test-amd64-amd64-xl-qemut-winxpsp3 1 build-check(1) blocked n/a
test-amd64-amd64-xl-qemuu-winxpsp3 1 build-check(1) blocked n/a
version targeted for testing:
xen b2700877adacb93c265c4fa1c637aba66db74817
baseline version:
xen 801ab48e5556cb54f67e3cb57f077f47e8663ced
Last test of basis 61059 2015-08-30 15:26:08 Z 7 days
Failing since 61248 2015-09-01 10:13:44 Z 5 days 4 attempts
Testing same since 61352 2015-09-04 18:03:28 Z 1 days 2 attempts
------------------------------------------------------------
People who touched revisions under test:
Daniel De Graaf <dgdegra@tycho.nsa.gov>
David Scott <dave.scott@citrix.com>
David Scott <dave.scott@eu.citrix.com>
David Scott <dave@recoil.org>
Doug Goldstein <cardoe@cardoe.com>
George Dunlap <george.dunlap@citrix.com>
George Dunlap <george.dunlap@eu.citrix.com>
Ian Campbell <ian.campbell@citrix.com>
Ian Jackson <ian.jackson@eu.citrix.com>
Jan Beulich <jbeulich@suse.com>
Jen Beulich <jbeulich@suse.com>
Jim Fehlig <jfehlig@suse.com>
Jonathan Creekmore <jonathan.creekmore@gmail.com>
Julien Grall <julien.grall@citrix.com>
Konrad Rzeszutek Wilk <konrad.wilk@oracle.com>
Paul Durrant <paul.durrant@citrix.com>
Razvan Cojocaru <rcojocaru@bitdefender.com>
Tamas K Lengyel <tamas@tklengyel.com>
Vijaya Kumar K <Vijaya.Kumar@caviumnetworks.com>
Wei Liu <wei.liu2@citrix.com>
Wei Liu <wei.liu2@citrix.com> [release + toolstack]
Zhigang Wang <zhigang.x.wang@oracle.com>
jobs:
build-amd64-xsm broken
build-armhf-xsm broken
build-i386-xsm broken
build-amd64 broken
build-armhf broken
build-i386 broken
build-amd64-libvirt blocked
build-armhf-libvirt blocked
build-i386-libvirt blocked
build-amd64-oldkern broken
build-i386-oldkern broken
build-amd64-prev broken
build-i386-prev broken
build-amd64-pvops broken
build-armhf-pvops broken
build-i386-pvops broken
build-amd64-rumpuserxen blocked
build-i386-rumpuserxen blocked
test-amd64-amd64-xl blocked
test-armhf-armhf-xl blocked
test-amd64-i386-xl blocked
test-amd64-amd64-xl-qemut-debianhvm-amd64-xsm blocked
test-amd64-i386-xl-qemut-debianhvm-amd64-xsm blocked
test-amd64-amd64-libvirt-qemuu-debianhvm-amd64-xsm blocked
test-amd64-i386-libvirt-qemuu-debianhvm-amd64-xsm blocked
test-amd64-amd64-xl-qemuu-debianhvm-amd64-xsm blocked
test-amd64-i386-xl-qemuu-debianhvm-amd64-xsm blocked
test-amd64-amd64-xl-qemut-stubdom-debianhvm-amd64-xsm blocked
test-amd64-i386-xl-qemut-stubdom-debianhvm-amd64-xsm blocked
test-amd64-amd64-libvirt-xsm blocked
test-armhf-armhf-libvirt-xsm blocked
test-amd64-i386-libvirt-xsm blocked
test-amd64-amd64-xl-xsm blocked
test-armhf-armhf-xl-xsm blocked
test-amd64-i386-xl-xsm blocked
test-amd64-amd64-xl-pvh-amd blocked
test-amd64-i386-qemut-rhel6hvm-amd blocked
test-amd64-i386-qemuu-rhel6hvm-amd blocked
test-amd64-amd64-xl-qemut-debianhvm-amd64 blocked
test-amd64-i386-xl-qemut-debianhvm-amd64 blocked
test-amd64-amd64-xl-qemuu-debianhvm-amd64 blocked
test-amd64-i386-xl-qemuu-debianhvm-amd64 blocked
test-amd64-i386-freebsd10-amd64 blocked
test-amd64-amd64-xl-qemuu-ovmf-amd64 blocked
test-amd64-i386-xl-qemuu-ovmf-amd64 blocked
test-amd64-amd64-rumpuserxen-amd64 blocked
test-amd64-amd64-xl-qemut-win7-amd64 blocked
test-amd64-i386-xl-qemut-win7-amd64 blocked
test-amd64-amd64-xl-qemuu-win7-amd64 blocked
test-amd64-i386-xl-qemuu-win7-amd64 blocked
test-armhf-armhf-xl-arndale blocked
test-amd64-amd64-xl-credit2 blocked
test-armhf-armhf-xl-credit2 blocked
test-armhf-armhf-xl-cubietruck blocked
test-amd64-i386-freebsd10-i386 blocked
test-amd64-i386-rumpuserxen-i386 blocked
test-amd64-amd64-xl-pvh-intel blocked
test-amd64-i386-qemut-rhel6hvm-intel blocked
test-amd64-i386-qemuu-rhel6hvm-intel blocked
test-amd64-amd64-libvirt blocked
test-armhf-armhf-libvirt blocked
test-amd64-i386-libvirt blocked
test-amd64-amd64-migrupgrade blocked
test-amd64-i386-migrupgrade blocked
test-amd64-amd64-xl-multivcpu blocked
test-armhf-armhf-xl-multivcpu blocked
test-amd64-amd64-pair blocked
test-amd64-i386-pair blocked
test-amd64-amd64-libvirt-pair blocked
test-amd64-i386-libvirt-pair blocked
test-amd64-amd64-amd64-pvgrub blocked
test-amd64-amd64-i386-pvgrub blocked
test-amd64-amd64-pygrub blocked
test-amd64-amd64-libvirt-qcow2 blocked
test-armhf-armhf-libvirt-qcow2 blocked
test-amd64-i386-libvirt-qcow2 blocked
test-amd64-amd64-xl-qcow2 blocked
test-armhf-armhf-xl-qcow2 blocked
test-amd64-i386-xl-qcow2 blocked
test-amd64-amd64-libvirt-raw blocked
test-armhf-armhf-libvirt-raw blocked
test-amd64-i386-libvirt-raw blocked
test-amd64-amd64-xl-raw blocked
test-armhf-armhf-xl-raw blocked
test-amd64-i386-xl-raw blocked
test-amd64-amd64-xl-rtds blocked
test-armhf-armhf-xl-rtds blocked
test-amd64-i386-xl-qemut-winxpsp3-vcpus1 blocked
test-amd64-i386-xl-qemuu-winxpsp3-vcpus1 blocked
test-amd64-amd64-libvirt-vhd blocked
test-armhf-armhf-libvirt-vhd blocked
test-amd64-i386-libvirt-vhd blocked
test-amd64-amd64-xl-vhd blocked
test-armhf-armhf-xl-vhd blocked
test-amd64-i386-xl-vhd blocked
test-amd64-amd64-xl-qemut-winxpsp3 blocked
test-amd64-i386-xl-qemut-winxpsp3 blocked
test-amd64-amd64-xl-qemuu-winxpsp3 blocked
test-amd64-i386-xl-qemuu-winxpsp3 blocked
------------------------------------------------------------
sg-report-flight on osstest.test-lab.xenproject.org
logs: /home/logs/logs
images: /home/logs/images
Logs, config files, etc. are available at
http://logs.test-lab.xenproject.org/osstest/logs
Explanation of these reports, and of osstest in general, is at
http://xenbits.xen.org/gitweb/?p=osstest.git;a=blob;f=README.email;hb=master
http://xenbits.xen.org/gitweb/?p=osstest.git;a=blob;f=README;hb=master
Test harness code can be found at
http://xenbits.xen.org/gitweb?p=osstest.git;a=summary
broken-step build-armhf host-install(3)
broken-step build-armhf-xsm host-install(3)
broken-step build-amd64-oldkern host-install(3)
broken-step build-amd64-prev host-install(3)
broken-step build-i386-oldkern host-install(3)
broken-step build-amd64-xsm host-install(3)
broken-step build-amd64-pvops host-install(3)
broken-step build-i386-prev host-install(3)
broken-step build-i386-pvops host-install(3)
broken-step build-i386 host-install(3)
broken-step build-i386-xsm host-install(3)
broken-step build-amd64 host-install(3)
broken-step build-armhf-pvops host-install(3)
Not pushing.
(No revision log; it would be 604 lines long.)
^ permalink raw reply [flat|nested] 5+ messages in thread
* osstest breakage, now believed fixed (Was: Re: [xen-unstable test] 61379: trouble: blocked/broken)
2015-09-06 16:49 [xen-unstable test] 61379: trouble: blocked/broken osstest service owner
@ 2015-09-07 11:55 ` Ian Campbell
2015-09-07 12:43 ` Wei Liu
0 siblings, 1 reply; 5+ messages in thread
From: Ian Campbell @ 2015-09-07 11:55 UTC (permalink / raw)
To: osstest service owner, xen-devel
On Sun, 2015-09-06 at 16:49 +0000, osstest service owner wrote:
> flight 61379 xen-unstable real [real]
> http://logs.test-lab.xenproject.org/osstest/logs/61379/
>
> Failures and problems with tests :-(
>
> Tests which did not succeed and are blocking,
> including tests which could not be run:
> build-armhf 3 host-install(3) broken REGR. vs. 61059
> build-armhf-xsm 3 host-install(3) broken REGR. vs. 61059
> build-amd64-oldkern 3 host-install(3) broken REGR. vs. 61059
> build-amd64-prev 3 host-install(3) broken REGR. vs. 61059
> build-i386-oldkern 3 host-install(3) broken REGR. vs. 61059
> build-amd64-xsm 3 host-install(3) broken REGR. vs. 61059
> build-amd64-pvops 3 host-install(3) broken REGR. vs. 61059
> build-i386-prev 3 host-install(3) broken REGR. vs. 61059
> build-i386-pvops 3 host-install(3) broken REGR. vs. 61059
> build-i386 3 host-install(3) broken REGR. vs. 61059
> build-i386-xsm 3 host-install(3) broken REGR. vs. 61059
> build-amd64 3 host-install(3) broken REGR. vs. 61059
> build-armhf-pvops 3 host-install(3) broken REGR. vs. 61059
The cache/proxy had gotten itself into some weird state and was giving 404
for URLs which did in fact exist and which were insisted upon by the Debian
Installer.
Ian and I investigated a bit and the cache process has now been restarted
and seems to be running fine now. Flights will restart in the normal way.
Ian.
>
> Tests which did not succeed, but are not blocking:
> build-amd64-rumpuserxen 1 build-check(1) blocked
> n/a
> build-amd64-libvirt 1 build-check(1) blocked
> n/a
> build-i386-libvirt 1 build-check(1) blocked
> n/a
> test-amd64-i386-xl-qemut-stubdom-debianhvm-amd64-xsm 1 build-check(1)
> blocked n/a
> test-amd64-amd64-xl-pvh-amd 1 build-check(1) blocked
> n/a
> test-amd64-amd64-xl-pvh-intel 1 build-check(1) blocked
> n/a
> test-armhf-armhf-xl-raw 1 build-check(1) blocked
> n/a
> test-armhf-armhf-libvirt-raw 1 build-check(1) blocked
> n/a
> build-i386-rumpuserxen 1 build-check(1) blocked
> n/a
> test-armhf-armhf-xl-qcow2 1 build-check(1) blocked
> n/a
> build-armhf-libvirt 1 build-check(1) blocked
> n/a
> test-armhf-armhf-xl-vhd 1 build-check(1) blocked
> n/a
> test-armhf-armhf-libvirt-vhd 1 build-check(1) blocked
> n/a
> test-armhf-armhf-libvirt 1 build-check(1) blocked
> n/a
> test-armhf-armhf-libvirt-xsm 1 build-check(1) blocked
> n/a
> test-amd64-amd64-rumpuserxen-amd64 1 build-check(1)
> blocked n/a
> test-armhf-armhf-libvirt-qcow2 1 build-check(1) blocked
> n/a
> test-amd64-amd64-libvirt-pair 1 build-check(1) blocked
> n/a
> test-amd64-i386-xl 1 build-check(1) blocked
> n/a
> test-amd64-amd64-xl-multivcpu 1 build-check(1) blocked
> n/a
> test-amd64-i386-libvirt 1 build-check(1) blocked
> n/a
> test-amd64-amd64-xl-xsm 1 build-check(1) blocked
> n/a
> test-amd64-i386-libvirt-xsm 1 build-check(1) blocked
> n/a
> test-amd64-i386-libvirt-pair 1 build-check(1) blocked
> n/a
> test-amd64-amd64-libvirt-xsm 1 build-check(1) blocked
> n/a
> test-amd64-i386-xl-xsm 1 build-check(1) blocked
> n/a
> test-amd64-i386-rumpuserxen-i386 1 build-check(1) blocked
> n/a
> test-armhf-armhf-xl-rtds 1 build-check(1) blocked
> n/a
> test-amd64-amd64-xl 1 build-check(1) blocked
> n/a
> test-armhf-armhf-xl 1 build-check(1) blocked
> n/a
> test-amd64-i386-qemut-rhel6hvm-intel 1 build-check(1)
> blocked n/a
> test-amd64-amd64-libvirt 1 build-check(1) blocked
> n/a
> test-armhf-armhf-xl-arndale 1 build-check(1) blocked
> n/a
> test-amd64-amd64-xl-qemut-stubdom-debianhvm-amd64-xsm 1 build-check(1)
> blocked n/a
> test-amd64-amd64-pair 1 build-check(1) blocked
> n/a
> test-amd64-i386-qemuu-rhel6hvm-intel 1 build-check(1)
> blocked n/a
> test-amd64-i386-libvirt-raw 1 build-check(1) blocked
> n/a
> test-amd64-i386-qemut-rhel6hvm-amd 1 build-check(1)
> blocked n/a
> test-amd64-amd64-xl-qcow2 1 build-check(1) blocked
> n/a
> test-amd64-i386-migrupgrade 1 build-check(1) blocked
> n/a
> test-amd64-amd64-libvirt-raw 1 build-check(1) blocked
> n/a
> test-amd64-i386-libvirt-qcow2 1 build-check(1) blocked
> n/a
> test-amd64-i386-xl-qcow2 1 build-check(1) blocked
> n/a
> test-amd64-i386-pair 1 build-check(1) blocked
> n/a
> test-amd64-amd64-xl-qemut-debianhvm-amd64-xsm 1 build-check(1)
> blocked n/a
> test-amd64-amd64-xl-qemut-debianhvm-amd64 1 build-check(1)
> blocked n/a
> test-amd64-i386-libvirt-qemuu-debianhvm-amd64-xsm 1 build-check(1)
> blocked n/a
> test-armhf-armhf-xl-xsm 1 build-check(1) blocked
> n/a
> test-amd64-amd64-xl-credit2 1 build-check(1) blocked
> n/a
> test-amd64-i386-xl-qemuu-ovmf-amd64 1 build-check(1)
> blocked n/a
> test-amd64-i386-qemuu-rhel6hvm-amd 1 build-check(1)
> blocked n/a
> test-amd64-amd64-xl-vhd 1 build-check(1) blocked
> n/a
> test-amd64-amd64-xl-qemuu-debianhvm-amd64-xsm 1 build-check(1)
> blocked n/a
> test-amd64-amd64-pygrub 1 build-check(1) blocked
> n/a
> test-amd64-amd64-libvirt-qemuu-debianhvm-amd64-xsm 1 build-check(1)
> blocked n/a
> test-armhf-armhf-xl-multivcpu 1 build-check(1) blocked
> n/a
> test-amd64-amd64-i386-pvgrub 1 build-check(1) blocked
> n/a
> test-amd64-i386-xl-vhd 1 build-check(1) blocked
> n/a
> test-amd64-amd64-migrupgrade 1 build-check(1) blocked
> n/a
> test-armhf-armhf-xl-cubietruck 1 build-check(1) blocked
> n/a
> test-armhf-armhf-xl-credit2 1 build-check(1) blocked
> n/a
> test-amd64-amd64-xl-raw 1 build-check(1) blocked
> n/a
> test-amd64-i386-freebsd10-amd64 1 build-check(1) blocked
> n/a
> test-amd64-i386-xl-qemut-win7-amd64 1 build-check(1)
> blocked n/a
> test-amd64-i386-xl-raw 1 build-check(1) blocked
> n/a
> test-amd64-i386-libvirt-vhd 1 build-check(1) blocked
> n/a
> test-amd64-i386-xl-qemuu-debianhvm-amd64 1 build-check(1)
> blocked n/a
> test-amd64-amd64-libvirt-vhd 1 build-check(1) blocked
> n/a
> test-amd64-amd64-xl-qemuu-win7-amd64 1 build-check(1)
> blocked n/a
> test-amd64-amd64-xl-rtds 1 build-check(1) blocked
> n/a
> test-amd64-i386-freebsd10-i386 1 build-check(1) blocked
> n/a
> test-amd64-i386-xl-qemuu-win7-amd64 1 build-check(1)
> blocked n/a
> test-amd64-amd64-libvirt-qcow2 1 build-check(1) blocked
> n/a
> test-amd64-amd64-xl-qemut-win7-amd64 1 build-check(1)
> blocked n/a
> test-amd64-amd64-amd64-pvgrub 1 build-check(1) blocked
> n/a
> test-amd64-i386-xl-qemuu-winxpsp3 1 build-check(1)
> blocked n/a
> test-amd64-amd64-xl-qemuu-debianhvm-amd64 1 build-check(1)
> blocked n/a
> test-amd64-i386-xl-qemut-debianhvm-amd64-xsm 1 build-check(1)
> blocked n/a
> test-amd64-i386-xl-qemut-debianhvm-amd64 1 build-check(1)
> blocked n/a
> test-amd64-i386-xl-qemuu-debianhvm-amd64-xsm 1 build-check(1)
> blocked n/a
> test-amd64-amd64-xl-qemuu-ovmf-amd64 1 build-check(1)
> blocked n/a
> test-amd64-i386-xl-qemut-winxpsp3-vcpus1 1 build-check(1)
> blocked n/a
> test-amd64-i386-xl-qemut-winxpsp3 1 build-check(1)
> blocked n/a
> test-amd64-i386-xl-qemuu-winxpsp3-vcpus1 1 build-check(1)
> blocked n/a
> test-amd64-amd64-xl-qemut-winxpsp3 1 build-check(1)
> blocked n/a
> test-amd64-amd64-xl-qemuu-winxpsp3 1 build-check(1)
> blocked n/a
>
> version targeted for testing:
> xen b2700877adacb93c265c4fa1c637aba66db74817
> baseline version:
> xen 801ab48e5556cb54f67e3cb57f077f47e8663ced
>
> Last test of basis 61059 2015-08-30 15:26:08 Z 7 days
> Failing since 61248 2015-09-01 10:13:44 Z 5 days 4
> attempts
> Testing same since 61352 2015-09-04 18:03:28 Z 1 days 2
> attempts
>
> ------------------------------------------------------------
> People who touched revisions under test:
> Daniel De Graaf <dgdegra@tycho.nsa.gov>
> David Scott <dave.scott@citrix.com>
> David Scott <dave.scott@eu.citrix.com>
> David Scott <dave@recoil.org>
> Doug Goldstein <cardoe@cardoe.com>
> George Dunlap <george.dunlap@citrix.com>
> George Dunlap <george.dunlap@eu.citrix.com>
> Ian Campbell <ian.campbell@citrix.com>
> Ian Jackson <ian.jackson@eu.citrix.com>
> Jan Beulich <jbeulich@suse.com>
> Jen Beulich <jbeulich@suse.com>
> Jim Fehlig <jfehlig@suse.com>
> Jonathan Creekmore <jonathan.creekmore@gmail.com>
> Julien Grall <julien.grall@citrix.com>
> Konrad Rzeszutek Wilk <konrad.wilk@oracle.com>
> Paul Durrant <paul.durrant@citrix.com>
> Razvan Cojocaru <rcojocaru@bitdefender.com>
> Tamas K Lengyel <tamas@tklengyel.com>
> Vijaya Kumar K <Vijaya.Kumar@caviumnetworks.com>
> Wei Liu <wei.liu2@citrix.com>
> Wei Liu <wei.liu2@citrix.com> [release + toolstack]
> Zhigang Wang <zhigang.x.wang@oracle.com>
>
> jobs:
> build-amd64-xsm broken
> build-armhf-xsm broken
> build-i386-xsm broken
> build-amd64 broken
> build-armhf broken
> build-i386 broken
> build-amd64-libvirt blocked
> build-armhf-libvirt blocked
> build-i386-libvirt blocked
> build-amd64-oldkern broken
> build-i386-oldkern broken
> build-amd64-prev broken
> build-i386-prev broken
> build-amd64-pvops broken
> build-armhf-pvops broken
> build-i386-pvops broken
> build-amd64-rumpuserxen blocked
> build-i386-rumpuserxen blocked
> test-amd64-amd64-xl blocked
> test-armhf-armhf-xl blocked
> test-amd64-i386-xl blocked
> test-amd64-amd64-xl-qemut-debianhvm-amd64-xsm blocked
> test-amd64-i386-xl-qemut-debianhvm-amd64-xsm blocked
> test-amd64-amd64-libvirt-qemuu-debianhvm-amd64-xsm blocked
> test-amd64-i386-libvirt-qemuu-debianhvm-amd64-xsm blocked
> test-amd64-amd64-xl-qemuu-debianhvm-amd64-xsm blocked
> test-amd64-i386-xl-qemuu-debianhvm-amd64-xsm blocked
> test-amd64-amd64-xl-qemut-stubdom-debianhvm-amd64-xsm blocked
> test-amd64-i386-xl-qemut-stubdom-debianhvm-amd64-xsm blocked
> test-amd64-amd64-libvirt-xsm blocked
> test-armhf-armhf-libvirt-xsm blocked
> test-amd64-i386-libvirt-xsm blocked
> test-amd64-amd64-xl-xsm blocked
> test-armhf-armhf-xl-xsm blocked
> test-amd64-i386-xl-xsm blocked
> test-amd64-amd64-xl-pvh-amd blocked
> test-amd64-i386-qemut-rhel6hvm-amd blocked
> test-amd64-i386-qemuu-rhel6hvm-amd blocked
> test-amd64-amd64-xl-qemut-debianhvm-amd64 blocked
> test-amd64-i386-xl-qemut-debianhvm-amd64 blocked
> test-amd64-amd64-xl-qemuu-debianhvm-amd64 blocked
> test-amd64-i386-xl-qemuu-debianhvm-amd64 blocked
> test-amd64-i386-freebsd10-amd64 blocked
> test-amd64-amd64-xl-qemuu-ovmf-amd64 blocked
> test-amd64-i386-xl-qemuu-ovmf-amd64 blocked
> test-amd64-amd64-rumpuserxen-amd64 blocked
> test-amd64-amd64-xl-qemut-win7-amd64 blocked
> test-amd64-i386-xl-qemut-win7-amd64 blocked
> test-amd64-amd64-xl-qemuu-win7-amd64 blocked
> test-amd64-i386-xl-qemuu-win7-amd64 blocked
> test-armhf-armhf-xl-arndale blocked
> test-amd64-amd64-xl-credit2 blocked
> test-armhf-armhf-xl-credit2 blocked
> test-armhf-armhf-xl-cubietruck blocked
> test-amd64-i386-freebsd10-i386 blocked
> test-amd64-i386-rumpuserxen-i386 blocked
> test-amd64-amd64-xl-pvh-intel blocked
> test-amd64-i386-qemut-rhel6hvm-intel blocked
> test-amd64-i386-qemuu-rhel6hvm-intel blocked
> test-amd64-amd64-libvirt blocked
> test-armhf-armhf-libvirt blocked
> test-amd64-i386-libvirt blocked
> test-amd64-amd64-migrupgrade blocked
> test-amd64-i386-migrupgrade blocked
> test-amd64-amd64-xl-multivcpu blocked
> test-armhf-armhf-xl-multivcpu blocked
> test-amd64-amd64-pair blocked
> test-amd64-i386-pair blocked
> test-amd64-amd64-libvirt-pair blocked
> test-amd64-i386-libvirt-pair blocked
> test-amd64-amd64-amd64-pvgrub blocked
> test-amd64-amd64-i386-pvgrub blocked
> test-amd64-amd64-pygrub blocked
> test-amd64-amd64-libvirt-qcow2 blocked
> test-armhf-armhf-libvirt-qcow2 blocked
> test-amd64-i386-libvirt-qcow2 blocked
> test-amd64-amd64-xl-qcow2 blocked
> test-armhf-armhf-xl-qcow2 blocked
> test-amd64-i386-xl-qcow2 blocked
> test-amd64-amd64-libvirt-raw blocked
> test-armhf-armhf-libvirt-raw blocked
> test-amd64-i386-libvirt-raw blocked
> test-amd64-amd64-xl-raw blocked
> test-armhf-armhf-xl-raw blocked
> test-amd64-i386-xl-raw blocked
> test-amd64-amd64-xl-rtds blocked
> test-armhf-armhf-xl-rtds blocked
> test-amd64-i386-xl-qemut-winxpsp3-vcpus1 blocked
> test-amd64-i386-xl-qemuu-winxpsp3-vcpus1 blocked
> test-amd64-amd64-libvirt-vhd blocked
> test-armhf-armhf-libvirt-vhd blocked
> test-amd64-i386-libvirt-vhd blocked
> test-amd64-amd64-xl-vhd blocked
> test-armhf-armhf-xl-vhd blocked
> test-amd64-i386-xl-vhd blocked
> test-amd64-amd64-xl-qemut-winxpsp3 blocked
> test-amd64-i386-xl-qemut-winxpsp3 blocked
> test-amd64-amd64-xl-qemuu-winxpsp3 blocked
> test-amd64-i386-xl-qemuu-winxpsp3 blocked
>
>
> ------------------------------------------------------------
> sg-report-flight on osstest.test-lab.xenproject.org
> logs: /home/logs/logs
> images: /home/logs/images
>
> Logs, config files, etc. are available at
> http://logs.test-lab.xenproject.org/osstest/logs
>
> Explanation of these reports, and of osstest in general, is at
> http://xenbits.xen.org/gitweb/?p=osstest.git;a=blob;f=README.email;hb
> =master
>
> http://xenbits.xen.org/gitweb/?p=osstest.git;a=blob;f=README;hb=master
>
> Test harness code can be found at
> http://xenbits.xen.org/gitweb?p=osstest.git;a=summary
>
> broken-step build-armhf host-install(3)
> broken-step build-armhf-xsm host-install(3)
> broken-step build-amd64-oldkern host-install(3)
> broken-step build-amd64-prev host-install(3)
> broken-step build-i386-oldkern host-install(3)
> broken-step build-amd64-xsm host-install(3)
> broken-step build-amd64-pvops host-install(3)
> broken-step build-i386-prev host-install(3)
> broken-step build-i386-pvops host-install(3)
> broken-step build-i386 host-install(3)
> broken-step build-i386-xsm host-install(3)
> broken-step build-amd64 host-install(3)
> broken-step build-armhf-pvops host-install(3)
>
> Not pushing.
>
> (No revision log; it would be 604 lines long.)
^ permalink raw reply [flat|nested] 5+ messages in thread
* Re: osstest breakage, now believed fixed (Was: Re: [xen-unstable test] 61379: trouble: blocked/broken)
2015-09-07 11:55 ` osstest breakage, now believed fixed (Was: Re: [xen-unstable test] 61379: trouble: blocked/broken) Ian Campbell
@ 2015-09-07 12:43 ` Wei Liu
2015-09-07 12:49 ` Ian Campbell
0 siblings, 1 reply; 5+ messages in thread
From: Wei Liu @ 2015-09-07 12:43 UTC (permalink / raw)
To: Ian Campbell; +Cc: xen-devel, wei.liu2, osstest service owner
On Mon, Sep 07, 2015 at 12:55:25PM +0100, Ian Campbell wrote:
> On Sun, 2015-09-06 at 16:49 +0000, osstest service owner wrote:
> > flight 61379 xen-unstable real [real]
> > http://logs.test-lab.xenproject.org/osstest/logs/61379/
> >
> > Failures and problems with tests :-(
> >
> > Tests which did not succeed and are blocking,
> > including tests which could not be run:
> > build-armhf 3 host-install(3) broken REGR. vs. 61059
> > build-armhf-xsm 3 host-install(3) broken REGR. vs. 61059
> > build-amd64-oldkern 3 host-install(3) broken REGR. vs. 61059
> > build-amd64-prev 3 host-install(3) broken REGR. vs. 61059
> > build-i386-oldkern 3 host-install(3) broken REGR. vs. 61059
> > build-amd64-xsm 3 host-install(3) broken REGR. vs. 61059
> > build-amd64-pvops 3 host-install(3) broken REGR. vs. 61059
> > build-i386-prev 3 host-install(3) broken REGR. vs. 61059
> > build-i386-pvops 3 host-install(3) broken REGR. vs. 61059
> > build-i386 3 host-install(3) broken REGR. vs. 61059
> > build-i386-xsm 3 host-install(3) broken REGR. vs. 61059
> > build-amd64 3 host-install(3) broken REGR. vs. 61059
> > build-armhf-pvops 3 host-install(3) broken REGR. vs. 61059
>
> The cache/proxy had gotten itself into some weird state and was giving 404
> for URLs which did in fact exist and which were insisted upon by the Debian
> Installer.
>
> Ian and I investigated a bit and the cache process has now been restarted
> and seems to be running fine now. Flights will restart in the normal way.
>
I believe it's going to pick up the latest xen-unstable staging?
Wei.
> Ian.
^ permalink raw reply [flat|nested] 5+ messages in thread
* Re: osstest breakage, now believed fixed (Was: Re: [xen-unstable test] 61379: trouble: blocked/broken)
2015-09-07 12:43 ` Wei Liu
@ 2015-09-07 12:49 ` Ian Campbell
2015-09-07 13:03 ` Wei Liu
0 siblings, 1 reply; 5+ messages in thread
From: Ian Campbell @ 2015-09-07 12:49 UTC (permalink / raw)
To: Wei Liu; +Cc: xen-devel, osstest service owner
On Mon, 2015-09-07 at 13:43 +0100, Wei Liu wrote:
> On Mon, Sep 07, 2015 at 12:55:25PM +0100, Ian Campbell wrote:
> > On Sun, 2015-09-06 at 16:49 +0000, osstest service owner wrote:
> > > flight 61379 xen-unstable real [real]
> > > http://logs.test-lab.xenproject.org/osstest/logs/61379/
> > >
> > > Failures and problems with tests :-(
> > >
> > > Tests which did not succeed and are blocking,
> > > including tests which could not be run:
> > > build-armhf 3 host-install(3) broken REGR.
> > > vs. 61059
> > > build-armhf-xsm 3 host-install(3) broken REGR.
> > > vs. 61059
> > > build-amd64-oldkern 3 host-install(3) broken REGR.
> > > vs. 61059
> > > build-amd64-prev 3 host-install(3) broken REGR.
> > > vs. 61059
> > > build-i386-oldkern 3 host-install(3) broken REGR.
> > > vs. 61059
> > > build-amd64-xsm 3 host-install(3) broken REGR.
> > > vs. 61059
> > > build-amd64-pvops 3 host-install(3) broken REGR.
> > > vs. 61059
> > > build-i386-prev 3 host-install(3) broken REGR.
> > > vs. 61059
> > > build-i386-pvops 3 host-install(3) broken REGR.
> > > vs. 61059
> > > build-i386 3 host-install(3) broken REGR.
> > > vs. 61059
> > > build-i386-xsm 3 host-install(3) broken REGR.
> > > vs. 61059
> > > build-amd64 3 host-install(3) broken REGR.
> > > vs. 61059
> > > build-armhf-pvops 3 host-install(3) broken REGR.
> > > vs. 61059
> >
> > The cache/proxy had gotten itself into some weird state and was giving
> > 404
> > for URLs which did in fact exist and which were insisted upon by the
> > Debian
> > Installer.
> >
> > Ian and I investigated a bit and the cache process has now been
> > restarted
> > and seems to be running fine now. Flights will restart in the normal
> > way.
> >
>
> I believe it's going to pick up the latest xen-unstable staging?
Flight 61521 seems to have picked up on a7b39c8bd6cb, yes.
Ian.
^ permalink raw reply [flat|nested] 5+ messages in thread
* Re: osstest breakage, now believed fixed (Was: Re: [xen-unstable test] 61379: trouble: blocked/broken)
2015-09-07 12:49 ` Ian Campbell
@ 2015-09-07 13:03 ` Wei Liu
0 siblings, 0 replies; 5+ messages in thread
From: Wei Liu @ 2015-09-07 13:03 UTC (permalink / raw)
To: Ian Campbell; +Cc: xen-devel, Wei Liu, osstest service owner
On Mon, Sep 07, 2015 at 01:49:16PM +0100, Ian Campbell wrote:
> On Mon, 2015-09-07 at 13:43 +0100, Wei Liu wrote:
> > On Mon, Sep 07, 2015 at 12:55:25PM +0100, Ian Campbell wrote:
> > > On Sun, 2015-09-06 at 16:49 +0000, osstest service owner wrote:
> > > > flight 61379 xen-unstable real [real]
> > > > http://logs.test-lab.xenproject.org/osstest/logs/61379/
> > > >
> > > > Failures and problems with tests :-(
> > > >
> > > > Tests which did not succeed and are blocking,
> > > > including tests which could not be run:
> > > > build-armhf 3 host-install(3) broken REGR.
> > > > vs. 61059
> > > > build-armhf-xsm 3 host-install(3) broken REGR.
> > > > vs. 61059
> > > > build-amd64-oldkern 3 host-install(3) broken REGR.
> > > > vs. 61059
> > > > build-amd64-prev 3 host-install(3) broken REGR.
> > > > vs. 61059
> > > > build-i386-oldkern 3 host-install(3) broken REGR.
> > > > vs. 61059
> > > > build-amd64-xsm 3 host-install(3) broken REGR.
> > > > vs. 61059
> > > > build-amd64-pvops 3 host-install(3) broken REGR.
> > > > vs. 61059
> > > > build-i386-prev 3 host-install(3) broken REGR.
> > > > vs. 61059
> > > > build-i386-pvops 3 host-install(3) broken REGR.
> > > > vs. 61059
> > > > build-i386 3 host-install(3) broken REGR.
> > > > vs. 61059
> > > > build-i386-xsm 3 host-install(3) broken REGR.
> > > > vs. 61059
> > > > build-amd64 3 host-install(3) broken REGR.
> > > > vs. 61059
> > > > build-armhf-pvops 3 host-install(3) broken REGR.
> > > > vs. 61059
> > >
> > > The cache/proxy had gotten itself into some weird state and was giving
> > > 404
> > > for URLs which did in fact exist and which were insisted upon by the
> > > Debian
> > > Installer.
> > >
> > > Ian and I investigated a bit and the cache process has now been
> > > restarted
> > > and seems to be running fine now. Flights will restart in the normal
> > > way.
> > >
> >
> > I believe it's going to pick up the latest xen-unstable staging?
>
> Flight 61521 seems to have picked up on a7b39c8bd6cb, yes.
>
Thanks for confirming!
Wei.
> Ian.
^ permalink raw reply [flat|nested] 5+ messages in thread
end of thread, other threads:[~2015-09-07 13:03 UTC | newest]
Thread overview: 5+ messages (download: mbox.gz follow: Atom feed
-- links below jump to the message on this page --
2015-09-06 16:49 [xen-unstable test] 61379: trouble: blocked/broken osstest service owner
2015-09-07 11:55 ` osstest breakage, now believed fixed (Was: Re: [xen-unstable test] 61379: trouble: blocked/broken) Ian Campbell
2015-09-07 12:43 ` Wei Liu
2015-09-07 12:49 ` Ian Campbell
2015-09-07 13:03 ` Wei Liu
This is a public inbox, see mirroring instructions
for how to clone and mirror all data and code used for this inbox;
as well as URLs for NNTP newsgroup(s).