xen-devel.lists.xenproject.org archive mirror
 help / color / mirror / Atom feed
From: osstest service owner <osstest-admin@xenproject.org>
To: xen-devel@lists.xensource.com, osstest-admin@xenproject.org
Subject: [rumprun baseline test] 102749: all pass
Date: Thu, 01 Dec 2016 19:20:40 +0000	[thread overview]
Message-ID: <osstest-102749-mainreport@xen.org> (raw)

"Old" tested version had not actually been tested; therefore in this
flight we test it, rather than a new candidate.  The baseline, if
any, is the most recent actually tested revision.

flight 102749 rumprun real [real]
http://logs.test-lab.xenproject.org/osstest/logs/102749/

Perfect :-)
All tests in this flight passed as required
version targeted for testing:
 rumprun              39a97f37a85e44c69b662f6b97b688fbe892603b
baseline version:
 rumprun              39a97f37a85e44c69b662f6b97b688fbe892603b

Last test of basis   102749  2016-12-01 04:20:22 Z    0 days
Testing same since        0  1970-01-01 00:00:00 Z 17136 days    0 attempts

jobs:
 build-amd64                                                  pass    
 build-i386                                                   pass    
 build-amd64-pvops                                            pass    
 build-i386-pvops                                             pass    
 build-amd64-rumprun                                          pass    
 build-i386-rumprun                                           pass    
 test-amd64-amd64-rumprun-amd64                               pass    
 test-amd64-i386-rumprun-i386                                 pass    


------------------------------------------------------------
sg-report-flight on osstest.test-lab.xenproject.org
logs: /home/logs/logs
images: /home/logs/images

Logs, config files, etc. are available at
    http://logs.test-lab.xenproject.org/osstest/logs

Explanation of these reports, and of osstest in general, is at
    http://xenbits.xen.org/gitweb/?p=osstest.git;a=blob;f=README.email;hb=master
    http://xenbits.xen.org/gitweb/?p=osstest.git;a=blob;f=README;hb=master

Test harness code can be found at
    http://xenbits.xen.org/gitweb?p=osstest.git;a=summary


Published tested tree is already up to date.


_______________________________________________
Xen-devel mailing list
Xen-devel@lists.xen.org
https://lists.xen.org/xen-devel

                 reply	other threads:[~2016-12-01 19:20 UTC|newest]

Thread overview: [no followups] expand[flat|nested]  mbox.gz  Atom feed

Reply instructions:

You may reply publicly to this message via plain-text email
using any one of the following methods:

* Save the following mbox file, import it into your mail client,
  and reply-to-all from there: mbox

  Avoid top-posting and favor interleaved quoting:
  https://en.wikipedia.org/wiki/Posting_style#Interleaved_style

* Reply using the --to, --cc, and --in-reply-to
  switches of git-send-email(1):

  git send-email \
    --in-reply-to=osstest-102749-mainreport@xen.org \
    --to=osstest-admin@xenproject.org \
    --cc=xen-devel@lists.xensource.com \
    /path/to/YOUR_REPLY

  https://kernel.org/pub/software/scm/git/docs/git-send-email.html

* If your mail client supports setting the In-Reply-To header
  via mailto: links, try the mailto: link
Be sure your reply has a Subject: header at the top and a blank line before the message body.
This is a public inbox, see mirroring instructions
for how to clone and mirror all data and code used for this inbox;
as well as URLs for NNTP newsgroup(s).