xen-devel.lists.xenproject.org archive mirror
 help / color / mirror / Atom feed
* [rumprun baseline test] 102749: all pass
@ 2016-12-01 19:20 osstest service owner
  0 siblings, 0 replies; only message in thread
From: osstest service owner @ 2016-12-01 19:20 UTC (permalink / raw)
  To: xen-devel, osstest-admin

"Old" tested version had not actually been tested; therefore in this
flight we test it, rather than a new candidate.  The baseline, if
any, is the most recent actually tested revision.

flight 102749 rumprun real [real]
http://logs.test-lab.xenproject.org/osstest/logs/102749/

Perfect :-)
All tests in this flight passed as required
version targeted for testing:
 rumprun              39a97f37a85e44c69b662f6b97b688fbe892603b
baseline version:
 rumprun              39a97f37a85e44c69b662f6b97b688fbe892603b

Last test of basis   102749  2016-12-01 04:20:22 Z    0 days
Testing same since        0  1970-01-01 00:00:00 Z 17136 days    0 attempts

jobs:
 build-amd64                                                  pass    
 build-i386                                                   pass    
 build-amd64-pvops                                            pass    
 build-i386-pvops                                             pass    
 build-amd64-rumprun                                          pass    
 build-i386-rumprun                                           pass    
 test-amd64-amd64-rumprun-amd64                               pass    
 test-amd64-i386-rumprun-i386                                 pass    


------------------------------------------------------------
sg-report-flight on osstest.test-lab.xenproject.org
logs: /home/logs/logs
images: /home/logs/images

Logs, config files, etc. are available at
    http://logs.test-lab.xenproject.org/osstest/logs

Explanation of these reports, and of osstest in general, is at
    http://xenbits.xen.org/gitweb/?p=osstest.git;a=blob;f=README.email;hb=master
    http://xenbits.xen.org/gitweb/?p=osstest.git;a=blob;f=README;hb=master

Test harness code can be found at
    http://xenbits.xen.org/gitweb?p=osstest.git;a=summary


Published tested tree is already up to date.


_______________________________________________
Xen-devel mailing list
Xen-devel@lists.xen.org
https://lists.xen.org/xen-devel

^ permalink raw reply	[flat|nested] only message in thread

only message in thread, other threads:[~2016-12-01 19:20 UTC | newest]

Thread overview: (only message) (download: mbox.gz follow: Atom feed
-- links below jump to the message on this page --
2016-12-01 19:20 [rumprun baseline test] 102749: all pass osstest service owner

This is a public inbox, see mirroring instructions
for how to clone and mirror all data and code used for this inbox;
as well as URLs for NNTP newsgroup(s).