From mboxrd@z Thu Jan 1 00:00:00 1970 From: osstest service owner Subject: [xen-unstable-coverity test] 103327: all pass - PUSHED Date: Wed, 14 Dec 2016 10:59:04 +0000 Message-ID: Mime-Version: 1.0 Content-Type: multipart/mixed; boundary="===============3010187158017400638==" Return-path: List-Unsubscribe: , List-Post: List-Help: List-Subscribe: , Errors-To: xen-devel-bounces@lists.xen.org Sender: "Xen-devel" To: xen-devel@lists.xensource.com, osstest-admin@xenproject.org List-Id: xen-devel@lists.xenproject.org --===============3010187158017400638== Content-Type: text/plain flight 103327 xen-unstable-coverity real [real] http://logs.test-lab.xenproject.org/osstest/logs/103327/ Perfect :-) All tests in this flight passed as required version targeted for testing: xen fc9229c4bb35c5474fbc67f78e628dcbcc90afc5 baseline version: xen cb6ae256e844a954170b9d7d2b6fd1e6000bb50e Last test of basis 103018 2016-12-07 09:18:52 Z 7 days Testing same since 103327 2016-12-14 09:28:25 Z 0 days 1 attempts ------------------------------------------------------------ People who touched revisions under test: Andrew Cooper Andrii Anisov Artem Mygaiev Cedric Bosdonnat Cédric Bosdonnat Daniel Kiper George Dunlap Ian Jackson Jan Beulich Juergen Gross Julien Grall Jun Sun Kevin Tian Luwei Kang Oleksandr Tyshchenko Oleksandr Tyshchenko Paul Durrant Peng Fan Roger Pau Monne Roger Pau Monné Sameer Goel Sander Eikelenboom Stefano Stabellini Stefano Stabellini Steve Capper Suravee Suthikulpanit Tamas K Lengyel Tim Deegan Wei Liu Zhang Chen jobs: coverity-amd64 pass ------------------------------------------------------------ sg-report-flight on osstest.test-lab.xenproject.org logs: /home/logs/logs images: /home/logs/images Logs, config files, etc. are available at http://logs.test-lab.xenproject.org/osstest/logs Explanation of these reports, and of osstest in general, is at http://xenbits.xen.org/gitweb/?p=osstest.git;a=blob;f=README.email;hb=master http://xenbits.xen.org/gitweb/?p=osstest.git;a=blob;f=README;hb=master Test harness code can be found at http://xenbits.xen.org/gitweb?p=osstest.git;a=summary Pushing revision : + branch=xen-unstable-coverity + revision=fc9229c4bb35c5474fbc67f78e628dcbcc90afc5 + . ./cri-lock-repos ++ . ./cri-common +++ . ./cri-getconfig +++ umask 002 +++ getrepos ++++ getconfig Repos ++++ perl -e ' use Osstest; readglobalconfig(); print $c{"Repos"} or die $!; ' +++ local repos=/home/osstest/repos +++ '[' -z /home/osstest/repos ']' +++ '[' '!' -d /home/osstest/repos ']' +++ echo /home/osstest/repos ++ repos=/home/osstest/repos ++ repos_lock=/home/osstest/repos/lock ++ '[' x '!=' x/home/osstest/repos/lock ']' ++ OSSTEST_REPOS_LOCK_LOCKED=/home/osstest/repos/lock ++ exec with-lock-ex -w /home/osstest/repos/lock ./ap-push xen-unstable-coverity fc9229c4bb35c5474fbc67f78e628dcbcc90afc5 + branch=xen-unstable-coverity + revision=fc9229c4bb35c5474fbc67f78e628dcbcc90afc5 + . ./cri-lock-repos ++ . ./cri-common +++ . ./cri-getconfig +++ umask 002 +++ getrepos ++++ getconfig Repos ++++ perl -e ' use Osstest; readglobalconfig(); print $c{"Repos"} or die $!; ' +++ local repos=/home/osstest/repos +++ '[' -z /home/osstest/repos ']' +++ '[' '!' -d /home/osstest/repos ']' +++ echo /home/osstest/repos ++ repos=/home/osstest/repos ++ repos_lock=/home/osstest/repos/lock ++ '[' x/home/osstest/repos/lock '!=' x/home/osstest/repos/lock ']' + . ./cri-common ++ . ./cri-getconfig ++ umask 002 + select_xenbranch + case "$branch" in + tree=xen + xenbranch=xen-unstable-coverity + qemuubranch=qemu-upstream-unstable-coverity + qemuubranch=qemu-upstream-unstable + '[' xxen = xlinux ']' + linuxbranch= + '[' xqemu-upstream-unstable = x ']' + select_prevxenbranch ++ ./cri-getprevxenbranch xen-unstable-coverity + prevxenbranch=xen-4.8-testing + '[' xfc9229c4bb35c5474fbc67f78e628dcbcc90afc5 = x ']' + : tested/2.6.39.x + . ./ap-common ++ : osstest@xenbits.xen.org +++ getconfig OsstestUpstream +++ perl -e ' use Osstest; readglobalconfig(); print $c{"OsstestUpstream"} or die $!; ' ++ : ++ : git://xenbits.xen.org/xen.git ++ : osstest@xenbits.xen.org:/home/xen/git/xen.git ++ : git://xenbits.xen.org/qemu-xen-traditional.git ++ : git://git.kernel.org ++ : git://git.kernel.org/pub/scm/linux/kernel/git ++ : git ++ : git://xenbits.xen.org/xtf.git ++ : osstest@xenbits.xen.org:/home/xen/git/xtf.git ++ : git://xenbits.xen.org/xtf.git ++ : git://xenbits.xen.org/libvirt.git ++ : osstest@xenbits.xen.org:/home/xen/git/libvirt.git ++ : git://xenbits.xen.org/libvirt.git ++ : git://xenbits.xen.org/osstest/rumprun.git ++ : git ++ : git://xenbits.xen.org/osstest/rumprun.git ++ : osstest@xenbits.xen.org:/home/xen/git/osstest/rumprun.git ++ : git://git.seabios.org/seabios.git ++ : osstest@xenbits.xen.org:/home/xen/git/osstest/seabios.git ++ : git://xenbits.xen.org/osstest/seabios.git ++ : https://github.com/tianocore/edk2.git ++ : osstest@xenbits.xen.org:/home/xen/git/osstest/ovmf.git ++ : git://xenbits.xen.org/osstest/ovmf.git ++ : git://xenbits.xen.org/osstest/linux-firmware.git ++ : osstest@xenbits.xen.org:/home/osstest/ext/linux-firmware.git ++ : git://git.kernel.org/pub/scm/linux/kernel/git/firmware/linux-firmware.git ++ : osstest@xenbits.xen.org:/home/xen/git/linux-pvops.git ++ : git://xenbits.xen.org/linux-pvops.git ++ : tested/linux-3.14 ++ : tested/linux-arm-xen ++ '[' xgit://xenbits.xen.org/linux-pvops.git = x ']' ++ '[' x = x ']' ++ : git://xenbits.xen.org/linux-pvops.git ++ : tested/linux-arm-xen ++ : git://git.kernel.org/pub/scm/linux/kernel/git/konrad/xen.git ++ : tested/2.6.39.x ++ : daily-cron.xen-unstable-coverity ++ : daily-cron.xen-unstable-coverity ++ : daily-cron.xen-unstable-coverity ++ : daily-cron.xen-unstable-coverity ++ : daily-cron.xen-unstable-coverity ++ : daily-cron.xen-unstable-coverity ++ : daily-cron.xen-unstable-coverity ++ : http://hg.uk.xensource.com/carbon/trunk/linux-2.6.27 ++ : git://xenbits.xen.org/qemu-xen.git ++ : osstest@xenbits.xen.org:/home/xen/git/qemu-xen.git ++ : daily-cron.xen-unstable-coverity ++ : git://xenbits.xen.org/qemu-xen.git ++ : git://git.qemu.org/qemu.git + TREE_LINUX=osstest@xenbits.xen.org:/home/xen/git/linux-pvops.git + TREE_QEMU_UPSTREAM=osstest@xenbits.xen.org:/home/xen/git/qemu-xen.git + TREE_XEN=osstest@xenbits.xen.org:/home/xen/git/xen.git + TREE_LIBVIRT=osstest@xenbits.xen.org:/home/xen/git/libvirt.git + TREE_RUMPRUN=osstest@xenbits.xen.org:/home/xen/git/osstest/rumprun.git + TREE_SEABIOS=osstest@xenbits.xen.org:/home/xen/git/osstest/seabios.git + TREE_OVMF=osstest@xenbits.xen.org:/home/xen/git/osstest/ovmf.git + TREE_XTF=osstest@xenbits.xen.org:/home/xen/git/xtf.git + info_linux_tree xen-unstable-coverity + case $1 in + return 1 + case "$branch" in + cd /home/osstest/repos/xen + git push osstest@xenbits.xen.org:/home/xen/git/xen.git fc9229c4bb35c5474fbc67f78e628dcbcc90afc5:refs/heads/coverity-tested/smoke To osstest@xenbits.xen.org:/home/xen/git/xen.git cb6ae25..fc9229c fc9229c4bb35c5474fbc67f78e628dcbcc90afc5 -> coverity-tested/smoke --===============3010187158017400638== Content-Type: text/plain; charset="utf-8" MIME-Version: 1.0 Content-Transfer-Encoding: base64 Content-Disposition: inline X19fX19fX19fX19fX19fX19fX19fX19fX19fX19fX19fX19fX19fX19fX19fX18KWGVuLWRldmVs IG1haWxpbmcgbGlzdApYZW4tZGV2ZWxAbGlzdHMueGVuLm9yZwpodHRwczovL2xpc3RzLnhlbi5v cmcveGVuLWRldmVsCg== --===============3010187158017400638==--