* [xtf test] 106503: trouble: broken/pass
@ 2017-03-06 21:07 osstest service owner
0 siblings, 0 replies; only message in thread
From: osstest service owner @ 2017-03-06 21:07 UTC (permalink / raw)
To: xen-devel, osstest-admin
flight 106503 xtf real [real]
http://logs.test-lab.xenproject.org/osstest/logs/106503/
Failures and problems with tests :-(
Tests which did not succeed and are blocking,
including tests which could not be run:
test-xtf-amd64-amd64-2 3 host-install(3) broken REGR. vs. 106496
version targeted for testing:
xtf 83af19a3154af85815e4c8ffd170839b99685adc
baseline version:
xtf 1d68cab2189bd035002ecc32cce154f979f9eff5
Last test of basis 106496 2017-03-06 16:46:49 Z 0 days
Testing same since 106503 2017-03-06 19:16:22 Z 0 days 1 attempts
------------------------------------------------------------
People who touched revisions under test:
Andrew Cooper <andrew.cooper3@citrix.com>
jobs:
build-amd64-xtf pass
build-amd64 pass
build-amd64-pvops pass
test-xtf-amd64-amd64-1 pass
test-xtf-amd64-amd64-2 broken
test-xtf-amd64-amd64-3 pass
test-xtf-amd64-amd64-4 pass
test-xtf-amd64-amd64-5 pass
------------------------------------------------------------
sg-report-flight on osstest.test-lab.xenproject.org
logs: /home/logs/logs
images: /home/logs/images
Logs, config files, etc. are available at
http://logs.test-lab.xenproject.org/osstest/logs
Explanation of these reports, and of osstest in general, is at
http://xenbits.xen.org/gitweb/?p=osstest.git;a=blob;f=README.email;hb=master
http://xenbits.xen.org/gitweb/?p=osstest.git;a=blob;f=README;hb=master
Test harness code can be found at
http://xenbits.xen.org/gitweb?p=osstest.git;a=summary
broken-step test-xtf-amd64-amd64-2 host-install(3)
Not pushing.
------------------------------------------------------------
commit 83af19a3154af85815e4c8ffd170839b99685adc
Author: Andrew Cooper <andrew.cooper3@citrix.com>
Date: Mon Mar 6 18:54:23 2017 +0000
Revert "Drop test_wants_user_mappings infrastructure" and "Switch tests over to using .text.user"
It turns out not to be safe without fixes to Xen's pagetable walk.
Signed-off-by: Andrew Cooper <andrew.cooper3@citrix.com>
_______________________________________________
Xen-devel mailing list
Xen-devel@lists.xen.org
https://lists.xen.org/xen-devel
^ permalink raw reply [flat|nested] only message in thread
only message in thread, other threads:[~2017-03-06 21:07 UTC | newest]
Thread overview: (only message) (download: mbox.gz follow: Atom feed
-- links below jump to the message on this page --
2017-03-06 21:07 [xtf test] 106503: trouble: broken/pass osstest service owner
This is a public inbox, see mirroring instructions
for how to clone and mirror all data and code used for this inbox;
as well as URLs for NNTP newsgroup(s).