xen-devel.lists.xenproject.org archive mirror
 help / color / mirror / Atom feed
* [xen-unstable-coverity test] 115672: all pass - PUSHED
@ 2017-11-08 10:40 osstest service owner
  0 siblings, 0 replies; only message in thread
From: osstest service owner @ 2017-11-08 10:40 UTC (permalink / raw)
  To: xen-devel, osstest-admin

flight 115672 xen-unstable-coverity real [real]
http://logs.test-lab.xenproject.org/osstest/logs/115672/

Perfect :-)
All tests in this flight passed as required
version targeted for testing:
 xen                  92f0d4392e73727819c5a83fcce447515efaf2f5
baseline version:
 xen                  e07ebab86595df29838f0960693df84f34528833

Last test of basis   115589  2017-11-05 09:23:06 Z    3 days
Testing same since   115672  2017-11-08 09:42:28 Z    0 days    1 attempts

------------------------------------------------------------
People who touched revisions under test:
  Dario Faggioli <raistlin@linux.it>
  Wei Liu <wei.liu2@citrix.com>

jobs:
 coverity-amd64                                               pass    


------------------------------------------------------------
sg-report-flight on osstest.test-lab.xenproject.org
logs: /home/logs/logs
images: /home/logs/images

Logs, config files, etc. are available at
    http://logs.test-lab.xenproject.org/osstest/logs

Explanation of these reports, and of osstest in general, is at
    http://xenbits.xen.org/gitweb/?p=osstest.git;a=blob;f=README.email;hb=master
    http://xenbits.xen.org/gitweb/?p=osstest.git;a=blob;f=README;hb=master

Test harness code can be found at
    http://xenbits.xen.org/gitweb?p=osstest.git;a=summary


Pushing revision :

To osstest@xenbits.xen.org:/home/xen/git/xen.git
   e07ebab..92f0d43  92f0d4392e73727819c5a83fcce447515efaf2f5 -> coverity-tested/smoke

_______________________________________________
Xen-devel mailing list
Xen-devel@lists.xen.org
https://lists.xen.org/xen-devel

^ permalink raw reply	[flat|nested] only message in thread

only message in thread, other threads:[~2017-11-08 10:40 UTC | newest]

Thread overview: (only message) (download: mbox.gz follow: Atom feed
-- links below jump to the message on this page --
2017-11-08 10:40 [xen-unstable-coverity test] 115672: all pass - PUSHED osstest service owner

This is a public inbox, see mirroring instructions
for how to clone and mirror all data and code used for this inbox;
as well as URLs for NNTP newsgroup(s).