From mboxrd@z Thu Jan 1 00:00:00 1970 From: osstest service owner Subject: [xen-unstable-coverity test] 116112: all pass - PUSHED Date: Sun, 12 Nov 2017 10:29:46 +0000 Message-ID: Mime-Version: 1.0 Content-Type: multipart/mixed; boundary="===============6210752931962559592==" Return-path: List-Unsubscribe: , List-Post: List-Help: List-Subscribe: , Errors-To: xen-devel-bounces@lists.xen.org Sender: "Xen-devel" To: xen-devel@lists.xensource.com, osstest-admin@xenproject.org List-Id: xen-devel@lists.xenproject.org --===============6210752931962559592== Content-Type: text/plain flight 116112 xen-unstable-coverity real [real] http://logs.test-lab.xenproject.org/osstest/logs/116112/ Perfect :-) All tests in this flight passed as required version targeted for testing: xen 3b2966e72c414592cd2c86c21a0d4664cf627b9c baseline version: xen 92f0d4392e73727819c5a83fcce447515efaf2f5 Last test of basis 115672 2017-11-08 09:42:28 Z 4 days Testing same since 116112 2017-11-12 09:23:02 Z 0 days 1 attempts ------------------------------------------------------------ People who touched revisions under test: Andrew Cooper Jan Beulich Roger Pau Monne Roger Pau Monné Wei Liu jobs: coverity-amd64 pass ------------------------------------------------------------ sg-report-flight on osstest.test-lab.xenproject.org logs: /home/logs/logs images: /home/logs/images Logs, config files, etc. are available at http://logs.test-lab.xenproject.org/osstest/logs Explanation of these reports, and of osstest in general, is at http://xenbits.xen.org/gitweb/?p=osstest.git;a=blob;f=README.email;hb=master http://xenbits.xen.org/gitweb/?p=osstest.git;a=blob;f=README;hb=master Test harness code can be found at http://xenbits.xen.org/gitweb?p=osstest.git;a=summary Pushing revision : To osstest@xenbits.xen.org:/home/xen/git/xen.git 92f0d43..3b2966e 3b2966e72c414592cd2c86c21a0d4664cf627b9c -> coverity-tested/smoke --===============6210752931962559592== Content-Type: text/plain; charset="utf-8" MIME-Version: 1.0 Content-Transfer-Encoding: base64 Content-Disposition: inline X19fX19fX19fX19fX19fX19fX19fX19fX19fX19fX19fX19fX19fX19fX19fX18KWGVuLWRldmVs IG1haWxpbmcgbGlzdApYZW4tZGV2ZWxAbGlzdHMueGVuLm9yZwpodHRwczovL2xpc3RzLnhlbi5v cmcveGVuLWRldmVsCg== --===============6210752931962559592==--