* [xtf test] 116370: all pass - PUSHED
@ 2017-11-21 1:04 osstest service owner
0 siblings, 0 replies; only message in thread
From: osstest service owner @ 2017-11-21 1:04 UTC (permalink / raw)
To: xen-devel, osstest-admin
flight 116370 xtf real [real]
http://logs.test-lab.xenproject.org/osstest/logs/116370/
Perfect :-)
All tests in this flight passed as required
version targeted for testing:
xtf 167052779c0546e99aadd26ebd848e10f91fb557
baseline version:
xtf 4d18dd4a163b7879c262ac661ca983fa9266c308
Last test of basis 114652 2017-10-17 13:54:44 Z 34 days
Testing same since 116370 2017-11-20 10:46:19 Z 0 days 1 attempts
------------------------------------------------------------
People who touched revisions under test:
Andrew Cooper <andrew.cooper3@citrix.com>
jobs:
build-amd64-xtf pass
build-amd64 pass
build-amd64-pvops pass
test-xtf-amd64-amd64-1 pass
test-xtf-amd64-amd64-2 pass
test-xtf-amd64-amd64-3 pass
test-xtf-amd64-amd64-4 pass
test-xtf-amd64-amd64-5 pass
------------------------------------------------------------
sg-report-flight on osstest.test-lab.xenproject.org
logs: /home/logs/logs
images: /home/logs/images
Logs, config files, etc. are available at
http://logs.test-lab.xenproject.org/osstest/logs
Explanation of these reports, and of osstest in general, is at
http://xenbits.xen.org/gitweb/?p=osstest.git;a=blob;f=README.email;hb=master
http://xenbits.xen.org/gitweb/?p=osstest.git;a=blob;f=README;hb=master
Test harness code can be found at
http://xenbits.xen.org/gitweb?p=osstest.git;a=summary
Pushing revision :
To osstest@xenbits.xen.org:/home/xen/git/xtf.git
4d18dd4..1670527 167052779c0546e99aadd26ebd848e10f91fb557 -> xen-tested-master
_______________________________________________
Xen-devel mailing list
Xen-devel@lists.xen.org
https://lists.xen.org/xen-devel
^ permalink raw reply [flat|nested] only message in thread
only message in thread, other threads:[~2017-11-21 1:04 UTC | newest]
Thread overview: (only message) (download: mbox.gz follow: Atom feed
-- links below jump to the message on this page --
2017-11-21 1:04 [xtf test] 116370: all pass - PUSHED osstest service owner
This is a public inbox, see mirroring instructions
for how to clone and mirror all data and code used for this inbox;
as well as URLs for NNTP newsgroup(s).