xen-devel.lists.xenproject.org archive mirror
 help / color / mirror / Atom feed
* [xen-unstable-coverity test] 116439: all pass - PUSHED
@ 2017-11-22 10:48 osstest service owner
  0 siblings, 0 replies; only message in thread
From: osstest service owner @ 2017-11-22 10:48 UTC (permalink / raw)
  To: xen-devel, osstest-admin

flight 116439 xen-unstable-coverity real [real]
http://logs.test-lab.xenproject.org/osstest/logs/116439/

Perfect :-)
All tests in this flight passed as required
version targeted for testing:
 xen                  d2f86bf604698806d311cc251c1b66fbb752673c
baseline version:
 xen                  eb0660c6950e08e44fdfeca3e29320382e2a1554

Last test of basis   116333  2017-11-19 09:20:52 Z    3 days
Testing same since   116439  2017-11-22 09:30:12 Z    0 days    1 attempts

------------------------------------------------------------
People who touched revisions under test:
  Andrew Cooper <andrew.cooper3@citrix.com>

jobs:
 coverity-amd64                                               pass    


------------------------------------------------------------
sg-report-flight on osstest.test-lab.xenproject.org
logs: /home/logs/logs
images: /home/logs/images

Logs, config files, etc. are available at
    http://logs.test-lab.xenproject.org/osstest/logs

Explanation of these reports, and of osstest in general, is at
    http://xenbits.xen.org/gitweb/?p=osstest.git;a=blob;f=README.email;hb=master
    http://xenbits.xen.org/gitweb/?p=osstest.git;a=blob;f=README;hb=master

Test harness code can be found at
    http://xenbits.xen.org/gitweb?p=osstest.git;a=summary


Pushing revision :

To osstest@xenbits.xen.org:/home/xen/git/xen.git
   eb0660c..d2f86bf  d2f86bf604698806d311cc251c1b66fbb752673c -> coverity-tested/smoke

_______________________________________________
Xen-devel mailing list
Xen-devel@lists.xen.org
https://lists.xen.org/xen-devel

^ permalink raw reply	[flat|nested] only message in thread

only message in thread, other threads:[~2017-11-22 10:48 UTC | newest]

Thread overview: (only message) (download: mbox.gz follow: Atom feed
-- links below jump to the message on this page --
2017-11-22 10:48 [xen-unstable-coverity test] 116439: all pass - PUSHED osstest service owner

This is a public inbox, see mirroring instructions
for how to clone and mirror all data and code used for this inbox;
as well as URLs for NNTP newsgroup(s).