xen-devel.lists.xenproject.org archive mirror
 help / color / mirror / Atom feed
* [xen-unstable-coverity test] 118472: all pass - PUSHED
@ 2018-01-31 10:13 osstest service owner
  0 siblings, 0 replies; only message in thread
From: osstest service owner @ 2018-01-31 10:13 UTC (permalink / raw)
  To: xen-devel, osstest-admin

[-- Attachment #1: Type: text/plain, Size: 1838 bytes --]

flight 118472 xen-unstable-coverity real [real]
http://logs.test-lab.xenproject.org/osstest/logs/118472/

Perfect :-)
All tests in this flight passed as required
version targeted for testing:
 xen                  16a31ca735165e63d67e86f60996f2b6a31cc0ee
baseline version:
 xen                  4c7e478d597b0346eef3a256cfd6794ac778b608

Last test of basis   118414  2018-01-28 09:18:47 Z    3 days
Testing same since   118472  2018-01-31 09:19:44 Z    0 days    1 attempts

------------------------------------------------------------
People who touched revisions under test:
  Andre Przywara <andre.przywara@arm.com>
  Andrew Cooper <andrew.cooper3@citrix.com>
  Christian Lindig <christian.lindig@citrix.com>
  Daniel De Graaf <dgdegra@tycho.nsa.gov>
  Ian Jackson <ian.jackson@eu.citrix.com>
  Jan Beulich <jbeulich@suse.com>
  Julien Grall <julien.grall@linaro.org>
  Roger Pau Monne <roger.pau@citrix.com>
  Roger Pau Monné <roger.pau@citrix.com>
  Stefano Stabellini <sstabellini@kernel.org>
  Wei Liu <wei.liu2@citrix.com>

jobs:
 coverity-amd64                                               pass    


------------------------------------------------------------
sg-report-flight on osstest.test-lab.xenproject.org
logs: /home/logs/logs
images: /home/logs/images

Logs, config files, etc. are available at
    http://logs.test-lab.xenproject.org/osstest/logs

Explanation of these reports, and of osstest in general, is at
    http://xenbits.xen.org/gitweb/?p=osstest.git;a=blob;f=README.email;hb=master
    http://xenbits.xen.org/gitweb/?p=osstest.git;a=blob;f=README;hb=master

Test harness code can be found at
    http://xenbits.xen.org/gitweb?p=osstest.git;a=summary


Pushing revision :

To xenbits.xen.org:/home/xen/git/xen.git
   4c7e478d59..16a31ca735  16a31ca735165e63d67e86f60996f2b6a31cc0ee -> coverity-tested/smoke


[-- Attachment #2: Type: text/plain, Size: 157 bytes --]

_______________________________________________
Xen-devel mailing list
Xen-devel@lists.xenproject.org
https://lists.xenproject.org/mailman/listinfo/xen-devel

^ permalink raw reply	[flat|nested] only message in thread

only message in thread, other threads:[~2018-01-31 10:13 UTC | newest]

Thread overview: (only message) (download: mbox.gz follow: Atom feed
-- links below jump to the message on this page --
2018-01-31 10:13 [xen-unstable-coverity test] 118472: all pass - PUSHED osstest service owner

This is a public inbox, see mirroring instructions
for how to clone and mirror all data and code used for this inbox;
as well as URLs for NNTP newsgroup(s).