From mboxrd@z Thu Jan 1 00:00:00 1970 From: osstest service owner Subject: [xen-unstable-coverity test] 118472: all pass - PUSHED Date: Wed, 31 Jan 2018 10:13:11 +0000 Message-ID: Mime-Version: 1.0 Content-Type: multipart/mixed; boundary="===============7899575583754182508==" Return-path: Received: from us1-rack-dfw2.inumbo.com ([104.130.134.6]) by lists.xenproject.org with esmtp (Exim 4.84_2) (envelope-from ) id 1egpOK-0004Vy-8W for xen-devel@lists.xenproject.org; Wed, 31 Jan 2018 10:13:20 +0000 List-Unsubscribe: , List-Post: List-Help: List-Subscribe: , Errors-To: xen-devel-bounces@lists.xenproject.org Sender: "Xen-devel" To: xen-devel@lists.xenproject.org, osstest-admin@xenproject.org List-Id: xen-devel@lists.xenproject.org --===============7899575583754182508== Content-Type: text/plain flight 118472 xen-unstable-coverity real [real] http://logs.test-lab.xenproject.org/osstest/logs/118472/ Perfect :-) All tests in this flight passed as required version targeted for testing: xen 16a31ca735165e63d67e86f60996f2b6a31cc0ee baseline version: xen 4c7e478d597b0346eef3a256cfd6794ac778b608 Last test of basis 118414 2018-01-28 09:18:47 Z 3 days Testing same since 118472 2018-01-31 09:19:44 Z 0 days 1 attempts ------------------------------------------------------------ People who touched revisions under test: Andre Przywara Andrew Cooper Christian Lindig Daniel De Graaf Ian Jackson Jan Beulich Julien Grall Roger Pau Monne Roger Pau Monné Stefano Stabellini Wei Liu jobs: coverity-amd64 pass ------------------------------------------------------------ sg-report-flight on osstest.test-lab.xenproject.org logs: /home/logs/logs images: /home/logs/images Logs, config files, etc. are available at http://logs.test-lab.xenproject.org/osstest/logs Explanation of these reports, and of osstest in general, is at http://xenbits.xen.org/gitweb/?p=osstest.git;a=blob;f=README.email;hb=master http://xenbits.xen.org/gitweb/?p=osstest.git;a=blob;f=README;hb=master Test harness code can be found at http://xenbits.xen.org/gitweb?p=osstest.git;a=summary Pushing revision : To xenbits.xen.org:/home/xen/git/xen.git 4c7e478d59..16a31ca735 16a31ca735165e63d67e86f60996f2b6a31cc0ee -> coverity-tested/smoke --===============7899575583754182508== Content-Type: text/plain; charset="utf-8" MIME-Version: 1.0 Content-Transfer-Encoding: base64 Content-Disposition: inline X19fX19fX19fX19fX19fX19fX19fX19fX19fX19fX19fX19fX19fX19fX19fX18KWGVuLWRldmVs IG1haWxpbmcgbGlzdApYZW4tZGV2ZWxAbGlzdHMueGVucHJvamVjdC5vcmcKaHR0cHM6Ly9saXN0 cy54ZW5wcm9qZWN0Lm9yZy9tYWlsbWFuL2xpc3RpbmZvL3hlbi1kZXZlbA== --===============7899575583754182508==--