* [xtf test] 118484: all pass - PUSHED
@ 2018-01-31 23:43 osstest service owner
0 siblings, 0 replies; only message in thread
From: osstest service owner @ 2018-01-31 23:43 UTC (permalink / raw)
To: xen-devel, osstest-admin
flight 118484 xtf real [real]
http://logs.test-lab.xenproject.org/osstest/logs/118484/
Perfect :-)
All tests in this flight passed as required
version targeted for testing:
xtf 9eeb26f3faeb25925c0cfde9ec18571fdbfbe4fa
baseline version:
xtf bade68b7087acd6b5ca6310a7460faeea48e4b1c
Last test of basis 117575 2018-01-02 19:50:26 Z 29 days
Testing same since 118484 2018-01-31 12:18:50 Z 0 days 1 attempts
------------------------------------------------------------
People who touched revisions under test:
Andrew Cooper <andrew.cooper3@citrix.com>
jobs:
build-amd64-xtf pass
build-amd64 pass
build-amd64-pvops pass
test-xtf-amd64-amd64-1 pass
test-xtf-amd64-amd64-2 pass
test-xtf-amd64-amd64-3 pass
test-xtf-amd64-amd64-4 pass
test-xtf-amd64-amd64-5 pass
------------------------------------------------------------
sg-report-flight on osstest.test-lab.xenproject.org
logs: /home/logs/logs
images: /home/logs/images
Logs, config files, etc. are available at
http://logs.test-lab.xenproject.org/osstest/logs
Explanation of these reports, and of osstest in general, is at
http://xenbits.xen.org/gitweb/?p=osstest.git;a=blob;f=README.email;hb=master
http://xenbits.xen.org/gitweb/?p=osstest.git;a=blob;f=README;hb=master
Test harness code can be found at
http://xenbits.xen.org/gitweb?p=osstest.git;a=summary
Pushing revision :
To xenbits.xen.org:/home/xen/git/xtf.git
bade68b..9eeb26f 9eeb26f3faeb25925c0cfde9ec18571fdbfbe4fa -> xen-tested-master
_______________________________________________
Xen-devel mailing list
Xen-devel@lists.xenproject.org
https://lists.xenproject.org/mailman/listinfo/xen-devel
^ permalink raw reply [flat|nested] only message in thread
only message in thread, other threads:[~2018-01-31 23:43 UTC | newest]
Thread overview: (only message) (download: mbox.gz follow: Atom feed
-- links below jump to the message on this page --
2018-01-31 23:43 [xtf test] 118484: all pass - PUSHED osstest service owner
This is a public inbox, see mirroring instructions
for how to clone and mirror all data and code used for this inbox;
as well as URLs for NNTP newsgroup(s).