* [xen-unstable-coverity test] 118635: all pass - PUSHED
@ 2018-02-07 10:16 osstest service owner
0 siblings, 0 replies; only message in thread
From: osstest service owner @ 2018-02-07 10:16 UTC (permalink / raw)
To: xen-devel, osstest-admin
flight 118635 xen-unstable-coverity real [real]
http://logs.test-lab.xenproject.org/osstest/logs/118635/
Perfect :-)
All tests in this flight passed as required
version targeted for testing:
xen 30cbd0c83ef3d0edac2d5bcc41a9a2b7a843ae58
baseline version:
xen 99d9d7a33b781bc9a91416f1e04c8e50e40fa4ef
Last test of basis 118564 2018-02-04 09:18:44 Z 3 days
Testing same since 118635 2018-02-07 09:20:25 Z 0 days 1 attempts
------------------------------------------------------------
People who touched revisions under test:
Andrew Cooper <andrew.cooper3@citrix.com>
Brian Woods <brian.woods@amd.com>
Jan Beulich <jbeulich@suse.com>
Razvan Cojocaru <rcojocaru@bitdefender.com>
Tamas K Lengyel <tamas@tklengyel.com>
Wei Liu <wei.liu2@citrix.com>
Zhongze Liu <blackskygg@gmail.com>
jobs:
coverity-amd64 pass
------------------------------------------------------------
sg-report-flight on osstest.test-lab.xenproject.org
logs: /home/logs/logs
images: /home/logs/images
Logs, config files, etc. are available at
http://logs.test-lab.xenproject.org/osstest/logs
Explanation of these reports, and of osstest in general, is at
http://xenbits.xen.org/gitweb/?p=osstest.git;a=blob;f=README.email;hb=master
http://xenbits.xen.org/gitweb/?p=osstest.git;a=blob;f=README;hb=master
Test harness code can be found at
http://xenbits.xen.org/gitweb?p=osstest.git;a=summary
Pushing revision :
To xenbits.xen.org:/home/xen/git/xen.git
99d9d7a33b..30cbd0c83e 30cbd0c83ef3d0edac2d5bcc41a9a2b7a843ae58 -> coverity-tested/smoke
_______________________________________________
Xen-devel mailing list
Xen-devel@lists.xenproject.org
https://lists.xenproject.org/mailman/listinfo/xen-devel
^ permalink raw reply [flat|nested] only message in thread
only message in thread, other threads:[~2018-02-07 10:16 UTC | newest]
Thread overview: (only message) (download: mbox.gz follow: Atom feed
-- links below jump to the message on this page --
2018-02-07 10:16 [xen-unstable-coverity test] 118635: all pass - PUSHED osstest service owner
This is a public inbox, see mirroring instructions
for how to clone and mirror all data and code used for this inbox;
as well as URLs for NNTP newsgroup(s).