From mboxrd@z Thu Jan 1 00:00:00 1970 From: osstest service owner Subject: [xen-unstable-coverity test] 118906: all pass - PUSHED Date: Sun, 11 Feb 2018 10:08:04 +0000 Message-ID: Mime-Version: 1.0 Content-Type: multipart/mixed; boundary="===============3939464577763693185==" Return-path: Received: from all-amaz-eas1.inumbo.com ([34.197.232.57]) by lists.xenproject.org with esmtp (Exim 4.84_2) (envelope-from ) id 1ekoYT-00082W-SF for xen-devel@lists.xenproject.org; Sun, 11 Feb 2018 10:08:17 +0000 List-Unsubscribe: , List-Post: List-Help: List-Subscribe: , Errors-To: xen-devel-bounces@lists.xenproject.org Sender: "Xen-devel" To: xen-devel@lists.xenproject.org, osstest-admin@xenproject.org List-Id: xen-devel@lists.xenproject.org --===============3939464577763693185== Content-Type: text/plain flight 118906 xen-unstable-coverity real [real] http://logs.test-lab.xenproject.org/osstest/logs/118906/ Perfect :-) All tests in this flight passed as required version targeted for testing: xen c9d46c6fba9496478fa9f42c4bbebce8a191527d baseline version: xen 30cbd0c83ef3d0edac2d5bcc41a9a2b7a843ae58 Last test of basis 118635 2018-02-07 09:20:25 Z 4 days Testing same since 118906 2018-02-11 09:18:48 Z 0 days 1 attempts ------------------------------------------------------------ People who touched revisions under test: Andre Przywara Andrew Cooper Christian Lindig George Dunlap Jan Beulich Julien Grall Julien Grall Michael Young Olaf Hering Roger Pau Monné Stefano Stabellini Wei Liu jobs: coverity-amd64 pass ------------------------------------------------------------ sg-report-flight on osstest.test-lab.xenproject.org logs: /home/logs/logs images: /home/logs/images Logs, config files, etc. are available at http://logs.test-lab.xenproject.org/osstest/logs Explanation of these reports, and of osstest in general, is at http://xenbits.xen.org/gitweb/?p=osstest.git;a=blob;f=README.email;hb=master http://xenbits.xen.org/gitweb/?p=osstest.git;a=blob;f=README;hb=master Test harness code can be found at http://xenbits.xen.org/gitweb?p=osstest.git;a=summary Pushing revision : To xenbits.xen.org:/home/xen/git/xen.git 30cbd0c83e..c9d46c6fba c9d46c6fba9496478fa9f42c4bbebce8a191527d -> coverity-tested/smoke --===============3939464577763693185== Content-Type: text/plain; charset="utf-8" MIME-Version: 1.0 Content-Transfer-Encoding: base64 Content-Disposition: inline X19fX19fX19fX19fX19fX19fX19fX19fX19fX19fX19fX19fX19fX19fX19fX18KWGVuLWRldmVs IG1haWxpbmcgbGlzdApYZW4tZGV2ZWxAbGlzdHMueGVucHJvamVjdC5vcmcKaHR0cHM6Ly9saXN0 cy54ZW5wcm9qZWN0Lm9yZy9tYWlsbWFuL2xpc3RpbmZvL3hlbi1kZXZlbA== --===============3939464577763693185==--