From mboxrd@z Thu Jan 1 00:00:00 1970 From: osstest service owner Subject: [xen-unstable-coverity test] 119171: all pass - PUSHED Date: Wed, 14 Feb 2018 10:15:58 +0000 Message-ID: Mime-Version: 1.0 Content-Type: multipart/mixed; boundary="===============6541925399914669279==" Return-path: Received: from all-amaz-eas1.inumbo.com ([34.197.232.57]) by lists.xenproject.org with esmtp (Exim 4.84_2) (envelope-from ) id 1eluAo-00066n-94 for xen-devel@lists.xenproject.org; Wed, 14 Feb 2018 10:20:22 +0000 List-Unsubscribe: , List-Post: List-Help: List-Subscribe: , Errors-To: xen-devel-bounces@lists.xenproject.org Sender: "Xen-devel" To: xen-devel@lists.xenproject.org, osstest-admin@xenproject.org List-Id: xen-devel@lists.xenproject.org --===============6541925399914669279== Content-Type: text/plain flight 119171 xen-unstable-coverity real [real] http://logs.test-lab.xenproject.org/osstest/logs/119171/ Perfect :-) All tests in this flight passed as required version targeted for testing: xen 3f491d6873be9caa77f02ad8d98f174f0152b819 baseline version: xen c9d46c6fba9496478fa9f42c4bbebce8a191527d Last test of basis 118906 2018-02-11 09:18:48 Z 3 days Testing same since 119171 2018-02-14 09:35:07 Z 0 days 1 attempts ------------------------------------------------------------ People who touched revisions under test: Andrew Cooper Daniel De Graaf George Dunlap Haozhong Zhang Jan Beulich Juergen Gross Kevin Tian Paul Semel Roger Pau Monne Roger Pau Monné Sameer Goel Simon Gaiser Tim Deegan Wei Liu jobs: coverity-amd64 pass ------------------------------------------------------------ sg-report-flight on osstest.test-lab.xenproject.org logs: /home/logs/logs images: /home/logs/images Logs, config files, etc. are available at http://logs.test-lab.xenproject.org/osstest/logs Explanation of these reports, and of osstest in general, is at http://xenbits.xen.org/gitweb/?p=osstest.git;a=blob;f=README.email;hb=master http://xenbits.xen.org/gitweb/?p=osstest.git;a=blob;f=README;hb=master Test harness code can be found at http://xenbits.xen.org/gitweb?p=osstest.git;a=summary Pushing revision : To xenbits.xen.org:/home/xen/git/xen.git c9d46c6fba..3f491d6873 3f491d6873be9caa77f02ad8d98f174f0152b819 -> coverity-tested/smoke --===============6541925399914669279== Content-Type: text/plain; charset="utf-8" MIME-Version: 1.0 Content-Transfer-Encoding: base64 Content-Disposition: inline X19fX19fX19fX19fX19fX19fX19fX19fX19fX19fX19fX19fX19fX19fX19fX18KWGVuLWRldmVs IG1haWxpbmcgbGlzdApYZW4tZGV2ZWxAbGlzdHMueGVucHJvamVjdC5vcmcKaHR0cHM6Ly9saXN0 cy54ZW5wcm9qZWN0Lm9yZy9tYWlsbWFuL2xpc3RpbmZvL3hlbi1kZXZlbA== --===============6541925399914669279==--