* [xen-unstable-coverity test] 119171: all pass - PUSHED
@ 2018-02-14 10:15 osstest service owner
0 siblings, 0 replies; only message in thread
From: osstest service owner @ 2018-02-14 10:15 UTC (permalink / raw)
To: xen-devel, osstest-admin
[-- Attachment #1: Type: text/plain, Size: 1922 bytes --]
flight 119171 xen-unstable-coverity real [real]
http://logs.test-lab.xenproject.org/osstest/logs/119171/
Perfect :-)
All tests in this flight passed as required
version targeted for testing:
xen 3f491d6873be9caa77f02ad8d98f174f0152b819
baseline version:
xen c9d46c6fba9496478fa9f42c4bbebce8a191527d
Last test of basis 118906 2018-02-11 09:18:48 Z 3 days
Testing same since 119171 2018-02-14 09:35:07 Z 0 days 1 attempts
------------------------------------------------------------
People who touched revisions under test:
Andrew Cooper <andrew.cooper3@citrix.com>
Daniel De Graaf <dgdegra@tycho.nsa.gov>
George Dunlap <george.dunlap@citrix.com>
Haozhong Zhang <haozhong.zhang@intel.com>
Jan Beulich <jbeulich@suse.com>
Juergen Gross <jgross@suse.com>
Kevin Tian <kevin.tian@intel.com>
Paul Semel <semelpaul@gmail.com>
Roger Pau Monne <roger.pau@citrix.com>
Roger Pau Monné <roger.pau@citrix.com>
Sameer Goel <sameer.goel@linaro.org>
Simon Gaiser <simon@invisiblethingslab.com>
Tim Deegan <tim@xen.org>
Wei Liu <wei.liu2@citrix.com>
jobs:
coverity-amd64 pass
------------------------------------------------------------
sg-report-flight on osstest.test-lab.xenproject.org
logs: /home/logs/logs
images: /home/logs/images
Logs, config files, etc. are available at
http://logs.test-lab.xenproject.org/osstest/logs
Explanation of these reports, and of osstest in general, is at
http://xenbits.xen.org/gitweb/?p=osstest.git;a=blob;f=README.email;hb=master
http://xenbits.xen.org/gitweb/?p=osstest.git;a=blob;f=README;hb=master
Test harness code can be found at
http://xenbits.xen.org/gitweb?p=osstest.git;a=summary
Pushing revision :
To xenbits.xen.org:/home/xen/git/xen.git
c9d46c6fba..3f491d6873 3f491d6873be9caa77f02ad8d98f174f0152b819 -> coverity-tested/smoke
[-- Attachment #2: Type: text/plain, Size: 157 bytes --]
_______________________________________________
Xen-devel mailing list
Xen-devel@lists.xenproject.org
https://lists.xenproject.org/mailman/listinfo/xen-devel
^ permalink raw reply [flat|nested] only message in thread
only message in thread, other threads:[~2018-02-14 10:20 UTC | newest]
Thread overview: (only message) (download: mbox.gz follow: Atom feed
-- links below jump to the message on this page --
2018-02-14 10:15 [xen-unstable-coverity test] 119171: all pass - PUSHED osstest service owner
This is a public inbox, see mirroring instructions
for how to clone and mirror all data and code used for this inbox;
as well as URLs for NNTP newsgroup(s).