xen-devel.lists.xenproject.org archive mirror
 help / color / mirror / Atom feed
* [xtf test] 119881: all pass - PUSHED
@ 2018-02-23  9:35 osstest service owner
  0 siblings, 0 replies; only message in thread
From: osstest service owner @ 2018-02-23  9:35 UTC (permalink / raw)
  To: xen-devel, osstest-admin

[-- Attachment #1: Type: text/plain, Size: 1979 bytes --]

flight 119881 xtf real [real]
http://logs.test-lab.xenproject.org/osstest/logs/119881/

Perfect :-)
All tests in this flight passed as required
version targeted for testing:
 xtf                  3a83f436494b9cc46582c94d69348401466eebb0
baseline version:
 xtf                  d6bd213188c6e4b2f7c6ffeefe5f5ce0e7747dc1

Last test of basis   119433  2018-02-16 20:31:43 Z    6 days
Testing same since   119881  2018-02-22 12:15:03 Z    0 days    1 attempts

------------------------------------------------------------
People who touched revisions under test:
  Andrew Cooper <andrew.cooper3@citrix.com>
  Roger Pau Monne <roger.pau@citrix.com>
  Roger Pau Monné <roger.pau@citrix.com>

jobs:
 build-amd64-xtf                                              pass    
 build-amd64                                                  pass    
 build-amd64-pvops                                            pass    
 test-xtf-amd64-amd64-1                                       pass    
 test-xtf-amd64-amd64-2                                       pass    
 test-xtf-amd64-amd64-3                                       pass    
 test-xtf-amd64-amd64-4                                       pass    
 test-xtf-amd64-amd64-5                                       pass    


------------------------------------------------------------
sg-report-flight on osstest.test-lab.xenproject.org
logs: /home/logs/logs
images: /home/logs/images

Logs, config files, etc. are available at
    http://logs.test-lab.xenproject.org/osstest/logs

Explanation of these reports, and of osstest in general, is at
    http://xenbits.xen.org/gitweb/?p=osstest.git;a=blob;f=README.email;hb=master
    http://xenbits.xen.org/gitweb/?p=osstest.git;a=blob;f=README;hb=master

Test harness code can be found at
    http://xenbits.xen.org/gitweb?p=osstest.git;a=summary


Pushing revision :

To xenbits.xen.org:/home/xen/git/xtf.git
   d6bd213..3a83f43  3a83f436494b9cc46582c94d69348401466eebb0 -> xen-tested-master


[-- Attachment #2: Type: text/plain, Size: 157 bytes --]

_______________________________________________
Xen-devel mailing list
Xen-devel@lists.xenproject.org
https://lists.xenproject.org/mailman/listinfo/xen-devel

^ permalink raw reply	[flat|nested] only message in thread

only message in thread, other threads:[~2018-02-23  9:35 UTC | newest]

Thread overview: (only message) (download: mbox.gz follow: Atom feed
-- links below jump to the message on this page --
2018-02-23  9:35 [xtf test] 119881: all pass - PUSHED osstest service owner

This is a public inbox, see mirroring instructions
for how to clone and mirror all data and code used for this inbox;
as well as URLs for NNTP newsgroup(s).