From mboxrd@z Thu Jan 1 00:00:00 1970 From: osstest service owner Subject: [xtf test] 119881: all pass - PUSHED Date: Fri, 23 Feb 2018 09:35:17 +0000 Message-ID: Mime-Version: 1.0 Content-Type: multipart/mixed; boundary="===============2692527515991882494==" Return-path: Received: from all-amaz-eas1.inumbo.com ([34.197.232.57]) by lists.xenproject.org with esmtp (Exim 4.84_2) (envelope-from ) id 1ep9lK-0006yL-VN for xen-devel@lists.xenproject.org; Fri, 23 Feb 2018 09:35:30 +0000 List-Unsubscribe: , List-Post: List-Help: List-Subscribe: , Errors-To: xen-devel-bounces@lists.xenproject.org Sender: "Xen-devel" To: xen-devel@lists.xenproject.org, osstest-admin@xenproject.org List-Id: xen-devel@lists.xenproject.org --===============2692527515991882494== Content-Type: text/plain flight 119881 xtf real [real] http://logs.test-lab.xenproject.org/osstest/logs/119881/ Perfect :-) All tests in this flight passed as required version targeted for testing: xtf 3a83f436494b9cc46582c94d69348401466eebb0 baseline version: xtf d6bd213188c6e4b2f7c6ffeefe5f5ce0e7747dc1 Last test of basis 119433 2018-02-16 20:31:43 Z 6 days Testing same since 119881 2018-02-22 12:15:03 Z 0 days 1 attempts ------------------------------------------------------------ People who touched revisions under test: Andrew Cooper Roger Pau Monne Roger Pau Monné jobs: build-amd64-xtf pass build-amd64 pass build-amd64-pvops pass test-xtf-amd64-amd64-1 pass test-xtf-amd64-amd64-2 pass test-xtf-amd64-amd64-3 pass test-xtf-amd64-amd64-4 pass test-xtf-amd64-amd64-5 pass ------------------------------------------------------------ sg-report-flight on osstest.test-lab.xenproject.org logs: /home/logs/logs images: /home/logs/images Logs, config files, etc. are available at http://logs.test-lab.xenproject.org/osstest/logs Explanation of these reports, and of osstest in general, is at http://xenbits.xen.org/gitweb/?p=osstest.git;a=blob;f=README.email;hb=master http://xenbits.xen.org/gitweb/?p=osstest.git;a=blob;f=README;hb=master Test harness code can be found at http://xenbits.xen.org/gitweb?p=osstest.git;a=summary Pushing revision : To xenbits.xen.org:/home/xen/git/xtf.git d6bd213..3a83f43 3a83f436494b9cc46582c94d69348401466eebb0 -> xen-tested-master --===============2692527515991882494== Content-Type: text/plain; charset="utf-8" MIME-Version: 1.0 Content-Transfer-Encoding: base64 Content-Disposition: inline X19fX19fX19fX19fX19fX19fX19fX19fX19fX19fX19fX19fX19fX19fX19fX18KWGVuLWRldmVs IG1haWxpbmcgbGlzdApYZW4tZGV2ZWxAbGlzdHMueGVucHJvamVjdC5vcmcKaHR0cHM6Ly9saXN0 cy54ZW5wcm9qZWN0Lm9yZy9tYWlsbWFuL2xpc3RpbmZvL3hlbi1kZXZlbA== --===============2692527515991882494==--