xen-devel.lists.xenproject.org archive mirror
 help / color / mirror / Atom feed
* [ovmf test] 120879: all pass - PUSHED
@ 2018-03-19  2:26 osstest service owner
  0 siblings, 0 replies; only message in thread
From: osstest service owner @ 2018-03-19  2:26 UTC (permalink / raw)
  To: xen-devel, osstest-admin

flight 120879 ovmf real [real]
http://logs.test-lab.xenproject.org/osstest/logs/120879/

Perfect :-)
All tests in this flight passed as required
version targeted for testing:
 ovmf                 34d808add3dc23aaa37e1c9edb2fcc2b50118367
baseline version:
 ovmf                 dc080d3b61e570e7a3163fc24afa6f8388d0c0bf

Last test of basis   120819  2018-03-16 00:28:39 Z    3 days
Testing same since   120879  2018-03-17 15:34:47 Z    1 days    1 attempts

------------------------------------------------------------
People who touched revisions under test:
  Bob Feng <bob.c.feng@intel.com>
  BobCF <bob.c.feng@intel.com>
  Feng, YunhuaX </o=Intel/ou=Exchange Administrative Group (FYDIBOHF23SPDLT)/cn=Recipients/cn=Feng, YunhuaX4e1>
  Gabriel Somlo <gsomlo@gmail.com>
  Jian J Wang <jian.j.wang@intel.com>
  Jiewen Yao <jiewen.yao@intel.com>
  Laszlo Ersek <lersek@redhat.com>
  Liming Gao <liming.gao@intel.com>
  Richard W.M. Jones <rjones@redhat.com>
  Ruiyu Ni <ruiyu.ni@intel.com>
  Star Zeng <star.zeng@intel.com>
  Yunhua Feng <yunhuax.feng@intel.com>

jobs:
 build-amd64-xsm                                              pass    
 build-i386-xsm                                               pass    
 build-amd64                                                  pass    
 build-i386                                                   pass    
 build-amd64-libvirt                                          pass    
 build-i386-libvirt                                           pass    
 build-amd64-pvops                                            pass    
 build-i386-pvops                                             pass    
 test-amd64-amd64-xl-qemuu-ovmf-amd64                         pass    
 test-amd64-i386-xl-qemuu-ovmf-amd64                          pass    


------------------------------------------------------------
sg-report-flight on osstest.test-lab.xenproject.org
logs: /home/logs/logs
images: /home/logs/images

Logs, config files, etc. are available at
    http://logs.test-lab.xenproject.org/osstest/logs

Explanation of these reports, and of osstest in general, is at
    http://xenbits.xen.org/gitweb/?p=osstest.git;a=blob;f=README.email;hb=master
    http://xenbits.xen.org/gitweb/?p=osstest.git;a=blob;f=README;hb=master

Test harness code can be found at
    http://xenbits.xen.org/gitweb?p=osstest.git;a=summary


Pushing revision :

To xenbits.xen.org:/home/xen/git/osstest/ovmf.git
   dc080d3b61..34d808add3  34d808add3dc23aaa37e1c9edb2fcc2b50118367 -> xen-tested-master

_______________________________________________
Xen-devel mailing list
Xen-devel@lists.xenproject.org
https://lists.xenproject.org/mailman/listinfo/xen-devel

^ permalink raw reply	[flat|nested] only message in thread

only message in thread, other threads:[~2018-03-19  2:26 UTC | newest]

Thread overview: (only message) (download: mbox.gz follow: Atom feed
-- links below jump to the message on this page --
2018-03-19  2:26 [ovmf test] 120879: all pass - PUSHED osstest service owner

This is a public inbox, see mirroring instructions
for how to clone and mirror all data and code used for this inbox;
as well as URLs for NNTP newsgroup(s).