xen-devel.lists.xenproject.org archive mirror
 help / color / mirror / Atom feed
* [xen-unstable-coverity test] 120905: all pass - PUSHED
@ 2018-03-18 11:59 osstest service owner
  0 siblings, 0 replies; only message in thread
From: osstest service owner @ 2018-03-18 11:59 UTC (permalink / raw)
  To: xen-devel, osstest-admin

[-- Attachment #1: Type: text/plain, Size: 3040 bytes --]

flight 120905 xen-unstable-coverity real [real]
http://logs.test-lab.xenproject.org/osstest/logs/120905/

Perfect :-)
All tests in this flight passed as required
version targeted for testing:
 xen                  0012ae8afb4a6e76f2847119f2c6850fbf41d9b7
baseline version:
 xen                  24470b99c1671dca531c2cf5747eda2f8892ecbc

Last test of basis   119558  2018-02-18 09:47:32 Z   28 days
Failing since        119806  2018-02-21 09:29:16 Z   25 days    8 attempts
Testing same since   120905  2018-03-18 10:15:37 Z    0 days    1 attempts

------------------------------------------------------------
People who touched revisions under test:
  Alan Robinson <Alan.Robinson@ts.fujitsu.com>
  Alexandru Isaila <aisaila@bitdefender.com>
  Andre Przywara <andre.przywara@linaro.org>
  Andrew Cooper <andrew.cooper3@citix.com>
  Andrew Cooper <andrew.cooper3@citrix.com>
  Anthony PERARD <anthony.perard@citrix.com>
  Boris Ostrovsky <boris.ostrovsky@oracle.com>
  Brian Woods <brian.woods@amd.com>
  Dario Faggioli <dfaggioli@suse.com>
  Doug Goldstein <cardoe@cardoe.com>
  George Dunlap <george.dunlap@citrix.com>
  Haozhong Zhang <haozhong.zhang@intel.com>
  Ian Jackson <ian.jackson@eu.citrix.com>
  Igor Druzhinin <igor.druzhinin@citrix.com>
  Jan Beulich <jbeulich@suse.com>
  Jim Fehlig <jfehlig@suse.com>
  John Thomson <git@johnthomson.fastmail.com.au>
  Juergen Gross <jgross@suse.com>
  Julien Grall <julien.grall@arm.com>
  Julien Grall <julien.grall@linaro.org>
  Kevin Tian <kevin.tian@intel.com>
  Konrad Rzeszutek Wilk <konrad.wilk@oracle.com>
  Liran Alon <liran.alon@oracle.com>
  Marek Marczykowski-Górecki <marmarek@invisiblethingslab.com>
  Martin Cerveny <martin@c-home.cz>
  Meng Xu <mengxu@cis.upenn.edu>
  Michael Young <m.a.young@durham.ac.uk>
  Olaf Hering <olaf@aepfle.de>
  Paul Semel <semelpaul@gmail.com>
  Razvan Cojocaru <rcojocaru@bitdefender.com>
  Roger Pau Monne <roger.pau@citrix.com>
  Roger Pau Monné <roger.pau@citrix.com>
  Sergey Dyasli <sergey.dyasli@citrix.com>
  Stefano Stabellini <sstabellini@kernel.org>
  Stefano Stabellini <stefano@aporeto.com>
  Stewart Hildebrand <stewart.hildebrand@dornerworks.com>
  Tamas K Lengyel <tamas@tklengyel.com>
  Wei Liu <wei.liu2@citrix.com>

jobs:
 coverity-amd64                                               pass    


------------------------------------------------------------
sg-report-flight on osstest.test-lab.xenproject.org
logs: /home/logs/logs
images: /home/logs/images

Logs, config files, etc. are available at
    http://logs.test-lab.xenproject.org/osstest/logs

Explanation of these reports, and of osstest in general, is at
    http://xenbits.xen.org/gitweb/?p=osstest.git;a=blob;f=README.email;hb=master
    http://xenbits.xen.org/gitweb/?p=osstest.git;a=blob;f=README;hb=master

Test harness code can be found at
    http://xenbits.xen.org/gitweb?p=osstest.git;a=summary


Pushing revision :

To xenbits.xen.org:/home/xen/git/xen.git
   24470b99c1..0012ae8afb  0012ae8afb4a6e76f2847119f2c6850fbf41d9b7 -> coverity-tested/smoke


[-- Attachment #2: Type: text/plain, Size: 157 bytes --]

_______________________________________________
Xen-devel mailing list
Xen-devel@lists.xenproject.org
https://lists.xenproject.org/mailman/listinfo/xen-devel

^ permalink raw reply	[flat|nested] only message in thread

only message in thread, other threads:[~2018-03-18 11:59 UTC | newest]

Thread overview: (only message) (download: mbox.gz follow: Atom feed
-- links below jump to the message on this page --
2018-03-18 11:59 [xen-unstable-coverity test] 120905: all pass - PUSHED osstest service owner

This is a public inbox, see mirroring instructions
for how to clone and mirror all data and code used for this inbox;
as well as URLs for NNTP newsgroup(s).