From mboxrd@z Thu Jan 1 00:00:00 1970 From: osstest service owner Subject: [xen-unstable-coverity test] 120905: all pass - PUSHED Date: Sun, 18 Mar 2018 11:59:00 +0000 Message-ID: Mime-Version: 1.0 Content-Type: multipart/mixed; boundary="===============7870127703256375679==" Return-path: Received: from all-amaz-eas1.inumbo.com ([34.197.232.57]) by lists.xenproject.org with esmtp (Exim 4.84_2) (envelope-from ) id 1exWy0-00043o-L1 for xen-devel@lists.xenproject.org; Sun, 18 Mar 2018 11:59:12 +0000 List-Unsubscribe: , List-Post: List-Help: List-Subscribe: , Errors-To: xen-devel-bounces@lists.xenproject.org Sender: "Xen-devel" To: xen-devel@lists.xenproject.org, osstest-admin@xenproject.org List-Id: xen-devel@lists.xenproject.org --===============7870127703256375679== Content-Type: text/plain flight 120905 xen-unstable-coverity real [real] http://logs.test-lab.xenproject.org/osstest/logs/120905/ Perfect :-) All tests in this flight passed as required version targeted for testing: xen 0012ae8afb4a6e76f2847119f2c6850fbf41d9b7 baseline version: xen 24470b99c1671dca531c2cf5747eda2f8892ecbc Last test of basis 119558 2018-02-18 09:47:32 Z 28 days Failing since 119806 2018-02-21 09:29:16 Z 25 days 8 attempts Testing same since 120905 2018-03-18 10:15:37 Z 0 days 1 attempts ------------------------------------------------------------ People who touched revisions under test: Alan Robinson Alexandru Isaila Andre Przywara Andrew Cooper Andrew Cooper Anthony PERARD Boris Ostrovsky Brian Woods Dario Faggioli Doug Goldstein George Dunlap Haozhong Zhang Ian Jackson Igor Druzhinin Jan Beulich Jim Fehlig John Thomson Juergen Gross Julien Grall Julien Grall Kevin Tian Konrad Rzeszutek Wilk Liran Alon Marek Marczykowski-Górecki Martin Cerveny Meng Xu Michael Young Olaf Hering Paul Semel Razvan Cojocaru Roger Pau Monne Roger Pau Monné Sergey Dyasli Stefano Stabellini Stefano Stabellini Stewart Hildebrand Tamas K Lengyel Wei Liu jobs: coverity-amd64 pass ------------------------------------------------------------ sg-report-flight on osstest.test-lab.xenproject.org logs: /home/logs/logs images: /home/logs/images Logs, config files, etc. are available at http://logs.test-lab.xenproject.org/osstest/logs Explanation of these reports, and of osstest in general, is at http://xenbits.xen.org/gitweb/?p=osstest.git;a=blob;f=README.email;hb=master http://xenbits.xen.org/gitweb/?p=osstest.git;a=blob;f=README;hb=master Test harness code can be found at http://xenbits.xen.org/gitweb?p=osstest.git;a=summary Pushing revision : To xenbits.xen.org:/home/xen/git/xen.git 24470b99c1..0012ae8afb 0012ae8afb4a6e76f2847119f2c6850fbf41d9b7 -> coverity-tested/smoke --===============7870127703256375679== Content-Type: text/plain; charset="utf-8" MIME-Version: 1.0 Content-Transfer-Encoding: base64 Content-Disposition: inline X19fX19fX19fX19fX19fX19fX19fX19fX19fX19fX19fX19fX19fX19fX19fX18KWGVuLWRldmVs IG1haWxpbmcgbGlzdApYZW4tZGV2ZWxAbGlzdHMueGVucHJvamVjdC5vcmcKaHR0cHM6Ly9saXN0 cy54ZW5wcm9qZWN0Lm9yZy9tYWlsbWFuL2xpc3RpbmZvL3hlbi1kZXZlbA== --===============7870127703256375679==--