From: xen.org <ian.jackson@eu.citrix.com>
To: xen-devel@lists.xensource.com
Cc: ian.jackson@eu.citrix.com
Subject: [qemu-upstream-unstable test] 12357: trouble: blocked/broken
Date: Mon, 19 Mar 2012 20:09:34 +0000 [thread overview]
Message-ID: <osstest-12357-mainreport@xen.org> (raw)
flight 12357 qemu-upstream-unstable real [real]
http://www.chiark.greenend.org.uk/~xensrcts/logs/12357/
Failures and problems with tests :-(
Tests which did not succeed and are blocking,
including tests which could not be run:
build-amd64-oldkern 2 host-install(2) broken REGR. vs. 11890
build-i386 2 host-install(2) broken REGR. vs. 11890
build-amd64 2 host-install(2) broken REGR. vs. 11890
build-i386-oldkern 2 host-install(2) broken REGR. vs. 11890
build-i386-pvops 2 host-install(2) broken REGR. vs. 11890
build-amd64-pvops 2 host-install(2) broken REGR. vs. 11890
Tests which did not succeed, but are not blocking:
test-amd64-amd64-xl-qemuu-win7-amd64 1 xen-build-check(1) blocked n/a
test-amd64-i386-win-vcpus1 1 xen-build-check(1) blocked n/a
test-i386-i386-xl-win 1 xen-build-check(1) blocked n/a
test-amd64-i386-qemuu-rhel6hvm-amd 1 xen-build-check(1) blocked n/a
test-amd64-amd64-xl-sedf-pin 1 xen-build-check(1) blocked n/a
test-i386-i386-xl-qemuu-winxpsp3 1 xen-build-check(1) blocked n/a
test-i386-i386-win 1 xen-build-check(1) blocked n/a
test-amd64-i386-xl-winxpsp3-vcpus1 1 xen-build-check(1) blocked n/a
test-amd64-amd64-xl-pcipt-intel 1 xen-build-check(1) blocked n/a
test-amd64-i386-xl-win-vcpus1 1 xen-build-check(1) blocked n/a
test-amd64-i386-xl-multivcpu 1 xen-build-check(1) blocked n/a
test-i386-i386-pv 1 xen-build-check(1) blocked n/a
test-amd64-i386-xl-win7-amd64 1 xen-build-check(1) blocked n/a
test-amd64-amd64-pv 1 xen-build-check(1) blocked n/a
test-amd64-i386-qemuu-rhel6hvm-intel 1 xen-build-check(1) blocked n/a
test-amd64-i386-rhel6hvm-intel 1 xen-build-check(1) blocked n/a
test-amd64-i386-pv 1 xen-build-check(1) blocked n/a
test-amd64-amd64-xl-win7-amd64 1 xen-build-check(1) blocked n/a
test-amd64-i386-win 1 xen-build-check(1) blocked n/a
test-amd64-i386-pair 1 xen-build-check(1) blocked n/a
test-amd64-amd64-xl-winxpsp3 1 xen-build-check(1) blocked n/a
test-amd64-i386-xend-winxpsp3 1 xen-build-check(1) blocked n/a
test-amd64-amd64-xl-sedf 1 xen-build-check(1) blocked n/a
test-i386-i386-xl 1 xen-build-check(1) blocked n/a
test-i386-i386-xl-winxpsp3 1 xen-build-check(1) blocked n/a
test-amd64-amd64-xl-qemuu-winxpsp3 1 xen-build-check(1) blocked n/a
test-amd64-amd64-xl 1 xen-build-check(1) blocked n/a
test-amd64-i386-xl-credit2 1 xen-build-check(1) blocked n/a
test-amd64-amd64-xl-win 1 xen-build-check(1) blocked n/a
test-amd64-i386-xl 1 xen-build-check(1) blocked n/a
test-amd64-i386-rhel6hvm-amd 1 xen-build-check(1) blocked n/a
test-i386-i386-pair 1 xen-build-check(1) blocked n/a
test-amd64-amd64-win 1 xen-build-check(1) blocked n/a
test-amd64-amd64-pair 1 xen-build-check(1) blocked n/a
version targeted for testing:
qemuu e1615984e765751b430f86be679c0b74b5d5cd15
baseline version:
qemuu 86a8d63bc11431509506b95c1481e1a023302cbc
------------------------------------------------------------
People who touched revisions under test:
Anthony PERARD <anthony.perard@citrix.com>
Stefano Stabellini <stefano.stabellini@eu.citrix.com>
------------------------------------------------------------
jobs:
build-amd64 broken
build-i386 broken
build-amd64-oldkern broken
build-i386-oldkern broken
build-amd64-pvops broken
build-i386-pvops broken
test-amd64-amd64-xl blocked
test-amd64-i386-xl blocked
test-i386-i386-xl blocked
test-amd64-i386-rhel6hvm-amd blocked
test-amd64-i386-qemuu-rhel6hvm-amd blocked
test-amd64-amd64-xl-qemuu-win7-amd64 blocked
test-amd64-amd64-xl-win7-amd64 blocked
test-amd64-i386-xl-win7-amd64 blocked
test-amd64-i386-xl-credit2 blocked
test-amd64-amd64-xl-pcipt-intel blocked
test-amd64-i386-rhel6hvm-intel blocked
test-amd64-i386-qemuu-rhel6hvm-intel blocked
test-amd64-i386-xl-multivcpu blocked
test-amd64-amd64-pair blocked
test-amd64-i386-pair blocked
test-i386-i386-pair blocked
test-amd64-amd64-xl-sedf-pin blocked
test-amd64-amd64-pv blocked
test-amd64-i386-pv blocked
test-i386-i386-pv blocked
test-amd64-amd64-xl-sedf blocked
test-amd64-i386-win-vcpus1 blocked
test-amd64-i386-xl-win-vcpus1 blocked
test-amd64-i386-xl-winxpsp3-vcpus1 blocked
test-amd64-amd64-win blocked
test-amd64-i386-win blocked
test-i386-i386-win blocked
test-amd64-amd64-xl-win blocked
test-i386-i386-xl-win blocked
test-amd64-amd64-xl-qemuu-winxpsp3 blocked
test-i386-i386-xl-qemuu-winxpsp3 blocked
test-amd64-i386-xend-winxpsp3 blocked
test-amd64-amd64-xl-winxpsp3 blocked
test-i386-i386-xl-winxpsp3 blocked
------------------------------------------------------------
sg-report-flight on woking.cam.xci-test.com
logs: /home/xc_osstest/logs
images: /home/xc_osstest/images
Logs, config files, etc. are available at
http://www.chiark.greenend.org.uk/~xensrcts/logs
Test harness code can be found at
http://xenbits.xensource.com/gitweb?p=osstest.git;a=summary
Not pushing.
------------------------------------------------------------
commit e1615984e765751b430f86be679c0b74b5d5cd15
Author: Anthony PERARD <anthony.perard@citrix.com>
Date: Wed Jan 25 12:36:06 2012 +0000
xen: do not allocate RAM during INMIGRATE runstate
Signed-off-by: Anthony PERARD <anthony.perard@citrix.com>
Signed-off-by: Stefano Stabellini <stefano.stabellini@eu.citrix.com>
reply other threads:[~2012-03-19 20:09 UTC|newest]
Thread overview: [no followups] expand[flat|nested] mbox.gz Atom feed
Reply instructions:
You may reply publicly to this message via plain-text email
using any one of the following methods:
* Save the following mbox file, import it into your mail client,
and reply-to-all from there: mbox
Avoid top-posting and favor interleaved quoting:
https://en.wikipedia.org/wiki/Posting_style#Interleaved_style
* Reply using the --to, --cc, and --in-reply-to
switches of git-send-email(1):
git send-email \
--in-reply-to=osstest-12357-mainreport@xen.org \
--to=ian.jackson@eu.citrix.com \
--cc=xen-devel@lists.xensource.com \
/path/to/YOUR_REPLY
https://kernel.org/pub/software/scm/git/docs/git-send-email.html
* If your mail client supports setting the In-Reply-To header
via mailto: links, try the mailto: link
Be sure your reply has a Subject: header at the top and a blank line
before the message body.
This is a public inbox, see mirroring instructions
for how to clone and mirror all data and code used for this inbox;
as well as URLs for NNTP newsgroup(s).