* [ovmf test] 125100: all pass - PUSHED
@ 2018-07-11 9:28 osstest service owner
0 siblings, 0 replies; only message in thread
From: osstest service owner @ 2018-07-11 9:28 UTC (permalink / raw)
To: xen-devel, osstest-admin
flight 125100 ovmf real [real]
http://logs.test-lab.xenproject.org/osstest/logs/125100/
Perfect :-)
All tests in this flight passed as required
version targeted for testing:
ovmf 99fd30431d565412707f7a1e1a23461d10d07e85
baseline version:
ovmf e4e314b1b6b74c46da3c0493e7a807df28cb9aed
Last test of basis 125095 2018-07-11 03:40:52 Z 0 days
Testing same since 125100 2018-07-11 07:40:38 Z 0 days 1 attempts
------------------------------------------------------------
People who touched revisions under test:
Star Zeng <star.zeng@intel.com>
jobs:
build-amd64-xsm pass
build-i386-xsm pass
build-amd64 pass
build-i386 pass
build-amd64-libvirt pass
build-i386-libvirt pass
build-amd64-pvops pass
build-i386-pvops pass
test-amd64-amd64-xl-qemuu-ovmf-amd64 pass
test-amd64-i386-xl-qemuu-ovmf-amd64 pass
------------------------------------------------------------
sg-report-flight on osstest.test-lab.xenproject.org
logs: /home/logs/logs
images: /home/logs/images
Logs, config files, etc. are available at
http://logs.test-lab.xenproject.org/osstest/logs
Explanation of these reports, and of osstest in general, is at
http://xenbits.xen.org/gitweb/?p=osstest.git;a=blob;f=README.email;hb=master
http://xenbits.xen.org/gitweb/?p=osstest.git;a=blob;f=README;hb=master
Test harness code can be found at
http://xenbits.xen.org/gitweb?p=osstest.git;a=summary
Pushing revision :
To xenbits.xen.org:/home/xen/git/osstest/ovmf.git
e4e314b1b6..99fd30431d 99fd30431d565412707f7a1e1a23461d10d07e85 -> xen-tested-master
_______________________________________________
Xen-devel mailing list
Xen-devel@lists.xenproject.org
https://lists.xenproject.org/mailman/listinfo/xen-devel
^ permalink raw reply [flat|nested] only message in thread
only message in thread, other threads:[~2018-07-11 9:28 UTC | newest]
Thread overview: (only message) (download: mbox.gz follow: Atom feed
-- links below jump to the message on this page --
2018-07-11 9:28 [ovmf test] 125100: all pass - PUSHED osstest service owner
This is a public inbox, see mirroring instructions
for how to clone and mirror all data and code used for this inbox;
as well as URLs for NNTP newsgroup(s).