xen-devel.lists.xenproject.org archive mirror
 help / color / mirror / Atom feed
* [xen-unstable-coverity test] 125103: all pass - PUSHED
@ 2018-07-11 10:35 osstest service owner
  0 siblings, 0 replies; only message in thread
From: osstest service owner @ 2018-07-11 10:35 UTC (permalink / raw)
  To: xen-devel, osstest-admin

flight 125103 xen-unstable-coverity real [real]
http://logs.test-lab.xenproject.org/osstest/logs/125103/

Perfect :-)
All tests in this flight passed as required
version targeted for testing:
 xen                  f5d10dc2909c84e4ffc7240e542c513ed480aa04
baseline version:
 xen                  2ddfae51d8b1d7b8cd33a4f6ad4d16d27cb869ae

Last test of basis   125047  2018-07-08 09:18:22 Z    3 days
Testing same since   125103  2018-07-11 09:18:25 Z    0 days    1 attempts

------------------------------------------------------------
People who touched revisions under test:
  Andrew Cooper <andrew.cooper3@citrix.com>
  Doug Goldstein <cardoe@cardoe.com>
  George Dunlap <george.dunlap@eu.citrix.com>
  Ian Jackson <Ian.Jackson@eu.citrix.com>
  Jan Beulich <jbeulich@suse.com>
  Juergen Gross <jgross@suse.com>
  Julien Grall <julien.grall@arm.com>
  Lars Kurth <lars.kurth@citrix.com>
  Oleksandr Grytsov <oleksandr_grytsov@epam.com>
  Roger Pau Monne <roger.pau@citrix.com>
  Roger Pau Monné <roger.pau@citrix.com>
  Wei Liu <wei.liu2@citrix.com>

jobs:
 coverity-amd64                                               pass    


------------------------------------------------------------
sg-report-flight on osstest.test-lab.xenproject.org
logs: /home/logs/logs
images: /home/logs/images

Logs, config files, etc. are available at
    http://logs.test-lab.xenproject.org/osstest/logs

Explanation of these reports, and of osstest in general, is at
    http://xenbits.xen.org/gitweb/?p=osstest.git;a=blob;f=README.email;hb=master
    http://xenbits.xen.org/gitweb/?p=osstest.git;a=blob;f=README;hb=master

Test harness code can be found at
    http://xenbits.xen.org/gitweb?p=osstest.git;a=summary


Pushing revision :

To xenbits.xen.org:/home/xen/git/xen.git
   2ddfae51d8..f5d10dc290  f5d10dc2909c84e4ffc7240e542c513ed480aa04 -> coverity-tested/smoke

_______________________________________________
Xen-devel mailing list
Xen-devel@lists.xenproject.org
https://lists.xenproject.org/mailman/listinfo/xen-devel

^ permalink raw reply	[flat|nested] only message in thread

only message in thread, other threads:[~2018-07-11 10:35 UTC | newest]

Thread overview: (only message) (download: mbox.gz follow: Atom feed
-- links below jump to the message on this page --
2018-07-11 10:35 [xen-unstable-coverity test] 125103: all pass - PUSHED osstest service owner

This is a public inbox, see mirroring instructions
for how to clone and mirror all data and code used for this inbox;
as well as URLs for NNTP newsgroup(s).