xen-devel.lists.xenproject.org archive mirror
 help / color / mirror / Atom feed
From: osstest service owner <osstest-admin@xenproject.org>
To: xen-devel@lists.xenproject.org, osstest-admin@xenproject.org,
	royger@FreeBSD.org
Subject: [freebsd-master test] 125104: all pass - PUSHED
Date: Wed, 11 Jul 2018 13:16:15 +0000	[thread overview]
Message-ID: <osstest-125104-mainreport@xen.org> (raw)

flight 125104 freebsd-master real [real]
http://logs.test-lab.xenproject.org/osstest/logs/125104/

Perfect :-)
All tests in this flight passed as required
version targeted for testing:
 freebsd              784d607328d1205ced136be9f87c76ee51bcac5e
baseline version:
 freebsd              22dad49e0cc4b54f18127cf74d71dd8967458ac8

Last test of basis   125060  2018-07-09 09:19:03 Z    2 days
Testing same since   125104  2018-07-11 09:18:44 Z    0 days    1 attempts

------------------------------------------------------------
People who touched revisions under test:
  ae <ae@FreeBSD.org>
  alc <alc@FreeBSD.org>
  araujo <araujo@FreeBSD.org>
  bdrewery <bdrewery@FreeBSD.org>
  brooks <brooks@FreeBSD.org>
  bwidawsk <bwidawsk@FreeBSD.org>
  cy <cy@FreeBSD.org>
  dab <dab@FreeBSD.org>
  daichi <daichi@FreeBSD.org>
  delphij <delphij@FreeBSD.org>
  garga <garga@FreeBSD.org>
  gonzo <gonzo@FreeBSD.org>
  ian <ian@FreeBSD.org>
  imp <imp@FreeBSD.org>
  jhibbits <jhibbits@FreeBSD.org>
  kevans <kevans@FreeBSD.org>
  kib <kib@FreeBSD.org>
  manu <manu@FreeBSD.org>
  markj <markj@FreeBSD.org>
  np <np@FreeBSD.org>
  pfg <pfg@FreeBSD.org>
  rmacklem <rmacklem@FreeBSD.org>
  sef <sef@FreeBSD.org>
  smh <smh@FreeBSD.org>
  tuexen <tuexen@FreeBSD.org>
  wma <wma@FreeBSD.org>

jobs:
 build-amd64-freebsd-again                                    pass    
 build-amd64-freebsd                                          pass    


------------------------------------------------------------
sg-report-flight on osstest.test-lab.xenproject.org
logs: /home/logs/logs
images: /home/logs/images

Logs, config files, etc. are available at
    http://logs.test-lab.xenproject.org/osstest/logs

Explanation of these reports, and of osstest in general, is at
    http://xenbits.xen.org/gitweb/?p=osstest.git;a=blob;f=README.email;hb=master
    http://xenbits.xen.org/gitweb/?p=osstest.git;a=blob;f=README;hb=master

Test harness code can be found at
    http://xenbits.xen.org/gitweb?p=osstest.git;a=summary


Pushing revision :

To xenbits.xen.org:/home/xen/git/freebsd.git
   22dad49e0cc..784d607328d  784d607328d1205ced136be9f87c76ee51bcac5e -> tested/master

_______________________________________________
Xen-devel mailing list
Xen-devel@lists.xenproject.org
https://lists.xenproject.org/mailman/listinfo/xen-devel

                 reply	other threads:[~2018-07-11 13:16 UTC|newest]

Thread overview: [no followups] expand[flat|nested]  mbox.gz  Atom feed

Reply instructions:

You may reply publicly to this message via plain-text email
using any one of the following methods:

* Save the following mbox file, import it into your mail client,
  and reply-to-all from there: mbox

  Avoid top-posting and favor interleaved quoting:
  https://en.wikipedia.org/wiki/Posting_style#Interleaved_style

* Reply using the --to, --cc, and --in-reply-to
  switches of git-send-email(1):

  git send-email \
    --in-reply-to=osstest-125104-mainreport@xen.org \
    --to=osstest-admin@xenproject.org \
    --cc=royger@FreeBSD.org \
    --cc=xen-devel@lists.xenproject.org \
    /path/to/YOUR_REPLY

  https://kernel.org/pub/software/scm/git/docs/git-send-email.html

* If your mail client supports setting the In-Reply-To header
  via mailto: links, try the mailto: link
Be sure your reply has a Subject: header at the top and a blank line before the message body.
This is a public inbox, see mirroring instructions
for how to clone and mirror all data and code used for this inbox;
as well as URLs for NNTP newsgroup(s).