* [ovmf test] 125120: all pass - PUSHED
@ 2018-07-12 5:05 osstest service owner
0 siblings, 0 replies; only message in thread
From: osstest service owner @ 2018-07-12 5:05 UTC (permalink / raw)
To: xen-devel, osstest-admin
flight 125120 ovmf real [real]
http://logs.test-lab.xenproject.org/osstest/logs/125120/
Perfect :-)
All tests in this flight passed as required
version targeted for testing:
ovmf 895b87e38015e0698c6a5c0633e0156b038a56f1
baseline version:
ovmf c6a14de3ef30291918f3b15436cf6a75db413eea
Last test of basis 125105 2018-07-11 09:40:42 Z 0 days
Testing same since 125119 2018-07-12 00:40:43 Z 0 days 2 attempts
------------------------------------------------------------
People who touched revisions under test:
Gary Lin <glin@suse.com>
Jiaxin Wu <Jiaxin.wu@intel.com>
Wu Jiaxin <jiaxin.wu@intel.com>
jobs:
build-amd64-xsm pass
build-i386-xsm pass
build-amd64 pass
build-i386 pass
build-amd64-libvirt pass
build-i386-libvirt pass
build-amd64-pvops pass
build-i386-pvops pass
test-amd64-amd64-xl-qemuu-ovmf-amd64 pass
test-amd64-i386-xl-qemuu-ovmf-amd64 pass
------------------------------------------------------------
sg-report-flight on osstest.test-lab.xenproject.org
logs: /home/logs/logs
images: /home/logs/images
Logs, config files, etc. are available at
http://logs.test-lab.xenproject.org/osstest/logs
Explanation of these reports, and of osstest in general, is at
http://xenbits.xen.org/gitweb/?p=osstest.git;a=blob;f=README.email;hb=master
http://xenbits.xen.org/gitweb/?p=osstest.git;a=blob;f=README;hb=master
Test harness code can be found at
http://xenbits.xen.org/gitweb?p=osstest.git;a=summary
Pushing revision :
To xenbits.xen.org:/home/xen/git/osstest/ovmf.git
c6a14de3ef..895b87e380 895b87e38015e0698c6a5c0633e0156b038a56f1 -> xen-tested-master
_______________________________________________
Xen-devel mailing list
Xen-devel@lists.xenproject.org
https://lists.xenproject.org/mailman/listinfo/xen-devel
^ permalink raw reply [flat|nested] only message in thread
only message in thread, other threads:[~2018-07-12 5:05 UTC | newest]
Thread overview: (only message) (download: mbox.gz follow: Atom feed
-- links below jump to the message on this page --
2018-07-12 5:05 [ovmf test] 125120: all pass - PUSHED osstest service owner
This is a public inbox, see mirroring instructions
for how to clone and mirror all data and code used for this inbox;
as well as URLs for NNTP newsgroup(s).