* [ovmf test] 125643: all pass - PUSHED
@ 2018-07-28 10:38 osstest service owner
0 siblings, 0 replies; only message in thread
From: osstest service owner @ 2018-07-28 10:38 UTC (permalink / raw)
To: xen-devel, osstest-admin
flight 125643 ovmf real [real]
http://logs.test-lab.xenproject.org/osstest/logs/125643/
Perfect :-)
All tests in this flight passed as required
version targeted for testing:
ovmf 69e259e5e9877de181d81bb424b6fe16804c7580
baseline version:
ovmf 8d7aef3d1e57ea494ba9ca3c2fbbb44efffed676
Last test of basis 125625 2018-07-27 10:10:46 Z 1 days
Testing same since 125643 2018-07-28 06:10:44 Z 0 days 1 attempts
------------------------------------------------------------
People who touched revisions under test:
Zhang, Chao B <chao.b.zhang@intel.com>
jobs:
build-amd64-xsm pass
build-i386-xsm pass
build-amd64 pass
build-i386 pass
build-amd64-libvirt pass
build-i386-libvirt pass
build-amd64-pvops pass
build-i386-pvops pass
test-amd64-amd64-xl-qemuu-ovmf-amd64 pass
test-amd64-i386-xl-qemuu-ovmf-amd64 pass
------------------------------------------------------------
sg-report-flight on osstest.test-lab.xenproject.org
logs: /home/logs/logs
images: /home/logs/images
Logs, config files, etc. are available at
http://logs.test-lab.xenproject.org/osstest/logs
Explanation of these reports, and of osstest in general, is at
http://xenbits.xen.org/gitweb/?p=osstest.git;a=blob;f=README.email;hb=master
http://xenbits.xen.org/gitweb/?p=osstest.git;a=blob;f=README;hb=master
Test harness code can be found at
http://xenbits.xen.org/gitweb?p=osstest.git;a=summary
Pushing revision :
To xenbits.xen.org:/home/xen/git/osstest/ovmf.git
8d7aef3d1e..69e259e5e9 69e259e5e9877de181d81bb424b6fe16804c7580 -> xen-tested-master
_______________________________________________
Xen-devel mailing list
Xen-devel@lists.xenproject.org
https://lists.xenproject.org/mailman/listinfo/xen-devel
^ permalink raw reply [flat|nested] only message in thread
only message in thread, other threads:[~2018-07-28 10:38 UTC | newest]
Thread overview: (only message) (download: mbox.gz follow: Atom feed
-- links below jump to the message on this page --
2018-07-28 10:38 [ovmf test] 125643: all pass - PUSHED osstest service owner
This is a public inbox, see mirroring instructions
for how to clone and mirror all data and code used for this inbox;
as well as URLs for NNTP newsgroup(s).