xen-devel.lists.xenproject.org archive mirror
 help / color / mirror / Atom feed
* [xen-unstable-coverity test] 125651: all pass - PUSHED
@ 2018-07-29 10:01 osstest service owner
  0 siblings, 0 replies; only message in thread
From: osstest service owner @ 2018-07-29 10:01 UTC (permalink / raw)
  To: xen-devel, osstest-admin

flight 125651 xen-unstable-coverity real [real]
http://logs.test-lab.xenproject.org/osstest/logs/125651/

Perfect :-)
All tests in this flight passed as required
version targeted for testing:
 xen                  acd00a303378ce48bd6bbd8a579f1fe2f1b21a7d
baseline version:
 xen                  173c7803592065d27bf2e60d50e08e197a0efa83

Last test of basis   125568  2018-07-25 09:18:49 Z    4 days
Testing same since   125651  2018-07-29 09:18:52 Z    0 days    1 attempts

------------------------------------------------------------
People who touched revisions under test:
  Anthony PERARD <anthony.perard@citrix.com>
  Doug Goldstein <cardoe@cardoe.com>
  Ian Jackson <ian.jackson@eu.citrix.com>
  Juergen Gross <jgross@suse.com>
  Oleksandr Grytsov <oleksandr_grytsov@epam.com>
  Roger Pau Monne <roger.pau@citrix.com>
  Roger Pau Monné <roger.pau@citrix.com>
  Wei Liu <wei.liu2@citrix.com>

jobs:
 coverity-amd64                                               pass    


------------------------------------------------------------
sg-report-flight on osstest.test-lab.xenproject.org
logs: /home/logs/logs
images: /home/logs/images

Logs, config files, etc. are available at
    http://logs.test-lab.xenproject.org/osstest/logs

Explanation of these reports, and of osstest in general, is at
    http://xenbits.xen.org/gitweb/?p=osstest.git;a=blob;f=README.email;hb=master
    http://xenbits.xen.org/gitweb/?p=osstest.git;a=blob;f=README;hb=master

Test harness code can be found at
    http://xenbits.xen.org/gitweb?p=osstest.git;a=summary


Pushing revision :

To xenbits.xen.org:/home/xen/git/xen.git
   173c780359..acd00a3033  acd00a303378ce48bd6bbd8a579f1fe2f1b21a7d -> coverity-tested/smoke

_______________________________________________
Xen-devel mailing list
Xen-devel@lists.xenproject.org
https://lists.xenproject.org/mailman/listinfo/xen-devel

^ permalink raw reply	[flat|nested] only message in thread

only message in thread, other threads:[~2018-07-29 10:01 UTC | newest]

Thread overview: (only message) (download: mbox.gz follow: Atom feed
-- links below jump to the message on this page --
2018-07-29 10:01 [xen-unstable-coverity test] 125651: all pass - PUSHED osstest service owner

This is a public inbox, see mirroring instructions
for how to clone and mirror all data and code used for this inbox;
as well as URLs for NNTP newsgroup(s).