* [ovmf test] 125758: all pass - PUSHED
@ 2018-08-06 6:31 osstest service owner
0 siblings, 0 replies; only message in thread
From: osstest service owner @ 2018-08-06 6:31 UTC (permalink / raw)
To: xen-devel, osstest-admin
flight 125758 ovmf real [real]
http://logs.test-lab.xenproject.org/osstest/logs/125758/
Perfect :-)
All tests in this flight passed as required
version targeted for testing:
ovmf cd3a42640acdb4f5ac14ac19f22ede002124920c
baseline version:
ovmf 81038d50c9c9bbe5756d6ba172d692d0c7b58a62
Last test of basis 125757 2018-08-06 02:40:38 Z 0 days
Testing same since 125758 2018-08-06 04:40:40 Z 0 days 1 attempts
------------------------------------------------------------
People who touched revisions under test:
Kinney, Michael D </o=Intel/ou=Americas01/cn=Workers/cn=Kinney, Michael D>
Michael D Kinney <michael.d.kinney@intel.com>
jobs:
build-amd64-xsm pass
build-i386-xsm pass
build-amd64 pass
build-i386 pass
build-amd64-libvirt pass
build-i386-libvirt pass
build-amd64-pvops pass
build-i386-pvops pass
test-amd64-amd64-xl-qemuu-ovmf-amd64 pass
test-amd64-i386-xl-qemuu-ovmf-amd64 pass
------------------------------------------------------------
sg-report-flight on osstest.test-lab.xenproject.org
logs: /home/logs/logs
images: /home/logs/images
Logs, config files, etc. are available at
http://logs.test-lab.xenproject.org/osstest/logs
Explanation of these reports, and of osstest in general, is at
http://xenbits.xen.org/gitweb/?p=osstest.git;a=blob;f=README.email;hb=master
http://xenbits.xen.org/gitweb/?p=osstest.git;a=blob;f=README;hb=master
Test harness code can be found at
http://xenbits.xen.org/gitweb?p=osstest.git;a=summary
Pushing revision :
To xenbits.xen.org:/home/xen/git/osstest/ovmf.git
81038d50c9..cd3a42640a cd3a42640acdb4f5ac14ac19f22ede002124920c -> xen-tested-master
_______________________________________________
Xen-devel mailing list
Xen-devel@lists.xenproject.org
https://lists.xenproject.org/mailman/listinfo/xen-devel
^ permalink raw reply [flat|nested] only message in thread
only message in thread, other threads:[~2018-08-06 6:31 UTC | newest]
Thread overview: (only message) (download: mbox.gz follow: Atom feed
-- links below jump to the message on this page --
2018-08-06 6:31 [ovmf test] 125758: all pass - PUSHED osstest service owner
This is a public inbox, see mirroring instructions
for how to clone and mirror all data and code used for this inbox;
as well as URLs for NNTP newsgroup(s).