xen-devel.lists.xenproject.org archive mirror
 help / color / mirror / Atom feed
* [xen-unstable-coverity test] 125916: all pass - PUSHED
@ 2018-08-15 10:11 osstest service owner
  0 siblings, 0 replies; only message in thread
From: osstest service owner @ 2018-08-15 10:11 UTC (permalink / raw)
  To: xen-devel, osstest-admin

flight 125916 xen-unstable-coverity real [real]
http://logs.test-lab.xenproject.org/osstest/logs/125916/

Perfect :-)
All tests in this flight passed as required
version targeted for testing:
 xen                  aa67b97ed34279c43a43d9ca46727b5746caa92e
baseline version:
 xen                  ed5f8d9ca47e69e30221c37ec812f2b38af19d83

Last test of basis   125756  2018-08-05 09:18:24 Z   10 days
Testing same since   125916  2018-08-15 09:19:04 Z    0 days    1 attempts

------------------------------------------------------------
People who touched revisions under test:
  Alexandru Isaila <aisaila@bitdefender.com>
  Andrew Cooper <andrew.cooper3@citrix.com>
  Christian Lindig <christian.lindig@citrix.com>
  Doug Goldstein <cardoe@cardoe.com>
  George Dunlap <george.dunlap@citrix.com>
  Jan Beulich <jbeulich@suse.com>
  Juergen Gross <jgross@suse.com>
  Julien Grall <julien.grall@arm.com>
  Kevin Tian <kevin.tian@intel.com>
  Marek Marczykowski-Górecki <marmarek@invisiblethingslab.com>
  Paul Durrant <paul.durrant@citrix.com>
  Razvan Cojocaru <rcojocaru@bitdefender.com>
  Roger Pau Monné <roger.pau@citrix.com>
  Stefano Stabellini <sstabellini@kernel.org>
  Wei Liu <wei.liu2@citrix.com>

jobs:
 coverity-amd64                                               pass    


------------------------------------------------------------
sg-report-flight on osstest.test-lab.xenproject.org
logs: /home/logs/logs
images: /home/logs/images

Logs, config files, etc. are available at
    http://logs.test-lab.xenproject.org/osstest/logs

Explanation of these reports, and of osstest in general, is at
    http://xenbits.xen.org/gitweb/?p=osstest.git;a=blob;f=README.email;hb=master
    http://xenbits.xen.org/gitweb/?p=osstest.git;a=blob;f=README;hb=master

Test harness code can be found at
    http://xenbits.xen.org/gitweb?p=osstest.git;a=summary


Pushing revision :

To xenbits.xen.org:/home/xen/git/xen.git
   ed5f8d9ca4..aa67b97ed3  aa67b97ed34279c43a43d9ca46727b5746caa92e -> coverity-tested/smoke

_______________________________________________
Xen-devel mailing list
Xen-devel@lists.xenproject.org
https://lists.xenproject.org/mailman/listinfo/xen-devel

^ permalink raw reply	[flat|nested] only message in thread

only message in thread, other threads:[~2018-08-15 10:11 UTC | newest]

Thread overview: (only message) (download: mbox.gz follow: Atom feed
-- links below jump to the message on this page --
2018-08-15 10:11 [xen-unstable-coverity test] 125916: all pass - PUSHED osstest service owner

This is a public inbox, see mirroring instructions
for how to clone and mirror all data and code used for this inbox;
as well as URLs for NNTP newsgroup(s).