* [ovmf test] 125966: all pass - PUSHED
@ 2018-08-17 17:46 osstest service owner
0 siblings, 0 replies; only message in thread
From: osstest service owner @ 2018-08-17 17:46 UTC (permalink / raw)
To: xen-devel, osstest-admin
flight 125966 ovmf real [real]
http://logs.test-lab.xenproject.org/osstest/logs/125966/
Perfect :-)
All tests in this flight passed as required
version targeted for testing:
ovmf 52047be0243074f50fab45650f36ae693c93d1b3
baseline version:
ovmf cb5f4f45ce1fca390b99dae5c42b9c4c8b53deea
Last test of basis 125924 2018-08-15 17:10:53 Z 2 days
Testing same since 125966 2018-08-16 11:44:13 Z 1 days 1 attempts
------------------------------------------------------------
People who touched revisions under test:
Bob Feng <bob.c.feng@intel.com>
Carsey, Jaben </o=Intel/ou=Americas01/cn=Workers/cn=Carsey, Jaben>
Eric Dong <eric.dong@intel.com>
Feng, Bob C <bob.c.feng@intel.com>
hchen30 <hesheng.chen@intel.com>
Hess Chen <hesheng.chen@intel.com>
Jaben Carsey <jaben.carsey@intel.com>
Laszlo Ersek <lersek@redhat.com>
Liming Gao <liming.gao@intel.com>
Ruiyu Ni <ruiyu.ni@intel.com>
Star Zeng <star.zeng@intel.com>
Yonghong Zhu <yonghong.zhu@intel.com>
Yunhua Feng <yunhuax.feng@intel.com>
jobs:
build-amd64-xsm pass
build-i386-xsm pass
build-amd64 pass
build-i386 pass
build-amd64-libvirt pass
build-i386-libvirt pass
build-amd64-pvops pass
build-i386-pvops pass
test-amd64-amd64-xl-qemuu-ovmf-amd64 pass
test-amd64-i386-xl-qemuu-ovmf-amd64 pass
------------------------------------------------------------
sg-report-flight on osstest.test-lab.xenproject.org
logs: /home/logs/logs
images: /home/logs/images
Logs, config files, etc. are available at
http://logs.test-lab.xenproject.org/osstest/logs
Explanation of these reports, and of osstest in general, is at
http://xenbits.xen.org/gitweb/?p=osstest.git;a=blob;f=README.email;hb=master
http://xenbits.xen.org/gitweb/?p=osstest.git;a=blob;f=README;hb=master
Test harness code can be found at
http://xenbits.xen.org/gitweb?p=osstest.git;a=summary
Pushing revision :
To xenbits.xen.org:/home/xen/git/osstest/ovmf.git
cb5f4f45ce..52047be024 52047be0243074f50fab45650f36ae693c93d1b3 -> xen-tested-master
_______________________________________________
Xen-devel mailing list
Xen-devel@lists.xenproject.org
https://lists.xenproject.org/mailman/listinfo/xen-devel
^ permalink raw reply [flat|nested] only message in thread
only message in thread, other threads:[~2018-08-17 17:46 UTC | newest]
Thread overview: (only message) (download: mbox.gz follow: Atom feed
-- links below jump to the message on this page --
2018-08-17 17:46 [ovmf test] 125966: all pass - PUSHED osstest service owner
This is a public inbox, see mirroring instructions
for how to clone and mirror all data and code used for this inbox;
as well as URLs for NNTP newsgroup(s).