* [ovmf test] 126061: all pass - PUSHED
@ 2018-08-18 7:57 osstest service owner
0 siblings, 0 replies; only message in thread
From: osstest service owner @ 2018-08-18 7:57 UTC (permalink / raw)
To: xen-devel, osstest-admin
flight 126061 ovmf real [real]
http://logs.test-lab.xenproject.org/osstest/logs/126061/
Perfect :-)
All tests in this flight passed as required
version targeted for testing:
ovmf f843a328772a30c11162c281adaf2afc1b4a972f
baseline version:
ovmf 52047be0243074f50fab45650f36ae693c93d1b3
Last test of basis 125966 2018-08-16 11:44:13 Z 1 days
Testing same since 126061 2018-08-17 17:47:26 Z 0 days 1 attempts
------------------------------------------------------------
People who touched revisions under test:
Gary Lin <glin@suse.com>
Laszlo Ersek <lersek@redhat.com>
Yonghong Zhu <yonghong.zhu@intel.com>
jobs:
build-amd64-xsm pass
build-i386-xsm pass
build-amd64 pass
build-i386 pass
build-amd64-libvirt pass
build-i386-libvirt pass
build-amd64-pvops pass
build-i386-pvops pass
test-amd64-amd64-xl-qemuu-ovmf-amd64 pass
test-amd64-i386-xl-qemuu-ovmf-amd64 pass
------------------------------------------------------------
sg-report-flight on osstest.test-lab.xenproject.org
logs: /home/logs/logs
images: /home/logs/images
Logs, config files, etc. are available at
http://logs.test-lab.xenproject.org/osstest/logs
Explanation of these reports, and of osstest in general, is at
http://xenbits.xen.org/gitweb/?p=osstest.git;a=blob;f=README.email;hb=master
http://xenbits.xen.org/gitweb/?p=osstest.git;a=blob;f=README;hb=master
Test harness code can be found at
http://xenbits.xen.org/gitweb?p=osstest.git;a=summary
Pushing revision :
To xenbits.xen.org:/home/xen/git/osstest/ovmf.git
52047be024..f843a32877 f843a328772a30c11162c281adaf2afc1b4a972f -> xen-tested-master
_______________________________________________
Xen-devel mailing list
Xen-devel@lists.xenproject.org
https://lists.xenproject.org/mailman/listinfo/xen-devel
^ permalink raw reply [flat|nested] only message in thread
only message in thread, other threads:[~2018-08-18 7:57 UTC | newest]
Thread overview: (only message) (download: mbox.gz follow: Atom feed
-- links below jump to the message on this page --
2018-08-18 7:57 [ovmf test] 126061: all pass - PUSHED osstest service owner
This is a public inbox, see mirroring instructions
for how to clone and mirror all data and code used for this inbox;
as well as URLs for NNTP newsgroup(s).