xen-devel.lists.xenproject.org archive mirror
 help / color / mirror / Atom feed
* [xen-unstable-coverity test] 126197: all pass - PUSHED
@ 2018-08-19 10:30 osstest service owner
  0 siblings, 0 replies; only message in thread
From: osstest service owner @ 2018-08-19 10:30 UTC (permalink / raw)
  To: xen-devel, osstest-admin

flight 126197 xen-unstable-coverity real [real]
http://logs.test-lab.xenproject.org/osstest/logs/126197/

Perfect :-)
All tests in this flight passed as required
version targeted for testing:
 xen                  b8f33431f3dd23fb43a879f4bdb4283fdc9465ad
baseline version:
 xen                  aa67b97ed34279c43a43d9ca46727b5746caa92e

Last test of basis   125916  2018-08-15 09:19:04 Z    4 days
Testing same since   126197  2018-08-19 09:20:34 Z    0 days    1 attempts

------------------------------------------------------------
People who touched revisions under test:
  Andrew Cooper <andrew.cooper3@citrix.com>
  Christian Lindig <christian.lindig@citrix.com>
  Christopher Clark <christopher.clark6@baesystems.com>
  Christopher Clark <christopher.w.clark@gmail.com>
  Daniel De Graaf <dgdegra@tycho.nsa.gov>
  Gopalasetty, Manoj <manoj.gopalasetty@hpe.com>
  Ian Jackson <ian.jackson@eu.citrix.com>
  Jan Beulich <jbeulich@suse.com>
  Julien Grall <julien.grall@arm.com>
  Paul Durrant <paul.durrant@citrix.com>
  Roger Pau Monne <roger.pau@citrix.com>
  Roger Pau Monné <roger.pau@citrix.com>
  Simon Rowe <simon.rowe@eu.citrix.com>
  Stefano Stabellini <sstabellini@kernel.org>
  Stefano Stabellini <stefanos@xilinx.com>
  Wei Liu <wei.liu2@citrix.com>
  Zhenzhong Duan <zhenzhong.duan@oracle.com>

jobs:
 coverity-amd64                                               pass    


------------------------------------------------------------
sg-report-flight on osstest.test-lab.xenproject.org
logs: /home/logs/logs
images: /home/logs/images

Logs, config files, etc. are available at
    http://logs.test-lab.xenproject.org/osstest/logs

Explanation of these reports, and of osstest in general, is at
    http://xenbits.xen.org/gitweb/?p=osstest.git;a=blob;f=README.email;hb=master
    http://xenbits.xen.org/gitweb/?p=osstest.git;a=blob;f=README;hb=master

Test harness code can be found at
    http://xenbits.xen.org/gitweb?p=osstest.git;a=summary


Pushing revision :

To xenbits.xen.org:/home/xen/git/xen.git
   aa67b97ed3..b8f33431f3  b8f33431f3dd23fb43a879f4bdb4283fdc9465ad -> coverity-tested/smoke

_______________________________________________
Xen-devel mailing list
Xen-devel@lists.xenproject.org
https://lists.xenproject.org/mailman/listinfo/xen-devel

^ permalink raw reply	[flat|nested] only message in thread

only message in thread, other threads:[~2018-08-19 10:31 UTC | newest]

Thread overview: (only message) (download: mbox.gz follow: Atom feed
-- links below jump to the message on this page --
2018-08-19 10:30 [xen-unstable-coverity test] 126197: all pass - PUSHED osstest service owner

This is a public inbox, see mirroring instructions
for how to clone and mirror all data and code used for this inbox;
as well as URLs for NNTP newsgroup(s).