* [xen-unstable-coverity test] 126378: all pass - PUSHED
@ 2018-08-22 9:52 osstest service owner
0 siblings, 0 replies; only message in thread
From: osstest service owner @ 2018-08-22 9:52 UTC (permalink / raw)
To: xen-devel, osstest-admin
flight 126378 xen-unstable-coverity real [real]
http://logs.test-lab.xenproject.org/osstest/logs/126378/
Perfect :-)
All tests in this flight passed as required
version targeted for testing:
xen 1385a14bfc09672513cb5bf9baafa881c8d93542
baseline version:
xen b8f33431f3dd23fb43a879f4bdb4283fdc9465ad
Last test of basis 126197 2018-08-19 09:20:34 Z 3 days
Testing same since 126378 2018-08-22 09:19:15 Z 0 days 1 attempts
------------------------------------------------------------
People who touched revisions under test:
Andrew Cooper <andrew.cooper3@citrix.com>
Anthony PERARD <anthony.perard@citrix.com>
Christopher Clark <christopher.clark6@baesystems.com>
Christopher Clark <christopher.w.clark@gmail.com>
Doug Goldstein <cardoe@cardoe.com>
Ian Jackson <ian.jackson@eu.citrix.com>
Jan Beulich <jbeulich@suse.com>
Oleksandr Andrushchenko <oleksandr_andrushchenko@epam.com>
Tim Deegan <tim@xen.org>
Wei Liu <wei.liu2@citrix.com>
jobs:
coverity-amd64 pass
------------------------------------------------------------
sg-report-flight on osstest.test-lab.xenproject.org
logs: /home/logs/logs
images: /home/logs/images
Logs, config files, etc. are available at
http://logs.test-lab.xenproject.org/osstest/logs
Explanation of these reports, and of osstest in general, is at
http://xenbits.xen.org/gitweb/?p=osstest.git;a=blob;f=README.email;hb=master
http://xenbits.xen.org/gitweb/?p=osstest.git;a=blob;f=README;hb=master
Test harness code can be found at
http://xenbits.xen.org/gitweb?p=osstest.git;a=summary
Pushing revision :
To xenbits.xen.org:/home/xen/git/xen.git
b8f33431f3..1385a14bfc 1385a14bfc09672513cb5bf9baafa881c8d93542 -> coverity-tested/smoke
_______________________________________________
Xen-devel mailing list
Xen-devel@lists.xenproject.org
https://lists.xenproject.org/mailman/listinfo/xen-devel
^ permalink raw reply [flat|nested] only message in thread
only message in thread, other threads:[~2018-08-22 9:52 UTC | newest]
Thread overview: (only message) (download: mbox.gz follow: Atom feed
-- links below jump to the message on this page --
2018-08-22 9:52 [xen-unstable-coverity test] 126378: all pass - PUSHED osstest service owner
This is a public inbox, see mirroring instructions
for how to clone and mirror all data and code used for this inbox;
as well as URLs for NNTP newsgroup(s).