* [ovmf test] 126919: all pass - PUSHED
@ 2018-08-29 18:46 osstest service owner
0 siblings, 0 replies; only message in thread
From: osstest service owner @ 2018-08-29 18:46 UTC (permalink / raw)
To: xen-devel, osstest-admin
flight 126919 ovmf real [real]
http://logs.test-lab.xenproject.org/osstest/logs/126919/
Perfect :-)
All tests in this flight passed as required
version targeted for testing:
ovmf 0fa0e56ee002cf369f7f4a1076eac52f813e03f0
baseline version:
ovmf f25cd80e4d823fa6f7d970d9f0ddb935327446ba
Last test of basis 126874 2018-08-28 17:14:43 Z 1 days
Testing same since 126919 2018-08-29 05:34:58 Z 0 days 1 attempts
------------------------------------------------------------
People who touched revisions under test:
Carsey, Jaben <jaben.carsey@intel.com>
Jaben Carsey <jaben.carsey@intel.com>
jobs:
build-amd64-xsm pass
build-i386-xsm pass
build-amd64 pass
build-i386 pass
build-amd64-libvirt pass
build-i386-libvirt pass
build-amd64-pvops pass
build-i386-pvops pass
test-amd64-amd64-xl-qemuu-ovmf-amd64 pass
test-amd64-i386-xl-qemuu-ovmf-amd64 pass
------------------------------------------------------------
sg-report-flight on osstest.test-lab.xenproject.org
logs: /home/logs/logs
images: /home/logs/images
Logs, config files, etc. are available at
http://logs.test-lab.xenproject.org/osstest/logs
Explanation of these reports, and of osstest in general, is at
http://xenbits.xen.org/gitweb/?p=osstest.git;a=blob;f=README.email;hb=master
http://xenbits.xen.org/gitweb/?p=osstest.git;a=blob;f=README;hb=master
Test harness code can be found at
http://xenbits.xen.org/gitweb?p=osstest.git;a=summary
Pushing revision :
To xenbits.xen.org:/home/xen/git/osstest/ovmf.git
f25cd80e4d..0fa0e56ee0 0fa0e56ee002cf369f7f4a1076eac52f813e03f0 -> xen-tested-master
_______________________________________________
Xen-devel mailing list
Xen-devel@lists.xenproject.org
https://lists.xenproject.org/mailman/listinfo/xen-devel
^ permalink raw reply [flat|nested] only message in thread
only message in thread, other threads:[~2018-08-29 18:46 UTC | newest]
Thread overview: (only message) (download: mbox.gz follow: Atom feed
-- links below jump to the message on this page --
2018-08-29 18:46 [ovmf test] 126919: all pass - PUSHED osstest service owner
This is a public inbox, see mirroring instructions
for how to clone and mirror all data and code used for this inbox;
as well as URLs for NNTP newsgroup(s).