xen-devel.lists.xenproject.org archive mirror
 help / color / mirror / Atom feed
* [xen-unstable-coverity test] 126934: all pass - PUSHED
@ 2018-08-29 10:09 osstest service owner
  0 siblings, 0 replies; only message in thread
From: osstest service owner @ 2018-08-29 10:09 UTC (permalink / raw)
  To: xen-devel, osstest-admin

flight 126934 xen-unstable-coverity real [real]
http://logs.test-lab.xenproject.org/osstest/logs/126934/

Perfect :-)
All tests in this flight passed as required
version targeted for testing:
 xen                  b28cd21c36288a01ae61ed4f557802abc8ee03e4
baseline version:
 xen                  a923919797c39d51ea0b808ea691bed20fe8e072

Last test of basis   126689  2018-08-26 09:18:27 Z    3 days
Testing same since   126934  2018-08-29 09:22:48 Z    0 days    1 attempts

------------------------------------------------------------
People who touched revisions under test:
  Andrew Cooper <andrew.cooper3@citrix.com>
  Daniel De Graaf <dgdegra@tycho.nsa.gov>
  Doug Goldstein <cardoe@cardoe.com>
  Gopalasetty, Manoj <manoj.gopalasetty@hpe.com>
  Ian Jackson <ian.jackson@eu.citrix.com>
  Jan Beulich <jbeulich@suse.com>
  Julien Grall <julien.grall@arm.com>
  Kevin Tian <kevin.tian@intel.com>
  Paul Durrant <paul.durrant@citrix.com>
  Razvan Cojocaru <rcojocaru@bitdefender.com>
  Wei Liu <wei.liu2@citrix.com>
  Zhenzhong Duan <zhenzhong.duan@oracle.com>

jobs:
 coverity-amd64                                               pass    


------------------------------------------------------------
sg-report-flight on osstest.test-lab.xenproject.org
logs: /home/logs/logs
images: /home/logs/images

Logs, config files, etc. are available at
    http://logs.test-lab.xenproject.org/osstest/logs

Explanation of these reports, and of osstest in general, is at
    http://xenbits.xen.org/gitweb/?p=osstest.git;a=blob;f=README.email;hb=master
    http://xenbits.xen.org/gitweb/?p=osstest.git;a=blob;f=README;hb=master

Test harness code can be found at
    http://xenbits.xen.org/gitweb?p=osstest.git;a=summary


Pushing revision :

To xenbits.xen.org:/home/xen/git/xen.git
   a923919797..b28cd21c36  b28cd21c36288a01ae61ed4f557802abc8ee03e4 -> coverity-tested/smoke

_______________________________________________
Xen-devel mailing list
Xen-devel@lists.xenproject.org
https://lists.xenproject.org/mailman/listinfo/xen-devel

^ permalink raw reply	[flat|nested] only message in thread

only message in thread, other threads:[~2018-08-29 10:09 UTC | newest]

Thread overview: (only message) (download: mbox.gz follow: Atom feed
-- links below jump to the message on this page --
2018-08-29 10:09 [xen-unstable-coverity test] 126934: all pass - PUSHED osstest service owner

This is a public inbox, see mirroring instructions
for how to clone and mirror all data and code used for this inbox;
as well as URLs for NNTP newsgroup(s).