* [ovmf test] 126988: all pass - PUSHED
@ 2018-08-31 0:17 osstest service owner
0 siblings, 0 replies; only message in thread
From: osstest service owner @ 2018-08-31 0:17 UTC (permalink / raw)
To: xen-devel, osstest-admin
flight 126988 ovmf real [real]
http://logs.test-lab.xenproject.org/osstest/logs/126988/
Perfect :-)
All tests in this flight passed as required
version targeted for testing:
ovmf 36faa23c46824e3cf9beff8648a56816cbf58f49
baseline version:
ovmf 497a5fb1d8f834e1bc84d3496d7f2228bf99f7df
Last test of basis 126959 2018-08-29 19:12:34 Z 1 days
Testing same since 126988 2018-08-30 09:11:30 Z 0 days 1 attempts
------------------------------------------------------------
People who touched revisions under test:
Carsey, Jaben <jaben.carsey@intel.com>
Dandan Bi <dandan.bi@intel.com>
Jaben Carsey <jaben.carsey@intel.com>
Jian J Wang <jian.j.wang@intel.com>
Laszlo Ersek <lersek@redhat.com>
Ruiyu Ni <ruiyu.ni@intel.com>
shenglei <shenglei.zhang@intel.com>
Star Zeng <star.zeng@intel.com>
jobs:
build-amd64-xsm pass
build-i386-xsm pass
build-amd64 pass
build-i386 pass
build-amd64-libvirt pass
build-i386-libvirt pass
build-amd64-pvops pass
build-i386-pvops pass
test-amd64-amd64-xl-qemuu-ovmf-amd64 pass
test-amd64-i386-xl-qemuu-ovmf-amd64 pass
------------------------------------------------------------
sg-report-flight on osstest.test-lab.xenproject.org
logs: /home/logs/logs
images: /home/logs/images
Logs, config files, etc. are available at
http://logs.test-lab.xenproject.org/osstest/logs
Explanation of these reports, and of osstest in general, is at
http://xenbits.xen.org/gitweb/?p=osstest.git;a=blob;f=README.email;hb=master
http://xenbits.xen.org/gitweb/?p=osstest.git;a=blob;f=README;hb=master
Test harness code can be found at
http://xenbits.xen.org/gitweb?p=osstest.git;a=summary
Pushing revision :
To xenbits.xen.org:/home/xen/git/osstest/ovmf.git
497a5fb1d8..36faa23c46 36faa23c46824e3cf9beff8648a56816cbf58f49 -> xen-tested-master
_______________________________________________
Xen-devel mailing list
Xen-devel@lists.xenproject.org
https://lists.xenproject.org/mailman/listinfo/xen-devel
^ permalink raw reply [flat|nested] only message in thread
only message in thread, other threads:[~2018-08-31 0:17 UTC | newest]
Thread overview: (only message) (download: mbox.gz follow: Atom feed
-- links below jump to the message on this page --
2018-08-31 0:17 [ovmf test] 126988: all pass - PUSHED osstest service owner
This is a public inbox, see mirroring instructions
for how to clone and mirror all data and code used for this inbox;
as well as URLs for NNTP newsgroup(s).