xen-devel.lists.xenproject.org archive mirror
 help / color / mirror / Atom feed
* [freebsd-master test] 127033: all pass - PUSHED
@ 2018-08-31 18:27 osstest service owner
  0 siblings, 0 replies; only message in thread
From: osstest service owner @ 2018-08-31 18:27 UTC (permalink / raw)
  To: xen-devel, osstest-admin, royger

flight 127033 freebsd-master real [real]
http://logs.test-lab.xenproject.org/osstest/logs/127033/

Perfect :-)
All tests in this flight passed as required
version targeted for testing:
 freebsd              8846b8448acb98ba31b203ac6c2ad45be2b96ad9
baseline version:
 freebsd              382458ed568f4213f38d121feedf23e44254eab7

Last test of basis   126935  2018-08-29 09:23:47 Z    2 days
Testing same since   127033  2018-08-31 09:19:38 Z    0 days    1 attempts

------------------------------------------------------------
People who touched revisions under test:
  brd <brd@FreeBSD.org>
  gjb <gjb@FreeBSD.org>
  imp <imp@FreeBSD.org>
  kevans <kevans@FreeBSD.org>
  kib <kib@FreeBSD.org>
  manu <manu@FreeBSD.org>
  markj <markj@FreeBSD.org>
  shurd <shurd@FreeBSD.org>

jobs:
 build-amd64-freebsd-again                                    pass    
 build-amd64-freebsd                                          pass    
 build-amd64-xen-freebsd                                      pass    


------------------------------------------------------------
sg-report-flight on osstest.test-lab.xenproject.org
logs: /home/logs/logs
images: /home/logs/images

Logs, config files, etc. are available at
    http://logs.test-lab.xenproject.org/osstest/logs

Explanation of these reports, and of osstest in general, is at
    http://xenbits.xen.org/gitweb/?p=osstest.git;a=blob;f=README.email;hb=master
    http://xenbits.xen.org/gitweb/?p=osstest.git;a=blob;f=README;hb=master

Test harness code can be found at
    http://xenbits.xen.org/gitweb?p=osstest.git;a=summary


Pushing revision :

To xenbits.xen.org:/home/xen/git/freebsd.git
   382458ed568..8846b8448ac  8846b8448acb98ba31b203ac6c2ad45be2b96ad9 -> tested/master

_______________________________________________
Xen-devel mailing list
Xen-devel@lists.xenproject.org
https://lists.xenproject.org/mailman/listinfo/xen-devel

^ permalink raw reply	[flat|nested] only message in thread

only message in thread, other threads:[~2018-08-31 18:28 UTC | newest]

Thread overview: (only message) (download: mbox.gz follow: Atom feed
-- links below jump to the message on this page --
2018-08-31 18:27 [freebsd-master test] 127033: all pass - PUSHED osstest service owner

This is a public inbox, see mirroring instructions
for how to clone and mirror all data and code used for this inbox;
as well as URLs for NNTP newsgroup(s).