xen-devel.lists.xenproject.org archive mirror
 help / color / mirror / Atom feed
* [xen-unstable-coverity test] 127146: all pass - PUSHED
@ 2018-09-02  9:45 osstest service owner
  0 siblings, 0 replies; only message in thread
From: osstest service owner @ 2018-09-02  9:45 UTC (permalink / raw)
  To: xen-devel, osstest-admin

flight 127146 xen-unstable-coverity real [real]
http://logs.test-lab.xenproject.org/osstest/logs/127146/

Perfect :-)
All tests in this flight passed as required
version targeted for testing:
 xen                  f04955e18502035121776f6e09d83ae5a36c773c
baseline version:
 xen                  b28cd21c36288a01ae61ed4f557802abc8ee03e4

Last test of basis   126934  2018-08-29 09:22:48 Z    4 days
Testing same since   127146  2018-09-02 09:18:25 Z    0 days    1 attempts

------------------------------------------------------------
People who touched revisions under test:
  Andrew Cooper <andrew.cooper3@citrix.com>
  Jan Beulich <jbeulich@suse.com>
  Julien Grall <julien.grall@arm.com>
  Kevin Tian <kevin.tian@intel.com>
  Stefano Stabellini <sstabellini@kernel.org>
  Stefano Stabellini <stefanos@xilinx.com>
  Wei Liu <wei.liu2@citrix.com>
  Zhenzhong Duan <zhenzhong.duan@oracle.com>

jobs:
 coverity-amd64                                               pass    


------------------------------------------------------------
sg-report-flight on osstest.test-lab.xenproject.org
logs: /home/logs/logs
images: /home/logs/images

Logs, config files, etc. are available at
    http://logs.test-lab.xenproject.org/osstest/logs

Explanation of these reports, and of osstest in general, is at
    http://xenbits.xen.org/gitweb/?p=osstest.git;a=blob;f=README.email;hb=master
    http://xenbits.xen.org/gitweb/?p=osstest.git;a=blob;f=README;hb=master

Test harness code can be found at
    http://xenbits.xen.org/gitweb?p=osstest.git;a=summary


Pushing revision :

To xenbits.xen.org:/home/xen/git/xen.git
   b28cd21c36..f04955e185  f04955e18502035121776f6e09d83ae5a36c773c -> coverity-tested/smoke

_______________________________________________
Xen-devel mailing list
Xen-devel@lists.xenproject.org
https://lists.xenproject.org/mailman/listinfo/xen-devel

^ permalink raw reply	[flat|nested] only message in thread

only message in thread, other threads:[~2018-09-02  9:45 UTC | newest]

Thread overview: (only message) (download: mbox.gz follow: Atom feed
-- links below jump to the message on this page --
2018-09-02  9:45 [xen-unstable-coverity test] 127146: all pass - PUSHED osstest service owner

This is a public inbox, see mirroring instructions
for how to clone and mirror all data and code used for this inbox;
as well as URLs for NNTP newsgroup(s).