xen-devel.lists.xenproject.org archive mirror
 help / color / mirror / Atom feed
* [ovmf test] 127190: all pass - PUSHED
@ 2018-09-03  4:43 osstest service owner
  0 siblings, 0 replies; only message in thread
From: osstest service owner @ 2018-09-03  4:43 UTC (permalink / raw)
  To: xen-devel, osstest-admin

flight 127190 ovmf real [real]
http://logs.test-lab.xenproject.org/osstest/logs/127190/

Perfect :-)
All tests in this flight passed as required
version targeted for testing:
 ovmf                 4cf022f2f11fc3cd12ab5dd24e5ae74f541bac48
baseline version:
 ovmf                 b8bcaafb39e8860a1fb672d75bb6f7bbdceb28bd

Last test of basis   127186  2018-09-03 01:10:47 Z    0 days
Testing same since   127190  2018-09-03 02:57:36 Z    0 days    1 attempts

------------------------------------------------------------
People who touched revisions under test:
  Bob Feng <bob.c.feng@intel.com>
  Feng, Bob C <bob.c.feng@intel.com>
  Zhaozh1x <zhiqiangx.zhao@intel.com>
  ZhiqiangX Zhao <zhiqiangx.zhao@intel.com>

jobs:
 build-amd64-xsm                                              pass    
 build-i386-xsm                                               pass    
 build-amd64                                                  pass    
 build-i386                                                   pass    
 build-amd64-libvirt                                          pass    
 build-i386-libvirt                                           pass    
 build-amd64-pvops                                            pass    
 build-i386-pvops                                             pass    
 test-amd64-amd64-xl-qemuu-ovmf-amd64                         pass    
 test-amd64-i386-xl-qemuu-ovmf-amd64                          pass    


------------------------------------------------------------
sg-report-flight on osstest.test-lab.xenproject.org
logs: /home/logs/logs
images: /home/logs/images

Logs, config files, etc. are available at
    http://logs.test-lab.xenproject.org/osstest/logs

Explanation of these reports, and of osstest in general, is at
    http://xenbits.xen.org/gitweb/?p=osstest.git;a=blob;f=README.email;hb=master
    http://xenbits.xen.org/gitweb/?p=osstest.git;a=blob;f=README;hb=master

Test harness code can be found at
    http://xenbits.xen.org/gitweb?p=osstest.git;a=summary


Pushing revision :

To xenbits.xen.org:/home/xen/git/osstest/ovmf.git
   b8bcaafb39..4cf022f2f1  4cf022f2f11fc3cd12ab5dd24e5ae74f541bac48 -> xen-tested-master

_______________________________________________
Xen-devel mailing list
Xen-devel@lists.xenproject.org
https://lists.xenproject.org/mailman/listinfo/xen-devel

^ permalink raw reply	[flat|nested] only message in thread

only message in thread, other threads:[~2018-09-03  4:43 UTC | newest]

Thread overview: (only message) (download: mbox.gz follow: Atom feed
-- links below jump to the message on this page --
2018-09-03  4:43 [ovmf test] 127190: all pass - PUSHED osstest service owner

This is a public inbox, see mirroring instructions
for how to clone and mirror all data and code used for this inbox;
as well as URLs for NNTP newsgroup(s).