xen-devel.lists.xenproject.org archive mirror
 help / color / mirror / Atom feed
* [freebsd-master test] 127373: all pass - PUSHED
@ 2018-09-07 15:18 osstest service owner
  0 siblings, 0 replies; only message in thread
From: osstest service owner @ 2018-09-07 15:18 UTC (permalink / raw)
  To: xen-devel, osstest-admin, royger

flight 127373 freebsd-master real [real]
http://logs.test-lab.xenproject.org/osstest/logs/127373/

Perfect :-)
All tests in this flight passed as required
version targeted for testing:
 freebsd              7b6d891a9f0e73952e081c2c41469cdeba34eea8
baseline version:
 freebsd              8846b8448acb98ba31b203ac6c2ad45be2b96ad9

Last test of basis   127033  2018-08-31 09:19:38 Z    7 days
Failing since        127207  2018-09-03 09:19:06 Z    4 days    3 attempts
Testing same since   127373  2018-09-07 09:18:57 Z    0 days    1 attempts

------------------------------------------------------------
People who touched revisions under test:
  alc <alc@FreeBSD.org>
  andrew <andrew@FreeBSD.org>
  avatar <avatar@FreeBSD.org>
  br <br@FreeBSD.org>
  brd <brd@FreeBSD.org>
  brooks <brooks@FreeBSD.org>
  bwidawsk <bwidawsk@FreeBSD.org>
  bz <bz@FreeBSD.org>
  des <des@FreeBSD.org>
  eugen <eugen@FreeBSD.org>
  gjb <gjb@FreeBSD.org>
  hselasky <hselasky@FreeBSD.org>
  imp <imp@FreeBSD.org>
  jhb <jhb@FreeBSD.org>
  jilles <jilles@FreeBSD.org>
  kbowling <kbowling@FreeBSD.org>
  kevans <kevans@FreeBSD.org>
  kib <kib@FreeBSD.org>
  kp <kp@FreeBSD.org>
  leitao <leitao@FreeBSD.org>
  manu <manu@FreeBSD.org>
  marius <marius@FreeBSD.org>
  markj <markj@FreeBSD.org>
  mav <mav@FreeBSD.org>
  mckusick <mckusick@FreeBSD.org>
  mjg <mjg@FreeBSD.org>
  obrien <obrien@FreeBSD.org>
  rwatson <rwatson@FreeBSD.org>
  shurd <shurd@FreeBSD.org>
  slavash <slavash@FreeBSD.org>
  trasz <trasz@FreeBSD.org>
  wulf <wulf@FreeBSD.org>

jobs:
 build-amd64-freebsd-again                                    pass    
 build-amd64-freebsd                                          pass    
 build-amd64-xen-freebsd                                      pass    


------------------------------------------------------------
sg-report-flight on osstest.test-lab.xenproject.org
logs: /home/logs/logs
images: /home/logs/images

Logs, config files, etc. are available at
    http://logs.test-lab.xenproject.org/osstest/logs

Explanation of these reports, and of osstest in general, is at
    http://xenbits.xen.org/gitweb/?p=osstest.git;a=blob;f=README.email;hb=master
    http://xenbits.xen.org/gitweb/?p=osstest.git;a=blob;f=README;hb=master

Test harness code can be found at
    http://xenbits.xen.org/gitweb?p=osstest.git;a=summary


Pushing revision :

To xenbits.xen.org:/home/xen/git/freebsd.git
   8846b8448ac..7b6d891a9f0  7b6d891a9f0e73952e081c2c41469cdeba34eea8 -> tested/master

_______________________________________________
Xen-devel mailing list
Xen-devel@lists.xenproject.org
https://lists.xenproject.org/mailman/listinfo/xen-devel

^ permalink raw reply	[flat|nested] only message in thread

only message in thread, other threads:[~2018-09-07 15:18 UTC | newest]

Thread overview: (only message) (download: mbox.gz follow: Atom feed
-- links below jump to the message on this page --
2018-09-07 15:18 [freebsd-master test] 127373: all pass - PUSHED osstest service owner

This is a public inbox, see mirroring instructions
for how to clone and mirror all data and code used for this inbox;
as well as URLs for NNTP newsgroup(s).