xen-devel.lists.xenproject.org archive mirror
 help / color / mirror / Atom feed
From: osstest service owner <osstest-admin@xenproject.org>
To: xen-devel@lists.xenproject.org, osstest-admin@xenproject.org
Subject: [xen-unstable-coverity test] 127530: all pass - PUSHED
Date: Wed, 12 Sep 2018 09:49:57 +0000	[thread overview]
Message-ID: <osstest-127530-mainreport@xen.org> (raw)

flight 127530 xen-unstable-coverity real [real]
http://logs.test-lab.xenproject.org/osstest/logs/127530/

Perfect :-)
All tests in this flight passed as required
version targeted for testing:
 xen                  1dfb8e6e0948912d1fd96d6ed9034527c5c74f31
baseline version:
 xen                  1d069e45f7c2f6b2982797dd32092b300bacafad

Last test of basis   127442  2018-09-09 09:18:21 Z    3 days
Testing same since   127530  2018-09-12 09:18:53 Z    0 days    1 attempts

------------------------------------------------------------
People who touched revisions under test:
  Andrew Cooper <andrew.cooper3@citrix.com>
  Andrii Anisov <andrii_anisov@epam.com>
  Daniel De Graaf <dgdegra@tycho.nsa.gov>
  Jan Beulich <jbeulich@suse.com>
  Juergen Gross <jgross@suse.com>
  Julien Grall <julien.grall@arm.com>
  Olaf Hering <olaf@aepfle.de>
  Roger Pau Monné <roger.pau@citrix.com>
  Tim Deegan <tim@xen.org>
  Wei Liu <wei.liu2@citrix.com>

jobs:
 coverity-amd64                                               pass    


------------------------------------------------------------
sg-report-flight on osstest.test-lab.xenproject.org
logs: /home/logs/logs
images: /home/logs/images

Logs, config files, etc. are available at
    http://logs.test-lab.xenproject.org/osstest/logs

Explanation of these reports, and of osstest in general, is at
    http://xenbits.xen.org/gitweb/?p=osstest.git;a=blob;f=README.email;hb=master
    http://xenbits.xen.org/gitweb/?p=osstest.git;a=blob;f=README;hb=master

Test harness code can be found at
    http://xenbits.xen.org/gitweb?p=osstest.git;a=summary


Pushing revision :

To xenbits.xen.org:/home/xen/git/xen.git
   1d069e45f7..1dfb8e6e09  1dfb8e6e0948912d1fd96d6ed9034527c5c74f31 -> coverity-tested/smoke

_______________________________________________
Xen-devel mailing list
Xen-devel@lists.xenproject.org
https://lists.xenproject.org/mailman/listinfo/xen-devel

                 reply	other threads:[~2018-09-12  9:50 UTC|newest]

Thread overview: [no followups] expand[flat|nested]  mbox.gz  Atom feed

Reply instructions:

You may reply publicly to this message via plain-text email
using any one of the following methods:

* Save the following mbox file, import it into your mail client,
  and reply-to-all from there: mbox

  Avoid top-posting and favor interleaved quoting:
  https://en.wikipedia.org/wiki/Posting_style#Interleaved_style

* Reply using the --to, --cc, and --in-reply-to
  switches of git-send-email(1):

  git send-email \
    --in-reply-to=osstest-127530-mainreport@xen.org \
    --to=osstest-admin@xenproject.org \
    --cc=xen-devel@lists.xenproject.org \
    /path/to/YOUR_REPLY

  https://kernel.org/pub/software/scm/git/docs/git-send-email.html

* If your mail client supports setting the In-Reply-To header
  via mailto: links, try the mailto: link
Be sure your reply has a Subject: header at the top and a blank line before the message body.
This is a public inbox, see mirroring instructions
for how to clone and mirror all data and code used for this inbox;
as well as URLs for NNTP newsgroup(s).