* [freebsd-master test] 127532: all pass - PUSHED
@ 2018-09-12 13:40 osstest service owner
0 siblings, 0 replies; only message in thread
From: osstest service owner @ 2018-09-12 13:40 UTC (permalink / raw)
To: xen-devel, osstest-admin, royger
flight 127532 freebsd-master real [real]
http://logs.test-lab.xenproject.org/osstest/logs/127532/
Perfect :-)
All tests in this flight passed as required
version targeted for testing:
freebsd fb9b6e89c258993ee5fbbe0d0fcd444b1b6da413
baseline version:
freebsd 4e22ee3754200e9ce86c4820d484dfeb94041c56
Last test of basis 127475 2018-09-10 09:19:51 Z 2 days
Testing same since 127532 2018-09-12 09:19:18 Z 0 days 1 attempts
------------------------------------------------------------
People who touched revisions under test:
br <br@FreeBSD.org>
des <des@FreeBSD.org>
emaste <emaste@FreeBSD.org>
erj <erj@FreeBSD.org>
gonzo <gonzo@FreeBSD.org>
gordon <gordon@FreeBSD.org>
imp <imp@FreeBSD.org>
manu <manu@FreeBSD.org>
markj <markj@FreeBSD.org>
mjg <mjg@FreeBSD.org>
mm <mm@FreeBSD.org>
trasz <trasz@FreeBSD.org>
woodsb02 <woodsb02@FreeBSD.org>
jobs:
build-amd64-freebsd-again pass
build-amd64-freebsd pass
build-amd64-xen-freebsd pass
------------------------------------------------------------
sg-report-flight on osstest.test-lab.xenproject.org
logs: /home/logs/logs
images: /home/logs/images
Logs, config files, etc. are available at
http://logs.test-lab.xenproject.org/osstest/logs
Explanation of these reports, and of osstest in general, is at
http://xenbits.xen.org/gitweb/?p=osstest.git;a=blob;f=README.email;hb=master
http://xenbits.xen.org/gitweb/?p=osstest.git;a=blob;f=README;hb=master
Test harness code can be found at
http://xenbits.xen.org/gitweb?p=osstest.git;a=summary
Pushing revision :
To xenbits.xen.org:/home/xen/git/freebsd.git
4e22ee37542..fb9b6e89c25 fb9b6e89c258993ee5fbbe0d0fcd444b1b6da413 -> tested/master
_______________________________________________
Xen-devel mailing list
Xen-devel@lists.xenproject.org
https://lists.xenproject.org/mailman/listinfo/xen-devel
^ permalink raw reply [flat|nested] only message in thread
only message in thread, other threads:[~2018-09-12 13:40 UTC | newest]
Thread overview: (only message) (download: mbox.gz follow: Atom feed
-- links below jump to the message on this page --
2018-09-12 13:40 [freebsd-master test] 127532: all pass - PUSHED osstest service owner
This is a public inbox, see mirroring instructions
for how to clone and mirror all data and code used for this inbox;
as well as URLs for NNTP newsgroup(s).