* [ovmf test] 127561: all pass - PUSHED
@ 2018-09-13 8:57 osstest service owner
0 siblings, 0 replies; only message in thread
From: osstest service owner @ 2018-09-13 8:57 UTC (permalink / raw)
To: xen-devel, osstest-admin
flight 127561 ovmf real [real]
http://logs.test-lab.xenproject.org/osstest/logs/127561/
Perfect :-)
All tests in this flight passed as required
version targeted for testing:
ovmf 52664c525223a36e5cb9b141b11dec413908b1dd
baseline version:
ovmf 7c41b8135de692ea45334747b73936ea6804622f
Last test of basis 127554 2018-09-13 01:40:44 Z 0 days
Testing same since 127561 2018-09-13 05:40:46 Z 0 days 1 attempts
------------------------------------------------------------
People who touched revisions under test:
Chen A Chen <chen.a.chen@intel.com>
jobs:
build-amd64-xsm pass
build-i386-xsm pass
build-amd64 pass
build-i386 pass
build-amd64-libvirt pass
build-i386-libvirt pass
build-amd64-pvops pass
build-i386-pvops pass
test-amd64-amd64-xl-qemuu-ovmf-amd64 pass
test-amd64-i386-xl-qemuu-ovmf-amd64 pass
------------------------------------------------------------
sg-report-flight on osstest.test-lab.xenproject.org
logs: /home/logs/logs
images: /home/logs/images
Logs, config files, etc. are available at
http://logs.test-lab.xenproject.org/osstest/logs
Explanation of these reports, and of osstest in general, is at
http://xenbits.xen.org/gitweb/?p=osstest.git;a=blob;f=README.email;hb=master
http://xenbits.xen.org/gitweb/?p=osstest.git;a=blob;f=README;hb=master
Test harness code can be found at
http://xenbits.xen.org/gitweb?p=osstest.git;a=summary
Pushing revision :
To xenbits.xen.org:/home/xen/git/osstest/ovmf.git
7c41b8135d..52664c5252 52664c525223a36e5cb9b141b11dec413908b1dd -> xen-tested-master
_______________________________________________
Xen-devel mailing list
Xen-devel@lists.xenproject.org
https://lists.xenproject.org/mailman/listinfo/xen-devel
^ permalink raw reply [flat|nested] only message in thread
only message in thread, other threads:[~2018-09-13 8:57 UTC | newest]
Thread overview: (only message) (download: mbox.gz follow: Atom feed
-- links below jump to the message on this page --
2018-09-13 8:57 [ovmf test] 127561: all pass - PUSHED osstest service owner
This is a public inbox, see mirroring instructions
for how to clone and mirror all data and code used for this inbox;
as well as URLs for NNTP newsgroup(s).