From: osstest service owner <osstest-admin@xenproject.org>
To: xen-devel@lists.xenproject.org, osstest-admin@xenproject.org,
royger@FreeBSD.org
Subject: [freebsd-master test] 127599: all pass - PUSHED
Date: Fri, 14 Sep 2018 18:02:22 +0000 [thread overview]
Message-ID: <osstest-127599-mainreport@xen.org> (raw)
flight 127599 freebsd-master real [real]
http://logs.test-lab.xenproject.org/osstest/logs/127599/
Perfect :-)
All tests in this flight passed as required
version targeted for testing:
freebsd 209b94df8701cc9b8e7e9185c351b69c99336ca2
baseline version:
freebsd fb9b6e89c258993ee5fbbe0d0fcd444b1b6da413
Last test of basis 127532 2018-09-12 09:19:18 Z 2 days
Testing same since 127599 2018-09-14 09:20:09 Z 0 days 1 attempts
------------------------------------------------------------
People who touched revisions under test:
brd <brd@FreeBSD.org>
emaste <emaste@FreeBSD.org>
gjb <gjb@FreeBSD.org>
gonzo <gonzo@FreeBSD.org>
hselasky <hselasky@FreeBSD.org>
ian <ian@FreeBSD.org>
kevans <kevans@FreeBSD.org>
manu <manu@FreeBSD.org>
mjg <mjg@FreeBSD.org>
mmacy <mmacy@FreeBSD.org>
np <np@FreeBSD.org>
royger <royger@FreeBSD.org>
trasz <trasz@FreeBSD.org>
tuexen <tuexen@FreeBSD.org>
vangyzen <vangyzen@FreeBSD.org>
jobs:
build-amd64-freebsd-again pass
build-amd64-freebsd pass
build-amd64-xen-freebsd pass
------------------------------------------------------------
sg-report-flight on osstest.test-lab.xenproject.org
logs: /home/logs/logs
images: /home/logs/images
Logs, config files, etc. are available at
http://logs.test-lab.xenproject.org/osstest/logs
Explanation of these reports, and of osstest in general, is at
http://xenbits.xen.org/gitweb/?p=osstest.git;a=blob;f=README.email;hb=master
http://xenbits.xen.org/gitweb/?p=osstest.git;a=blob;f=README;hb=master
Test harness code can be found at
http://xenbits.xen.org/gitweb?p=osstest.git;a=summary
Pushing revision :
To xenbits.xen.org:/home/xen/git/freebsd.git
fb9b6e89c25..209b94df870 209b94df8701cc9b8e7e9185c351b69c99336ca2 -> tested/master
_______________________________________________
Xen-devel mailing list
Xen-devel@lists.xenproject.org
https://lists.xenproject.org/mailman/listinfo/xen-devel
reply other threads:[~2018-09-14 18:02 UTC|newest]
Thread overview: [no followups] expand[flat|nested] mbox.gz Atom feed
Reply instructions:
You may reply publicly to this message via plain-text email
using any one of the following methods:
* Save the following mbox file, import it into your mail client,
and reply-to-all from there: mbox
Avoid top-posting and favor interleaved quoting:
https://en.wikipedia.org/wiki/Posting_style#Interleaved_style
* Reply using the --to, --cc, and --in-reply-to
switches of git-send-email(1):
git send-email \
--in-reply-to=osstest-127599-mainreport@xen.org \
--to=osstest-admin@xenproject.org \
--cc=royger@FreeBSD.org \
--cc=xen-devel@lists.xenproject.org \
/path/to/YOUR_REPLY
https://kernel.org/pub/software/scm/git/docs/git-send-email.html
* If your mail client supports setting the In-Reply-To header
via mailto: links, try the mailto: link
Be sure your reply has a Subject: header at the top and a blank line
before the message body.
This is a public inbox, see mirroring instructions
for how to clone and mirror all data and code used for this inbox;
as well as URLs for NNTP newsgroup(s).