xen-devel.lists.xenproject.org archive mirror
 help / color / mirror / Atom feed
* [ovmf test] 127766: all pass - PUSHED
@ 2018-09-19 20:42 osstest service owner
  0 siblings, 0 replies; only message in thread
From: osstest service owner @ 2018-09-19 20:42 UTC (permalink / raw)
  To: xen-devel, osstest-admin

flight 127766 ovmf real [real]
http://logs.test-lab.xenproject.org/osstest/logs/127766/

Perfect :-)
All tests in this flight passed as required
version targeted for testing:
 ovmf                 ae57950fc878618083bca435fa4bc00d4bec97c1
baseline version:
 ovmf                 b06dfd40bb5cf9fdd626a79a300253f193b600ae

Last test of basis   127707  2018-09-17 01:40:56 Z    2 days
Testing same since   127766  2018-09-18 09:26:38 Z    1 days    1 attempts

------------------------------------------------------------
People who touched revisions under test:
  edk2-devel-bounces@lists.01.org <edk2-devel-bounces@lists.01.org>
  Jian J Wang <jian.j.wang@intel.com>
  Jiaxin Wu <Jiaxin.wu@intel.com>
  Wang Fan <fan.wang@intel.com>
  Wu Jiaxin <jiaxin.wu@intel.com>
  Yunhua Feng <yunhuax.feng@intel.com>
  Zhiju.Fan <zhijux.fan@intel.com>
  zhijufan <zhijux.fan@intel.com>

jobs:
 build-amd64-xsm                                              pass    
 build-i386-xsm                                               pass    
 build-amd64                                                  pass    
 build-i386                                                   pass    
 build-amd64-libvirt                                          pass    
 build-i386-libvirt                                           pass    
 build-amd64-pvops                                            pass    
 build-i386-pvops                                             pass    
 test-amd64-amd64-xl-qemuu-ovmf-amd64                         pass    
 test-amd64-i386-xl-qemuu-ovmf-amd64                          pass    


------------------------------------------------------------
sg-report-flight on osstest.test-lab.xenproject.org
logs: /home/logs/logs
images: /home/logs/images

Logs, config files, etc. are available at
    http://logs.test-lab.xenproject.org/osstest/logs

Explanation of these reports, and of osstest in general, is at
    http://xenbits.xen.org/gitweb/?p=osstest.git;a=blob;f=README.email;hb=master
    http://xenbits.xen.org/gitweb/?p=osstest.git;a=blob;f=README;hb=master

Test harness code can be found at
    http://xenbits.xen.org/gitweb?p=osstest.git;a=summary


Pushing revision :

To xenbits.xen.org:/home/xen/git/osstest/ovmf.git
   b06dfd40bb..ae57950fc8  ae57950fc878618083bca435fa4bc00d4bec97c1 -> xen-tested-master

_______________________________________________
Xen-devel mailing list
Xen-devel@lists.xenproject.org
https://lists.xenproject.org/mailman/listinfo/xen-devel

^ permalink raw reply	[flat|nested] only message in thread

only message in thread, other threads:[~2018-09-19 20:42 UTC | newest]

Thread overview: (only message) (download: mbox.gz follow: Atom feed
-- links below jump to the message on this page --
2018-09-19 20:42 [ovmf test] 127766: all pass - PUSHED osstest service owner

This is a public inbox, see mirroring instructions
for how to clone and mirror all data and code used for this inbox;
as well as URLs for NNTP newsgroup(s).