xen-devel.lists.xenproject.org archive mirror
 help / color / mirror / Atom feed
* [xen-unstable-coverity test] 127803: all pass - PUSHED
@ 2018-09-19  9:53 osstest service owner
  0 siblings, 0 replies; only message in thread
From: osstest service owner @ 2018-09-19  9:53 UTC (permalink / raw)
  To: xen-devel, osstest-admin

flight 127803 xen-unstable-coverity real [real]
http://logs.test-lab.xenproject.org/osstest/logs/127803/

Perfect :-)
All tests in this flight passed as required
version targeted for testing:
 xen                  6e395f477fb854f11de83a951a070d3aacb6dc59
baseline version:
 xen                  558408cab99f7d422ab80ed6bf85c67bf13c5ef8

Last test of basis   127682  2018-09-16 09:20:40 Z    3 days
Testing same since   127803  2018-09-19 09:19:12 Z    0 days    1 attempts

------------------------------------------------------------
People who touched revisions under test:
  Andrew Cooper <andrew.cooper3@citrix.com>
  Dario Faggioli <dfaggioli@suse.com>
  Doug Goldstein <cardoe@cardoe.com>
  Jan Beulich <jbeulich@suse.com>
  Julien Grall <julien.grall@arm.com>
  Wei Liu <wei.liu2@citrix.com>

jobs:
 coverity-amd64                                               pass    


------------------------------------------------------------
sg-report-flight on osstest.test-lab.xenproject.org
logs: /home/logs/logs
images: /home/logs/images

Logs, config files, etc. are available at
    http://logs.test-lab.xenproject.org/osstest/logs

Explanation of these reports, and of osstest in general, is at
    http://xenbits.xen.org/gitweb/?p=osstest.git;a=blob;f=README.email;hb=master
    http://xenbits.xen.org/gitweb/?p=osstest.git;a=blob;f=README;hb=master

Test harness code can be found at
    http://xenbits.xen.org/gitweb?p=osstest.git;a=summary


Pushing revision :

To xenbits.xen.org:/home/xen/git/xen.git
   558408cab9..6e395f477f  6e395f477fb854f11de83a951a070d3aacb6dc59 -> coverity-tested/smoke

_______________________________________________
Xen-devel mailing list
Xen-devel@lists.xenproject.org
https://lists.xenproject.org/mailman/listinfo/xen-devel

^ permalink raw reply	[flat|nested] only message in thread

only message in thread, other threads:[~2018-09-19  9:53 UTC | newest]

Thread overview: (only message) (download: mbox.gz follow: Atom feed
-- links below jump to the message on this page --
2018-09-19  9:53 [xen-unstable-coverity test] 127803: all pass - PUSHED osstest service owner

This is a public inbox, see mirroring instructions
for how to clone and mirror all data and code used for this inbox;
as well as URLs for NNTP newsgroup(s).