xen-devel.lists.xenproject.org archive mirror
 help / color / mirror / Atom feed
* [freebsd-master test] 129229: all pass - PUSHED
@ 2018-10-31 16:25 osstest service owner
  0 siblings, 0 replies; only message in thread
From: osstest service owner @ 2018-10-31 16:25 UTC (permalink / raw)
  To: xen-devel, osstest-admin, royger

flight 129229 freebsd-master real [real]
http://logs.test-lab.xenproject.org/osstest/logs/129229/

Perfect :-)
All tests in this flight passed as required
version targeted for testing:
 freebsd              2f480ce108ecce5a6d0e78d011781a5e33bd4c67
baseline version:
 freebsd              c0b412ce93b9d3ee750e5f262b50e64c52d300cc

Last test of basis   128497  2018-10-08 09:19:52 Z   23 days
Failing since        128582  2018-10-10 09:19:25 Z   21 days   10 attempts
Testing same since   129229  2018-10-31 09:19:07 Z    0 days    1 attempts

------------------------------------------------------------
People who touched revisions under test:
  0mp <0mp@FreeBSD.org>
  ae <ae@FreeBSD.org>
  alc <alc@FreeBSD.org>
  allanjude <allanjude@FreeBSD.org>
  andrew <andrew@FreeBSD.org>
  araujo <araujo@FreeBSD.org>
  arichardson <arichardson@FreeBSD.org>
  avg <avg@FreeBSD.org>
  bapt <bapt@FreeBSD.org>
  bcr <bcr@FreeBSD.org>
  bcran <bcran@FreeBSD.org>
  br <br@FreeBSD.org>
  brooks <brooks@FreeBSD.org>
  bwidawsk <bwidawsk@FreeBSD.org>
  bz <bz@FreeBSD.org>
  Cassiano Peixoto and others
  cem <cem@FreeBSD.org>
  cy <cy@FreeBSD.org>
  davidcs <davidcs@FreeBSD.org>
  delphij <delphij@FreeBSD.org>
  des <des@FreeBSD.org>
  dteske <dteske@FreeBSD.org>
  eadler <eadler@FreeBSD.org>
  egypcio <egypcio@FreeBSD.org>
  emaste <emaste@FreeBSD.org>
  erj <erj@FreeBSD.org>
  eugen <eugen@FreeBSD.org>
  Fyodor Ustinov <ufm@ufm.su>
  gjb <gjb@FreeBSD.org>
  glebius <glebius@FreeBSD.org>
  gonzo <gonzo@FreeBSD.org>
  hselasky <hselasky@FreeBSD.org>
  imp <imp@FreeBSD.org>
  jamie <jamie@FreeBSD.org>
  jchandra <jchandra@FreeBSD.org>
  jhb <jhb@FreeBSD.org>
  jhibbits <jhibbits@FreeBSD.org>
  jilles <jilles@FreeBSD.org>
  jkim <jkim@FreeBSD.org>
  jtl <jtl@FreeBSD.org>
  kevans <kevans@FreeBSD.org>
  kib <kib@FreeBSD.org>
  kp <kp@FreeBSD.org>
  luporl <luporl@FreeBSD.org>
  markj <markj@FreeBSD.org>
  mav <mav@FreeBSD.org>
  mckusick <mckusick@FreeBSD.org>
  mjg <mjg@FreeBSD.org>
  mm <mm@FreeBSD.org>
  mw <mw@FreeBSD.org>
  np <np@FreeBSD.org>
  nwhitehorn <nwhitehorn@FreeBSD.org>
  oshogbo <oshogbo@FreeBSD.org>
  peter <peter@FreeBSD.org>
  philip <philip@FreeBSD.org>
  phk <phk@FreeBSD.org>
  rgrimes <rgrimes@FreeBSD.org>
  rigoletto <rigoletto@FreeBSD.org>
  rmacklem <rmacklem@FreeBSD.org>
  shurd <shurd@FreeBSD.org>
  skozlov <skozlov@FreeBSD.org>
  slavash <slavash@FreeBSD.org>
  takawata <takawata@FreeBSD.org>
  tijl <tijl@FreeBSD.org>
  tmunro <tmunro@FreeBSD.org>
  tobik <tobik@FreeBSD.org>
  trasz <trasz@FreeBSD.org>
  tsoome <tsoome@FreeBSD.org>
  tuexen <tuexen@FreeBSD.org>
  vangyzen <vangyzen@FreeBSD.org>
  vmaffione <vmaffione@FreeBSD.org>
  whu <whu@FreeBSD.org>
  wulf <wulf@FreeBSD.org>
  yuripv <yuripv@FreeBSD.org>

jobs:
 build-amd64-freebsd-again                                    pass    
 build-amd64-freebsd                                          pass    
 build-amd64-xen-freebsd                                      pass    


------------------------------------------------------------
sg-report-flight on osstest.test-lab.xenproject.org
logs: /home/logs/logs
images: /home/logs/images

Logs, config files, etc. are available at
    http://logs.test-lab.xenproject.org/osstest/logs

Explanation of these reports, and of osstest in general, is at
    http://xenbits.xen.org/gitweb/?p=osstest.git;a=blob;f=README.email;hb=master
    http://xenbits.xen.org/gitweb/?p=osstest.git;a=blob;f=README;hb=master

Test harness code can be found at
    http://xenbits.xen.org/gitweb?p=osstest.git;a=summary


Pushing revision :

To xenbits.xen.org:/home/xen/git/freebsd.git
   c0b412ce93b..2f480ce108e  2f480ce108ecce5a6d0e78d011781a5e33bd4c67 -> tested/master

_______________________________________________
Xen-devel mailing list
Xen-devel@lists.xenproject.org
https://lists.xenproject.org/mailman/listinfo/xen-devel

^ permalink raw reply	[flat|nested] only message in thread

only message in thread, other threads:[~2018-10-31 16:25 UTC | newest]

Thread overview: (only message) (download: mbox.gz follow: Atom feed
-- links below jump to the message on this page --
2018-10-31 16:25 [freebsd-master test] 129229: all pass - PUSHED osstest service owner

This is a public inbox, see mirroring instructions
for how to clone and mirror all data and code used for this inbox;
as well as URLs for NNTP newsgroup(s).