xen-devel.lists.xenproject.org archive mirror
 help / color / mirror / Atom feed
* [ovmf test] 129238: all pass - PUSHED
@ 2018-10-31 16:29 osstest service owner
  0 siblings, 0 replies; only message in thread
From: osstest service owner @ 2018-10-31 16:29 UTC (permalink / raw)
  To: xen-devel, osstest-admin

flight 129238 ovmf real [real]
http://logs.test-lab.xenproject.org/osstest/logs/129238/

Perfect :-)
All tests in this flight passed as required
version targeted for testing:
 ovmf                 e23366d3c3eafae69cf0436f4212ed126a7534f1
baseline version:
 ovmf                 269f3b51803685eb3f4f4cd4415dc833d375efba

Last test of basis   129218  2018-10-31 04:45:33 Z    0 days
Testing same since   129238  2018-10-31 14:11:35 Z    0 days    1 attempts

------------------------------------------------------------
People who touched revisions under test:
  Liming Gao <liming.gao@intel.com>

jobs:
 build-amd64-xsm                                              pass    
 build-i386-xsm                                               pass    
 build-amd64                                                  pass    
 build-i386                                                   pass    
 build-amd64-libvirt                                          pass    
 build-i386-libvirt                                           pass    
 build-amd64-pvops                                            pass    
 build-i386-pvops                                             pass    
 test-amd64-amd64-xl-qemuu-ovmf-amd64                         pass    
 test-amd64-i386-xl-qemuu-ovmf-amd64                          pass    


------------------------------------------------------------
sg-report-flight on osstest.test-lab.xenproject.org
logs: /home/logs/logs
images: /home/logs/images

Logs, config files, etc. are available at
    http://logs.test-lab.xenproject.org/osstest/logs

Explanation of these reports, and of osstest in general, is at
    http://xenbits.xen.org/gitweb/?p=osstest.git;a=blob;f=README.email;hb=master
    http://xenbits.xen.org/gitweb/?p=osstest.git;a=blob;f=README;hb=master

Test harness code can be found at
    http://xenbits.xen.org/gitweb?p=osstest.git;a=summary


Pushing revision :

To xenbits.xen.org:/home/xen/git/osstest/ovmf.git
   269f3b5180..e23366d3c3  e23366d3c3eafae69cf0436f4212ed126a7534f1 -> xen-tested-master

_______________________________________________
Xen-devel mailing list
Xen-devel@lists.xenproject.org
https://lists.xenproject.org/mailman/listinfo/xen-devel

^ permalink raw reply	[flat|nested] only message in thread

only message in thread, other threads:[~2018-10-31 16:29 UTC | newest]

Thread overview: (only message) (download: mbox.gz follow: Atom feed
-- links below jump to the message on this page --
2018-10-31 16:29 [ovmf test] 129238: all pass - PUSHED osstest service owner

This is a public inbox, see mirroring instructions
for how to clone and mirror all data and code used for this inbox;
as well as URLs for NNTP newsgroup(s).