xen-devel.lists.xenproject.org archive mirror
 help / color / mirror / Atom feed
* [xtf test] 129339: all pass - PUSHED
@ 2018-11-02 20:34 osstest service owner
  0 siblings, 0 replies; only message in thread
From: osstest service owner @ 2018-11-02 20:34 UTC (permalink / raw)
  To: xen-devel, osstest-admin

flight 129339 xtf real [real]
http://logs.test-lab.xenproject.org/osstest/logs/129339/

Perfect :-)
All tests in this flight passed as required
version targeted for testing:
 xtf                  c4e81dd692465c728c55a8586e388e241555ff27
baseline version:
 xtf                  5870a695a03af605b5bde54934ad465cb030440f

Last test of basis   128838  2018-10-16 13:10:57 Z   17 days
Testing same since   129339  2018-11-02 19:41:02 Z    0 days    1 attempts

------------------------------------------------------------
People who touched revisions under test:
  Andrew Cooper <andrew.cooper3@citrix.com>

jobs:
 build-amd64-xtf                                              pass    
 build-amd64                                                  pass    
 build-amd64-pvops                                            pass    
 test-xtf-amd64-amd64-1                                       pass    
 test-xtf-amd64-amd64-2                                       pass    
 test-xtf-amd64-amd64-3                                       pass    
 test-xtf-amd64-amd64-4                                       pass    
 test-xtf-amd64-amd64-5                                       pass    


------------------------------------------------------------
sg-report-flight on osstest.test-lab.xenproject.org
logs: /home/logs/logs
images: /home/logs/images

Logs, config files, etc. are available at
    http://logs.test-lab.xenproject.org/osstest/logs

Explanation of these reports, and of osstest in general, is at
    http://xenbits.xen.org/gitweb/?p=osstest.git;a=blob;f=README.email;hb=master
    http://xenbits.xen.org/gitweb/?p=osstest.git;a=blob;f=README;hb=master

Test harness code can be found at
    http://xenbits.xen.org/gitweb?p=osstest.git;a=summary


Pushing revision :

To xenbits.xen.org:/home/xen/git/xtf.git
   5870a69..c4e81dd  c4e81dd692465c728c55a8586e388e241555ff27 -> xen-tested-master

_______________________________________________
Xen-devel mailing list
Xen-devel@lists.xenproject.org
https://lists.xenproject.org/mailman/listinfo/xen-devel

^ permalink raw reply	[flat|nested] only message in thread

only message in thread, other threads:[~2018-11-02 20:34 UTC | newest]

Thread overview: (only message) (download: mbox.gz follow: Atom feed
-- links below jump to the message on this page --
2018-11-02 20:34 [xtf test] 129339: all pass - PUSHED osstest service owner

This is a public inbox, see mirroring instructions
for how to clone and mirror all data and code used for this inbox;
as well as URLs for NNTP newsgroup(s).